BEGIN:VCALENDAR
VERSION:2.0
PRODID:-//Hiking with Dean - ECPv6.15.20//NONSGML v1.0//EN
CALSCALE:GREGORIAN
METHOD:PUBLISH
X-WR-CALNAME:Hiking with Dean
X-ORIGINAL-URL:https://www.hikingwithdean.com
X-WR-CALDESC:Events for Hiking with Dean
REFRESH-INTERVAL;VALUE=DURATION:PT1H
X-Robots-Tag:noindex
X-PUBLISHED-TTL:PT1H
BEGIN:VTIMEZONE
TZID:America/Los_Angeles
BEGIN:DAYLIGHT
TZOFFSETFROM:-0800
TZOFFSETTO:-0700
TZNAME:PDT
DTSTART:20200308T100000
END:DAYLIGHT
BEGIN:STANDARD
TZOFFSETFROM:-0700
TZOFFSETTO:-0800
TZNAME:PST
DTSTART:20201101T090000
END:STANDARD
BEGIN:DAYLIGHT
TZOFFSETFROM:-0800
TZOFFSETTO:-0700
TZNAME:PDT
DTSTART:20210314T100000
END:DAYLIGHT
BEGIN:STANDARD
TZOFFSETFROM:-0700
TZOFFSETTO:-0800
TZNAME:PST
DTSTART:20211107T090000
END:STANDARD
BEGIN:DAYLIGHT
TZOFFSETFROM:-0800
TZOFFSETTO:-0700
TZNAME:PDT
DTSTART:20220313T100000
END:DAYLIGHT
BEGIN:STANDARD
TZOFFSETFROM:-0700
TZOFFSETTO:-0800
TZNAME:PST
DTSTART:20221106T090000
END:STANDARD
END:VTIMEZONE
BEGIN:VEVENT
DTSTART;TZID=America/Los_Angeles:20210911T070000
DTEND;TZID=America/Los_Angeles:20210911T100000
DTSTAMP:20260419T081735
CREATED:20210910T213421Z
LAST-MODIFIED:20210910T213421Z
UID:10000714-1631343600-1631354400@www.hikingwithdean.com
SUMMARY:Long Canyon Trail Loop
DESCRIPTION:Long Canyon Loop is approximately 6.4 miles and is a moderately trafficked loop trail located near Simi Valley in the Lang Ridge Open Space area. \nDisclaimer: This is a well known trail to some\, but it will be my first time hiking this trail from this trailhead so I will be consulting my map often. \nDirections: At the corner of Long Canyon Road and S. Wood Ranch Parkway. From Highway 118\, take the First St. exit and go south for 4.5 miles. Along the way\, First St. becomes Long Canyon Road. Follow it to the junction with S. Wood Ranch and continue onto Bannister Way. Turn left into the parking lot. From Highway 23\, take the Olsen Road exit and go northeast for 1.9 miles to Wood Ranch Parkway. (Olsen becomes Madera Road en route). Turn right on Wood Ranch and go 1.9 miles to the junction with Long Canyon Road. Turn right onto Bannister and left into the parking lot. \nDistance: 6.4 milesElevation gain: 1\,400 feet \nWe should be finished in 2 1/2 to 3 hours. \n***If you sign up for any of my hikes\, please be sure you have recognizable profile photo. Thank you.
URL:https://www.hikingwithdean.com/event/long-canyon-trail-loop/
LOCATION:Wood Ranch Trailhead\, Long Canyon Rd\, Simi Valley\, CA\, 93065\, US
CATEGORIES:Valencia Hiking Crew
ATTACH;FMTTYPE=image/jpeg:https://hwdmedia.s3.us-west-1.amazonaws.com/wp-content/uploads/2020/07/03121630/2_image.jpg
GEO:34.2346103;-118.7908437
X-APPLE-STRUCTURED-LOCATION;VALUE=URI;X-ADDRESS=Wood Ranch Trailhead Long Canyon Rd Simi Valley CA 93065 US;X-APPLE-RADIUS=500;X-TITLE=Long Canyon Rd:geo:-118.7908437,34.2346103
END:VEVENT
END:VCALENDAR