BEGIN:VCALENDAR
VERSION:2.0
PRODID:-//Hiking with Dean - ECPv6.15.20//NONSGML v1.0//EN
CALSCALE:GREGORIAN
METHOD:PUBLISH
X-WR-CALNAME:Hiking with Dean
X-ORIGINAL-URL:https://www.hikingwithdean.com
X-WR-CALDESC:Events for Hiking with Dean
REFRESH-INTERVAL;VALUE=DURATION:PT1H
X-Robots-Tag:noindex
X-PUBLISHED-TTL:PT1H
BEGIN:VTIMEZONE
TZID:America/Los_Angeles
BEGIN:DAYLIGHT
TZOFFSETFROM:-0800
TZOFFSETTO:-0700
TZNAME:PDT
DTSTART:20210314T100000
END:DAYLIGHT
BEGIN:STANDARD
TZOFFSETFROM:-0700
TZOFFSETTO:-0800
TZNAME:PST
DTSTART:20211107T090000
END:STANDARD
BEGIN:DAYLIGHT
TZOFFSETFROM:-0800
TZOFFSETTO:-0700
TZNAME:PDT
DTSTART:20220313T100000
END:DAYLIGHT
BEGIN:STANDARD
TZOFFSETFROM:-0700
TZOFFSETTO:-0800
TZNAME:PST
DTSTART:20221106T090000
END:STANDARD
BEGIN:DAYLIGHT
TZOFFSETFROM:-0800
TZOFFSETTO:-0700
TZNAME:PDT
DTSTART:20230312T100000
END:DAYLIGHT
BEGIN:STANDARD
TZOFFSETFROM:-0700
TZOFFSETTO:-0800
TZNAME:PST
DTSTART:20231105T090000
END:STANDARD
BEGIN:DAYLIGHT
TZOFFSETFROM:-0800
TZOFFSETTO:-0700
TZNAME:PDT
DTSTART:20240310T100000
END:DAYLIGHT
BEGIN:STANDARD
TZOFFSETFROM:-0700
TZOFFSETTO:-0800
TZNAME:PST
DTSTART:20241103T090000
END:STANDARD
BEGIN:DAYLIGHT
TZOFFSETFROM:-0800
TZOFFSETTO:-0700
TZNAME:PDT
DTSTART:20250309T100000
END:DAYLIGHT
BEGIN:STANDARD
TZOFFSETFROM:-0700
TZOFFSETTO:-0800
TZNAME:PST
DTSTART:20251102T090000
END:STANDARD
END:VTIMEZONE
BEGIN:VEVENT
DTSTART;TZID=America/Los_Angeles:20240901T073000
DTEND;TZID=America/Los_Angeles:20240901T094500
DTSTAMP:20260420T182917
CREATED:20240826T175223Z
LAST-MODIFIED:20240826T175223Z
UID:10002844-1725175800-1725183900@www.hikingwithdean.com
SUMMARY:Hike at Whiting Ranch Wilderness Park - Borrego Trail & Red Rock Canyon
DESCRIPTION:The total mileage for this hike is 4.5 miles with about 460 ft. of elevation gain. \nWe will start at the trail head of the Borrego Trail\, which is right off of the parking lot. This is where we will meet. We will head up the Borrego Trail until we get to the Red Rock Trail. We take this into the canyon. Same way back. \nHere is a link to the park map: http://ocparks.com/civicax/filebank/blobdload.aspx?BlobID=15841 \nThe trail head we will be going on is off of the parking lot on Portola in between Alton Pkwy. and Bake Pkwy. Let’s meet right at the trail head by the sign. \nThe address is: 26701 Portola Parkway\, Foothill Ranch\, CA 92610 \nIf you have any questions\, let me know! I’m looking forward to the hike! \nDogs are not allowed at this park. \nThere is parking near the trailhead. Parking is $3\, unless you have an OC Parks Annual Permit. If you hike a lot\, it’s totally worth it: http://ocparks.com/about/fees/pass
URL:https://www.hikingwithdean.com/event/hike-at-whiting-ranch-wilderness-park-borrego-trail-red-rock-canyon-3/
LOCATION:Whiting Ranch Wilderness Park\, 26701 Portola Parkway\, Foothill Ranch\, CA\, US
CATEGORIES:Trail Mix
ATTACH;FMTTYPE=image/webp:https://hwdmedia.s3.us-west-1.amazonaws.com/wp-content/uploads/2024/08/26105224/115141_image_676x380.webp
ORGANIZER;CN="Trail Mix":MAILTO:Trail-Mix-185605806jlJwVcQL-list@meetup.com
GEO:33.681063;-117.664394
X-APPLE-STRUCTURED-LOCATION;VALUE=URI;X-ADDRESS=Whiting Ranch Wilderness Park 26701 Portola Parkway Foothill Ranch CA US;X-APPLE-RADIUS=500;X-TITLE=26701 Portola Parkway:geo:-117.664394,33.681063
END:VEVENT
BEGIN:VEVENT
DTSTART;TZID=America/Los_Angeles:20240102T080000
DTEND;TZID=America/Los_Angeles:20240102T103000
DTSTAMP:20260420T182917
CREATED:20231231T175222Z
LAST-MODIFIED:20231231T175222Z
UID:10002221-1704182400-1704191400@www.hikingwithdean.com
SUMMARY:Hike at Whiting Ranch Wilderness Park - Borrego Trail & Billy Goat Trail
DESCRIPTION:The total mileage for this hike is 5 miles with about 800 ft. of elevation gain. \nWe will start at the trail head of the Borrego Trail\, which is right off of the parking lot. This is where we will meet. We will head up the Borrego Trail until we get to Mustard Road. Here we will turn right. Then we will get onto the Billy Goat Trail. Once that ends\, we will turn right to go on Whiting Spur Road. When we get down to Four Corners\, we will head back on Mustard Road to Borrego Canyon. From Borrego Trail\, we will take this back to the parking lot. \nThis is a moderate hike in general\, but the Billy Goat Trail does pose some difficulty due to it being a bit more narrow and rocky. \nHere is a link to the park map: http://ocparks.com/civicax/filebank/blobdload.aspx?BlobID=15841 \nThe trail head we will be going on is off of the parking lot on Portola in between Alton Pkwy. and Bake Pkwy. Let’s meet right at the trail head by the sign. \nThe address is: 26701 Portola Parkway\, Foothill Ranch\, CA 92610 \nIf you have any questions\, let me know! I’m looking forward to the hike! \nDogs are not allowed at this park. \nThere is parking near the trailhead. Parking is $3\, unless you have an OC Parks Annual Permit. If you hike a lot\, it’s totally worth it: http://ocparks.com/about/fees/pass
URL:https://www.hikingwithdean.com/event/hike-at-whiting-ranch-wilderness-park-borrego-trail-billy-goat-trail-7/
LOCATION:Whiting Ranch Wilderness Park\, 26701 Portola Parkway\, Foothill Ranch\, CA\, US
CATEGORIES:Trail Mix
ATTACH;FMTTYPE=image/webp:https://hwdmedia.s3.us-west-1.amazonaws.com/wp-content/uploads/2022/09/03112411/105183_image_676x380.webp
ORGANIZER;CN="Trail Mix":MAILTO:Trail-Mix-185605806jlJwVcQL-list@meetup.com
GEO:33.681063;-117.664394
X-APPLE-STRUCTURED-LOCATION;VALUE=URI;X-ADDRESS=Whiting Ranch Wilderness Park 26701 Portola Parkway Foothill Ranch CA US;X-APPLE-RADIUS=500;X-TITLE=26701 Portola Parkway:geo:-117.664394,33.681063
END:VEVENT
BEGIN:VEVENT
DTSTART;TZID=America/Los_Angeles:20231230T080000
DTEND;TZID=America/Los_Angeles:20231230T103000
DTSTAMP:20260420T182917
CREATED:20231226T175221Z
LAST-MODIFIED:20231226T175221Z
UID:10002207-1703923200-1703932200@www.hikingwithdean.com
SUMMARY:Hike at Whiting Ranch Wilderness Park - Borrego Trail & Billy Goat Trail
DESCRIPTION:The total mileage for this hike is 5 miles with about 800 ft. of elevation gain. \nWe will start at the trail head of the Borrego Trail\, which is right off of the parking lot. This is where we will meet. We will head up the Borrego Trail until we get to Mustard Road. Here we will turn right. Then we will get onto the Billy Goat Trail. Once that ends\, we will turn right to go on Whiting Spur Road. When we get down to Four Corners\, we will head back on Mustard Road to Borrego Canyon. From Borrego Trail\, we will take this back to the parking lot. \nThis is a moderate hike in general\, but the Billy Goat Trail does pose some difficulty due to it being a bit more narrow and rocky. \nHere is a link to the park map: http://ocparks.com/civicax/filebank/blobdload.aspx?BlobID=15841 \nThe trail head we will be going on is off of the parking lot on Portola in between Alton Pkwy. and Bake Pkwy. Let’s meet right at the trail head by the sign. \nThe address is: 26701 Portola Parkway\, Foothill Ranch\, CA 92610 \nIf you have any questions\, let me know! I’m looking forward to the hike! \nDogs are not allowed at this park. \nThere is parking near the trailhead. Parking is $3\, unless you have an OC Parks Annual Permit. If you hike a lot\, it’s totally worth it: http://ocparks.com/about/fees/pass
URL:https://www.hikingwithdean.com/event/hike-at-whiting-ranch-wilderness-park-borrego-trail-billy-goat-trail-6/
LOCATION:Whiting Ranch Wilderness Park\, 26701 Portola Parkway\, Foothill Ranch\, CA\, US
CATEGORIES:Trail Mix
ATTACH;FMTTYPE=image/webp:https://hwdmedia.s3.us-west-1.amazonaws.com/wp-content/uploads/2022/09/03112411/105183_image_676x380.webp
ORGANIZER;CN="Trail Mix":MAILTO:Trail-Mix-185605806jlJwVcQL-list@meetup.com
GEO:33.681063;-117.664394
X-APPLE-STRUCTURED-LOCATION;VALUE=URI;X-ADDRESS=Whiting Ranch Wilderness Park 26701 Portola Parkway Foothill Ranch CA US;X-APPLE-RADIUS=500;X-TITLE=26701 Portola Parkway:geo:-117.664394,33.681063
END:VEVENT
BEGIN:VEVENT
DTSTART;TZID=America/Los_Angeles:20231128T080000
DTEND;TZID=America/Los_Angeles:20231128T103000
DTSTAMP:20260420T182917
CREATED:20231126T175223Z
LAST-MODIFIED:20231126T175223Z
UID:10002130-1701158400-1701167400@www.hikingwithdean.com
SUMMARY:Hike at Whiting Ranch Wilderness Park - Borrego Trail & Billy Goat Trail
DESCRIPTION:The total mileage for this hike is 5 miles with about 800 ft. of elevation gain. \nWe will start at the trail head of the Borrego Trail\, which is right off of the parking lot. This is where we will meet. We will head up the Borrego Trail until we get to Mustard Road. Here we will turn right. Then we will get onto the Billy Goat Trail. Once that ends\, we will turn right to go on Whiting Spur Road. When we get down to Four Corners\, we will head back on Mustard Road to Borrego Canyon. From Borrego Trail\, we will take this back to the parking lot. \nThis is a moderate hike in general\, but the Billy Goat Trail does pose some difficulty due to it being a bit more narrow and rocky. \nHere is a link to the park map: http://ocparks.com/civicax/filebank/blobdload.aspx?BlobID=15841 \nThe trail head we will be going on is off of the parking lot on Portola in between Alton Pkwy. and Bake Pkwy. Let’s meet right at the trail head by the sign. \nThe address is: 26701 Portola Parkway\, Foothill Ranch\, CA 92610 \nIf you have any questions\, let me know! I’m looking forward to the hike! \nDogs are not allowed at this park. \nThere is parking near the trailhead. Parking is $3\, unless you have an OC Parks Annual Permit. If you hike a lot\, it’s totally worth it: http://ocparks.com/about/fees/pass
URL:https://www.hikingwithdean.com/event/hike-at-whiting-ranch-wilderness-park-borrego-trail-billy-goat-trail-5/
LOCATION:Whiting Ranch Wilderness Park\, 26701 Portola Parkway\, Foothill Ranch\, CA\, US
CATEGORIES:Trail Mix
ATTACH;FMTTYPE=image/webp:https://hwdmedia.s3.us-west-1.amazonaws.com/wp-content/uploads/2022/09/03112411/105183_image_676x380.webp
ORGANIZER;CN="Trail Mix":MAILTO:Trail-Mix-185605806jlJwVcQL-list@meetup.com
GEO:33.681063;-117.664394
X-APPLE-STRUCTURED-LOCATION;VALUE=URI;X-ADDRESS=Whiting Ranch Wilderness Park 26701 Portola Parkway Foothill Ranch CA US;X-APPLE-RADIUS=500;X-TITLE=26701 Portola Parkway:geo:-117.664394,33.681063
END:VEVENT
BEGIN:VEVENT
DTSTART;TZID=America/Los_Angeles:20231102T073000
DTEND;TZID=America/Los_Angeles:20231102T100000
DTSTAMP:20260420T182917
CREATED:20231029T175226Z
LAST-MODIFIED:20231029T175226Z
UID:10002062-1698910200-1698919200@www.hikingwithdean.com
SUMMARY:Hike at Whiting Ranch Wilderness Park - Borrego Trail & Billy Goat Trail
DESCRIPTION:The total mileage for this hike is 5 miles with about 800 ft. of elevation gain. \nWe will start at the trail head of the Borrego Trail\, which is right off of the parking lot. This is where we will meet. We will head up the Borrego Trail until we get to Mustard Road. Here we will turn right. Then we will get onto the Billy Goat Trail. Once that ends\, we will turn right to go on Whiting Spur Road. When we get down to Four Corners\, we will head back on Mustard Road to Borrego Canyon. From Borrego Trail\, we will take this back to the parking lot. \nThis is a moderate hike in general\, but the Billy Goat Trail does pose some difficulty due to it being a bit more narrow and rocky. \nHere is a link to the park map: http://ocparks.com/civicax/filebank/blobdload.aspx?BlobID=15841 \nThe trail head we will be going on is off of the parking lot on Portola in between Alton Pkwy. and Bake Pkwy. Let’s meet right at the trail head by the sign. \nThe address is: 26701 Portola Parkway\, Foothill Ranch\, CA 92610 \nIf you have any questions\, let me know! I’m looking forward to the hike! \nDogs are not allowed at this park. \nThere is parking near the trailhead. Parking is $3\, unless you have an OC Parks Annual Permit. If you hike a lot\, it’s totally worth it: http://ocparks.com/about/fees/pass
URL:https://www.hikingwithdean.com/event/hike-at-whiting-ranch-wilderness-park-borrego-trail-billy-goat-trail-4/
LOCATION:Whiting Ranch Wilderness Park\, 26701 Portola Parkway\, Foothill Ranch\, CA\, US
CATEGORIES:Trail Mix
ATTACH;FMTTYPE=image/webp:https://hwdmedia.s3.us-west-1.amazonaws.com/wp-content/uploads/2022/09/03112411/105183_image_676x380.webp
ORGANIZER;CN="Trail Mix":MAILTO:Trail-Mix-185605806jlJwVcQL-list@meetup.com
GEO:33.681063;-117.664394
X-APPLE-STRUCTURED-LOCATION;VALUE=URI;X-ADDRESS=Whiting Ranch Wilderness Park 26701 Portola Parkway Foothill Ranch CA US;X-APPLE-RADIUS=500;X-TITLE=26701 Portola Parkway:geo:-117.664394,33.681063
END:VEVENT
BEGIN:VEVENT
DTSTART;TZID=America/Los_Angeles:20230909T073000
DTEND;TZID=America/Los_Angeles:20230909T100000
DTSTAMP:20260420T182917
CREATED:20230905T175220Z
LAST-MODIFIED:20230905T175220Z
UID:10001927-1694244600-1694253600@www.hikingwithdean.com
SUMMARY:Hike at Whiting Ranch Wilderness Park - Borrego Trail & Billy Goat Trail
DESCRIPTION:The total mileage for this hike is 5 miles with about 800 ft. of elevation gain. \nWe will start at the trail head of the Borrego Trail\, which is right off of the parking lot. This is where we will meet. We will head up the Borrego Trail until we get to Mustard Road. Here we will turn right. Then we will get onto the Billy Goat Trail. Once that ends\, we will turn right to go on Whiting Spur Road. When we get down to Four Corners\, we will head back on Mustard Road to Borrego Canyon. From Borrego Trail\, we will take this back to the parking lot. \nThis is a moderate hike in general\, but the Billy Goat Trail does pose some difficulty due to it being a bit more narrow and rocky. \nHere is a link to the park map: http://ocparks.com/civicax/filebank/blobdload.aspx?BlobID=15841 \nThe trail head we will be going on is off of the parking lot on Portola in between Alton Pkwy. and Bake Pkwy. Let’s meet right at the trail head by the sign. \nThe address is: 26701 Portola Parkway\, Foothill Ranch\, CA 92610 \nIf you have any questions\, let me know! I’m looking forward to the hike! \nDogs are not allowed at this park. \nThere is parking near the trailhead. Parking is $3\, unless you have an OC Parks Annual Permit. If you hike a lot\, it’s totally worth it: http://ocparks.com/about/fees/pass
URL:https://www.hikingwithdean.com/event/hike-at-whiting-ranch-wilderness-park-borrego-trail-billy-goat-trail-3/
LOCATION:Whiting Ranch Wilderness Park\, 26701 Portola Parkway\, Foothill Ranch\, CA\, US
CATEGORIES:Trail Mix
ATTACH;FMTTYPE=image/webp:https://hwdmedia.s3.us-west-1.amazonaws.com/wp-content/uploads/2022/09/03112411/105183_image_676x380.webp
ORGANIZER;CN="Trail Mix":MAILTO:Trail-Mix-185605806jlJwVcQL-list@meetup.com
GEO:33.681063;-117.664394
X-APPLE-STRUCTURED-LOCATION;VALUE=URI;X-ADDRESS=Whiting Ranch Wilderness Park 26701 Portola Parkway Foothill Ranch CA US;X-APPLE-RADIUS=500;X-TITLE=26701 Portola Parkway:geo:-117.664394,33.681063
END:VEVENT
BEGIN:VEVENT
DTSTART;TZID=America/Los_Angeles:20230801T073000
DTEND;TZID=America/Los_Angeles:20230801T083000
DTSTAMP:20260420T182917
CREATED:20230725T175234Z
LAST-MODIFIED:20230725T175234Z
UID:10001833-1690875000-1690878600@www.hikingwithdean.com
SUMMARY:Hike at Whiting Ranch Wilderness Park - Borrego Trail & Billy Goat Trail
DESCRIPTION:This will be the first day these trails we be reopened after being closed for a month and a half for trail maintenance. Come join us! \nThe total mileage for this hike is 5 miles with about 800 ft. of elevation gain. \nWe will start at the trail head of the Borrego Trail\, which is right off of the parking lot. This is where we will meet. We will head up the Borrego Trail until we get to Mustard Road. Here we will turn right. Then we will get onto the Billy Goat Trail. Once that ends\, we will turn right to go on Whiting Spur Road. When we get down to Four Corners\, we will head back on Mustard Road to Borrego Canyon. From Borrego Trail\, we will take this back to the parking lot. \nThis is a moderate hike in general\, but the Billy Goat Trail does pose some difficulty due to it being a bit more narrow and rocky. \nHere is a link to the park map: http://ocparks.com/civicax/filebank/blobdload.aspx?BlobID=15841 \nThe trail head we will be going on is off of the parking lot on Portola in between Alton Pkwy. and Bake Pkwy. Let’s meet right at the trail head by the sign. \nThe address is: 26701 Portola Parkway\, Foothill Ranch\, CA 92610 \nIf you have any questions\, let me know! I’m looking forward to the hike! \nDogs are not allowed at this park. \nThere is parking near the trailhead. Parking is $3\, unless you have an OC Parks Annual Permit. If you hike a lot\, it’s totally worth it: http://ocparks.com/about/fees/pass
URL:https://www.hikingwithdean.com/event/hike-at-whiting-ranch-wilderness-park-borrego-trail-billy-goat-trail-2/
LOCATION:Whiting Ranch Wilderness Park\, 26701 Portola Parkway\, Foothill Ranch\, CA\, US
CATEGORIES:Trail Mix
ATTACH;FMTTYPE=image/webp:https://hwdmedia.s3.us-west-1.amazonaws.com/wp-content/uploads/2022/09/03112411/105183_image_676x380.webp
ORGANIZER;CN="Trail Mix":MAILTO:Trail-Mix-185605806jlJwVcQL-list@meetup.com
GEO:33.681063;-117.664394
X-APPLE-STRUCTURED-LOCATION;VALUE=URI;X-ADDRESS=Whiting Ranch Wilderness Park 26701 Portola Parkway Foothill Ranch CA US;X-APPLE-RADIUS=500;X-TITLE=26701 Portola Parkway:geo:-117.664394,33.681063
END:VEVENT
BEGIN:VEVENT
DTSTART;TZID=America/Los_Angeles:20230528T080000
DTEND;TZID=America/Los_Angeles:20230528T101500
DTSTAMP:20260420T182917
CREATED:20230517T175245Z
LAST-MODIFIED:20230517T175245Z
UID:10001664-1685260800-1685268900@www.hikingwithdean.com
SUMMARY:Hike at Whiting Ranch Wilderness Park - Borrego Trail & Billy Goat Trail
DESCRIPTION:The total mileage for this hike is 5 miles with about 800 ft. of elevation gain. \nWe will start at the trail head of the Borrego Trail\, which is right off of the parking lot. This is where we will meet. We will head up the Borrego Trail until we get to Mustard Road. Here we will turn right. Then we will get onto the Billy Goat Trail. Once that ends\, we will turn right to go on Whiting Spur Road. When we get down to Four Corners\, we will head back on Mustard Road to Borrego Canyon. From Borrego Trail\, we will take this back to the parking lot. \nThis is a moderate hike in general\, but the Billy Goat Trail does pose some difficulty due to it being a bit more narrow and rocky. \nHere is a link to the park map: http://ocparks.com/civicax/filebank/blobdload.aspx?BlobID=15841 \nThe trail head we will be going on is off of the parking lot on Portola in between Alton Pkwy. and Bake Pkwy. Let’s meet right at the trail head by the sign. \nThe address is: 26701 Portola Parkway\, Foothill Ranch\, CA 92610 \nIf you have any questions\, let me know! I’m looking forward to the hike! \nDogs are not allowed at this park. \nThere is parking near the trailhead. Parking is $3\, unless you have an OC Parks Annual Permit. If you hike a lot\, it’s totally worth it: http://ocparks.com/about/fees/pass
URL:https://www.hikingwithdean.com/event/hike-at-whiting-ranch-wilderness-park-borrego-trail-billy-goat-trail/
LOCATION:Whiting Ranch Wilderness Park\, 26701 Portola Parkway\, Foothill Ranch\, CA\, US
CATEGORIES:Trail Mix
ATTACH;FMTTYPE=image/webp:https://hwdmedia.s3.us-west-1.amazonaws.com/wp-content/uploads/2022/09/03112411/105183_image_676x380.webp
ORGANIZER;CN="Trail Mix":MAILTO:Trail-Mix-185605806jlJwVcQL-list@meetup.com
GEO:33.681063;-117.664394
X-APPLE-STRUCTURED-LOCATION;VALUE=URI;X-ADDRESS=Whiting Ranch Wilderness Park 26701 Portola Parkway Foothill Ranch CA US;X-APPLE-RADIUS=500;X-TITLE=26701 Portola Parkway:geo:-117.664394,33.681063
END:VEVENT
BEGIN:VEVENT
DTSTART;TZID=America/Los_Angeles:20230507T080000
DTEND;TZID=America/Los_Angeles:20230507T101500
DTSTAMP:20260420T182917
CREATED:20230425T175233Z
LAST-MODIFIED:20230425T175233Z
UID:10001606-1683446400-1683454500@www.hikingwithdean.com
SUMMARY:Hike at Whiting Ranch Wilderness Park - Borrego Trail & Red Rock Canyon
DESCRIPTION:The total mileage for this hike is 4.5 miles with about 460 ft. of elevation gain. \nWe will start at the trail head of the Borrego Trail\, which is right off of the parking lot. This is where we will meet. We will head up the Borrego Trail until we get to the Red Rock Trail. We take this into the canyon. Same way back. \nHere is a link to the park map: http://ocparks.com/civicax/filebank/blobdload.aspx?BlobID=15841 \nThe trail head we will be going on is off of the parking lot on Portola in between Alton Pkwy. and Bake Pkwy. Let’s meet right at the trail head by the sign. \nThe address is: 26701 Portola Parkway\, Foothill Ranch\, CA 92610 \nIf you have any questions\, let me know! I’m looking forward to the hike! \nDogs are not allowed at this park. \nThere is parking near the trailhead. Parking is $3\, unless you have an OC Parks Annual Permit. If you hike a lot\, it’s totally worth it: http://ocparks.com/about/fees/pass
URL:https://www.hikingwithdean.com/event/hike-at-whiting-ranch-wilderness-park-borrego-trail-red-rock-canyon-2/
LOCATION:Whiting Ranch Wilderness Park\, 26701 Portola Parkway\, Foothill Ranch\, CA\, US
CATEGORIES:Trail Mix
ATTACH;FMTTYPE=image/webp:https://hwdmedia.s3.us-west-1.amazonaws.com/wp-content/uploads/2022/09/03112411/105183_image_676x380.webp
ORGANIZER;CN="Trail Mix":MAILTO:Trail-Mix-185605806jlJwVcQL-list@meetup.com
GEO:33.681063;-117.664394
X-APPLE-STRUCTURED-LOCATION;VALUE=URI;X-ADDRESS=Whiting Ranch Wilderness Park 26701 Portola Parkway Foothill Ranch CA US;X-APPLE-RADIUS=500;X-TITLE=26701 Portola Parkway:geo:-117.664394,33.681063
END:VEVENT
BEGIN:VEVENT
DTSTART;TZID=America/Los_Angeles:20221126T080000
DTEND;TZID=America/Los_Angeles:20221126T101500
DTSTAMP:20260420T182917
CREATED:20221120T175220Z
LAST-MODIFIED:20221120T175220Z
UID:10001332-1669449600-1669457700@www.hikingwithdean.com
SUMMARY:Hike at Whiting Ranch Wilderness Park - Borrego Trail & Red Rock Canyon
DESCRIPTION:The total mileage for this hike is 4.5 miles with about 460 ft. of elevation gain. \nWe will start at the trail head of the Borrego Trail\, which is right off of the parking lot. This is where we will meet. We will head up the Borrego Trail until we get to the Red Rock Trail. We take this into the canyon. Same way back. \nHere is a link to the park map: http://ocparks.com/civicax/filebank/blobdload.aspx?BlobID=15841 \nThe trail head we will be going on is off of the parking lot on Portola in between Alton Pkwy. and Bake Pkwy. Let’s meet right at the trail head by the sign. \nThe address is: 26701 Portola Parkway\, Foothill Ranch\, CA 92610 \nIf you have any questions\, let me know! I’m looking forward to the hike! \nDogs are not allowed at this park. \nThere is parking near the trailhead. Parking is $3\, unless you have an OC Parks Annual Permit. If you hike a lot\, it’s totally worth it: http://ocparks.com/about/fees/pass
URL:https://www.hikingwithdean.com/event/hike-at-whiting-ranch-wilderness-park-borrego-trail-red-rock-canyon/
LOCATION:Whiting Ranch Wilderness Park\, 26701 Portola Parkway\, Foothill Ranch\, CA\, US
CATEGORIES:Trail Mix
ATTACH;FMTTYPE=image/webp:https://hwdmedia.s3.us-west-1.amazonaws.com/wp-content/uploads/2022/09/03112411/105183_image_676x380.webp
ORGANIZER;CN="Trail Mix":MAILTO:Trail-Mix-185605806jlJwVcQL-list@meetup.com
GEO:33.681063;-117.664394
X-APPLE-STRUCTURED-LOCATION;VALUE=URI;X-ADDRESS=Whiting Ranch Wilderness Park 26701 Portola Parkway Foothill Ranch CA US;X-APPLE-RADIUS=500;X-TITLE=26701 Portola Parkway:geo:-117.664394,33.681063
END:VEVENT
END:VCALENDAR