BEGIN:VCALENDAR
VERSION:2.0
PRODID:-//Hiking with Dean - ECPv6.15.20//NONSGML v1.0//EN
CALSCALE:GREGORIAN
METHOD:PUBLISH
X-WR-CALNAME:Hiking with Dean
X-ORIGINAL-URL:https://www.hikingwithdean.com
X-WR-CALDESC:Events for Hiking with Dean
REFRESH-INTERVAL;VALUE=DURATION:PT1H
X-Robots-Tag:noindex
X-PUBLISHED-TTL:PT1H
BEGIN:VTIMEZONE
TZID:America/Los_Angeles
BEGIN:DAYLIGHT
TZOFFSETFROM:-0800
TZOFFSETTO:-0700
TZNAME:PDT
DTSTART:20230312T100000
END:DAYLIGHT
BEGIN:STANDARD
TZOFFSETFROM:-0700
TZOFFSETTO:-0800
TZNAME:PST
DTSTART:20231105T090000
END:STANDARD
BEGIN:DAYLIGHT
TZOFFSETFROM:-0800
TZOFFSETTO:-0700
TZNAME:PDT
DTSTART:20240310T100000
END:DAYLIGHT
BEGIN:STANDARD
TZOFFSETFROM:-0700
TZOFFSETTO:-0800
TZNAME:PST
DTSTART:20241103T090000
END:STANDARD
BEGIN:DAYLIGHT
TZOFFSETFROM:-0800
TZOFFSETTO:-0700
TZNAME:PDT
DTSTART:20250309T100000
END:DAYLIGHT
BEGIN:STANDARD
TZOFFSETFROM:-0700
TZOFFSETTO:-0800
TZNAME:PST
DTSTART:20251102T090000
END:STANDARD
END:VTIMEZONE
BEGIN:VEVENT
DTSTART;TZID=America/Los_Angeles:20240322T180000
DTEND;TZID=America/Los_Angeles:20240322T200000
DTSTAMP:20260423T110406
CREATED:20240130T225704Z
LAST-MODIFIED:20240130T225704Z
UID:10002301-1711130400-1711137600@www.hikingwithdean.com
SUMMARY:💫Movie night💫 ( of course a hiking movie)
DESCRIPTION:Movie night …. Location will shared later …\nit will be a backyard movie night\n*food \, drinks (we will make arrangements once we get closer to the date)\nPostive vibes only☀️
URL:https://www.hikingwithdean.com/event/%f0%9f%92%abmovie-night%f0%9f%92%ab-of-course-a-hiking-movie/
LOCATION:TBD-\, 100 Somewhere in Bakersfield\, Bakersfield\, CA\, US
CATEGORIES:Southern Sierra Hiking Club
ATTACH;FMTTYPE=image/webp:https://hwdmedia.s3.us-west-1.amazonaws.com/wp-content/uploads/2024/01/30145705/111932_image_676x380.webp
ORGANIZER;CN="Southern Sierra Hiking Club":MAILTO:Kern-Tulare-Hikers-list@meetup.com
GEO:35.3732921;-119.0187125
X-APPLE-STRUCTURED-LOCATION;VALUE=URI;X-ADDRESS=TBD- 100 Somewhere in Bakersfield Bakersfield CA US;X-APPLE-RADIUS=500;X-TITLE=100 Somewhere in Bakersfield:geo:-119.0187125,35.3732921
END:VEVENT
BEGIN:VEVENT
DTSTART;TZID=America/Los_Angeles:20240203T100000
DTEND;TZID=America/Los_Angeles:20240203T120000
DTSTAMP:20260423T110406
CREATED:20240201T171438Z
LAST-MODIFIED:20240201T171438Z
UID:10002303-1706954400-1706961600@www.hikingwithdean.com
SUMMARY:Bike Tour of Topanga State Park
DESCRIPTION:Bike your way to some of the best local hiking destinations by joining my other group. We’ll be touring Topanga State Park this Saturday. Join/RSVP here
URL:https://www.hikingwithdean.com/event/bike-tour-of-topanga-state-park/
LOCATION:TBD-\, 100 Somewhere in Bakersfield\, Bakersfield\, CA\, US
CATEGORIES:Hiking With Dean
ATTACH;FMTTYPE=image/webp:https://hwdmedia.s3.us-west-1.amazonaws.com/wp-content/uploads/2024/02/01091439/111950_image_676x380.webp
GEO:35.3732921;-119.0187125
X-APPLE-STRUCTURED-LOCATION;VALUE=URI;X-ADDRESS=TBD- 100 Somewhere in Bakersfield Bakersfield CA US;X-APPLE-RADIUS=500;X-TITLE=100 Somewhere in Bakersfield:geo:-119.0187125,35.3732921
END:VEVENT
END:VCALENDAR