BEGIN:VCALENDAR
VERSION:2.0
PRODID:-//Hiking with Dean - ECPv6.15.20//NONSGML v1.0//EN
CALSCALE:GREGORIAN
METHOD:PUBLISH
X-ORIGINAL-URL:https://www.hikingwithdean.com
X-WR-CALDESC:Events for Hiking with Dean
REFRESH-INTERVAL;VALUE=DURATION:PT1H
X-Robots-Tag:noindex
X-PUBLISHED-TTL:PT1H
BEGIN:VTIMEZONE
TZID:America/Los_Angeles
BEGIN:DAYLIGHT
TZOFFSETFROM:-0800
TZOFFSETTO:-0700
TZNAME:PDT
DTSTART:20220313T100000
END:DAYLIGHT
BEGIN:STANDARD
TZOFFSETFROM:-0700
TZOFFSETTO:-0800
TZNAME:PST
DTSTART:20221106T090000
END:STANDARD
BEGIN:DAYLIGHT
TZOFFSETFROM:-0800
TZOFFSETTO:-0700
TZNAME:PDT
DTSTART:20230312T100000
END:DAYLIGHT
BEGIN:STANDARD
TZOFFSETFROM:-0700
TZOFFSETTO:-0800
TZNAME:PST
DTSTART:20231105T090000
END:STANDARD
BEGIN:DAYLIGHT
TZOFFSETFROM:-0800
TZOFFSETTO:-0700
TZNAME:PDT
DTSTART:20240310T100000
END:DAYLIGHT
BEGIN:STANDARD
TZOFFSETFROM:-0700
TZOFFSETTO:-0800
TZNAME:PST
DTSTART:20241103T090000
END:STANDARD
END:VTIMEZONE
BEGIN:VEVENT
DTSTART;TZID=America/Los_Angeles:20230726T090000
DTEND;TZID=America/Los_Angeles:20230726T130000
DTSTAMP:20260419T161332
CREATED:20230712T141819Z
LAST-MODIFIED:20230712T141819Z
UID:10001792-1690362000-1690376400@www.hikingwithdean.com
SUMMARY:MOUNTAIN EBIKE RIDE - MENDENHALL\, MCKINLEY and IRON PEAKS
DESCRIPTION:The Calabasas Day Hikers will be hiking up an easy dirt forest service road that skirts the Pinnacles\, Mendenhall\, McKinley and Iron Peaks. Their objective is Mendenhall Peak\, while our ebikers take on the entire road to Iron Peak.\nMake sure you bring along a spare inner tube. \nMEETUP LOCATION AND TIME: 9:00am on Little Tujunga Canyon Road \nPARKING FEE: Adventure Pass required \nROUTE  \nDISTANCE: 24 miles round trip. \nELEVATION GAIN: 3500′ \nTHE PACE: No faster than the slowest biker in the group \nDURATION: 4+ hours including optiional lunch \nLEVEL: Advanced Beginner Ebiker or very strong mountain biker \nTERRAIN: An easy dirt forest service road \nRESTROOMS: None \nDEBRIEFING: THOSE INTERESTED CAN JOIN US FOR LUNCH AT THE \nRanch Side Cafe 11355 Foothill Blvd\, Lake View Terrace\, CA 91342\nMY CELL # IS: 805-358-5972
URL:https://www.hikingwithdean.com/event/mountain-ebike-ride-mendenhall-mckinley-and-iron-peaks/
LOCATION:Tapia Park\, 884 N. Las Virgenes Road\, Calabasas\, CA\, 91302\, US
CATEGORIES:E Biking LA County and Beyond
ATTACH;FMTTYPE=image/webp:https://hwdmedia.s3.us-west-1.amazonaws.com/wp-content/uploads/2023/07/12071820/109389_image_676x380.webp
ORGANIZER;CN="E Biking LA County and Beyond":MAILTO:meetup-group-lraksxhf-list@meetup.com
GEO:34.0835877;-118.704974
X-APPLE-STRUCTURED-LOCATION;VALUE=URI;X-ADDRESS=Tapia Park 884 N. Las Virgenes Road Calabasas CA 91302 US;X-APPLE-RADIUS=500;X-TITLE=884 N. Las Virgenes Road:geo:-118.704974,34.0835877
END:VEVENT
BEGIN:VEVENT
DTSTART;TZID=America/Los_Angeles:20230723T090000
DTEND;TZID=America/Los_Angeles:20230723T130000
DTSTAMP:20260419T161332
CREATED:20230712T141757Z
LAST-MODIFIED:20230717T015347Z
UID:10001788-1690102800-1690117200@www.hikingwithdean.com
SUMMARY:💦Sleeper Canyon to the Rock Pool - Swimming OK
DESCRIPTION:The Rock Pool is one of the most popular landmarks in Malibu Creek State Park. It has been the site of many movies and TV shows including Planet of the Apes\, Swiss Family Robinson series\, Tarzan movies and Dr Quinn Medicine Woman. \n🧺 🤽Bring a sack lunch — we’ll have an extended break by the Pool. In addition to the Rock Pool we’ll also have an opportunity to cool our toes at a Malibu Creek crossing. \nSOME HIGHLIGHTS ALONG THE WAY \nThe Mott Adobe – a vacation home built around 1925 by Los Angeles lawyer and member of Crags Country Club Johnny Mott on Mott Road just off Crags Road. Herbert Hoover once slept there \nThe structure is a Spanish Colonial Revival style adobe block structure with a two-door garage\, featuring local bricks\, wooden doors and beams\, and wrought iron fixtures. Only portions of the building are still standing. \nThe Visitor Center – The center was built in the Colonial Revival architectural style in the 1920s by Willis P. Hunt as a vacation home. Within you will find maps\, books\, souvenirs\, even refreshments for sale and nature exhibits. \nCampgrounds – We will also be traveling by a year-round campground that boasts 63 sites. \n👉This leisurely 7-mile hike with appx 1\,000 ft total ascent is rated MEDIUM. See the Hike Rating Guide \nDirections to Trailhead \nAs of this writing we will park in the Tapia Park day use area. Fee is $12/car. There may be free parking (at your own risk) across the street on the southeast corner of Piuma and Malibu Canyon Rd . If you park in free spot use the the Backbone Trail where it crosses under Malibu Canyon and into Tapia Park – or just cross the road. \nNote: I may change meetup venue….check back often for final selection. Normally I would park at the Backbone Trailhead on Malibu Canyon but we may not be able to cross the creek into Sleeper Canyon\, so we go around the Tapia way. I’ll try to find some time to scout it out before hike.
URL:https://www.hikingwithdean.com/event/%f0%9f%92%a6sleeper-canyon-to-the-rock-pool-swimming-ok/
LOCATION:Tapia Park\, 884 N. Las Virgenes Road\, Calabasas\, CA\, 91302\, US
CATEGORIES:Hiking With Dean
ATTACH;FMTTYPE=image/webp:https://hwdmedia.s3.us-west-1.amazonaws.com/wp-content/uploads/2023/07/12071758/109380_image_676x380.webp
GEO:34.0835877;-118.704974
X-APPLE-STRUCTURED-LOCATION;VALUE=URI;X-ADDRESS=Tapia Park 884 N. Las Virgenes Road Calabasas CA 91302 US;X-APPLE-RADIUS=500;X-TITLE=884 N. Las Virgenes Road:geo:-118.704974,34.0835877
END:VEVENT
BEGIN:VEVENT
DTSTART;TZID=America/Los_Angeles:20230720T090000
DTEND;TZID=America/Los_Angeles:20230720T130000
DTSTAMP:20260419T161332
CREATED:20230712T141816Z
LAST-MODIFIED:20230712T141816Z
UID:10001791-1689843600-1689858000@www.hikingwithdean.com
SUMMARY:EBIKE RIDE PAVED ROADS - CRYSTAL LAKE & HWY 39
DESCRIPTION:I’ve been wanting to travel on the upper end of Hwy 39 for years now\, hoping that it would eventually be reopened. To get to the high country of the San Gabriel Mountains\, I used to head up Hwy 39 out of Azusa to The Angeles Crest Hwy 2 at Islip Saddle. It’s been closed for 40 years now and I guess it’ll never be reopened\, so I will just have to do it on my ebike which will allow me to accomplish what I used to do in my thirties with my car.\nWe’ll meet in Crystal lake and take on Hwy 39 before coming back and checking all the roads in the campgrounds there. \nMake sure you bring along a spare inner tube. \nMEETUP LOCATION AND TIME: 9:00am at the Crystal Lake Cafe \nPARKING FEE: Adventure Pass required \nROUTE: https://www.alltrails.com/explore/map/ebike-paved-crystal-lake-and-hwy-39-to-hwy-2-d35a296 \nDISTANCE: 22 miles. \nELEVATION GAIN: 3700′ – A lot of this elevation gain is in the Crystal Lake area itself and can easily be cut down if it proves to be too much. \nTHE PACE: No faster than the slowest biker in the group \nDURATION: 4+ hours including lunch at the Crystal Lake Cafe \nLEVEL: Advanced Beginner Ebiker or very strong mountain biker \nTERRAIN: Paved roads \nRESTROOMS: At the start\, middle and end of ride \nDEBRIEFING: At the Crystal Lake Cafe \nMY CELL # IS: 805-358-5972
URL:https://www.hikingwithdean.com/event/ebike-ride-paved-roads-crystal-lake-hwy-39/
LOCATION:Tapia Park\, 884 N. Las Virgenes Road\, Calabasas\, CA\, 91302\, US
CATEGORIES:E Biking LA County and Beyond
ATTACH;FMTTYPE=image/webp:https://hwdmedia.s3.us-west-1.amazonaws.com/wp-content/uploads/2023/07/12071817/109387_image_676x380.webp
ORGANIZER;CN="E Biking LA County and Beyond":MAILTO:meetup-group-lraksxhf-list@meetup.com
GEO:34.0835877;-118.704974
X-APPLE-STRUCTURED-LOCATION;VALUE=URI;X-ADDRESS=Tapia Park 884 N. Las Virgenes Road Calabasas CA 91302 US;X-APPLE-RADIUS=500;X-TITLE=884 N. Las Virgenes Road:geo:-118.704974,34.0835877
END:VEVENT
BEGIN:VEVENT
DTSTART;TZID=America/Los_Angeles:20230716T080000
DTEND;TZID=America/Los_Angeles:20230716T130000
DTSTAMP:20260419T161332
CREATED:20230712T141814Z
LAST-MODIFIED:20230712T141814Z
UID:10001790-1689494400-1689512400@www.hikingwithdean.com
SUMMARY:EBIKE RIDE - MONTECITO & SANTA BARBARA BACK ROADS
DESCRIPTION:Here’s an opportunity for us to see the beautiful upper roads of the Montecito area via our ebikes. We’ll follow the baseline roads of the Santa Barbara mountain range which include Las Canoas Road\, El Cielito Road\, West and East Mountain Road\, Park Lane\, Bella Vista drive and possibly Viola Lane. The route is mostly secluded and woodsy with very few stop signs to deal with. \nMake sure you bring along a spare inner tube. \nMEETUP LOCATION AND TIME: 8:00am. \nRESTROOMS: 5 minutes into the ride at Skofield Park \nROUTE This will be our planned route. \nDISTANCE: 25 miles \nELEVATION GAIN: 3300′ \nDURATION: 5 hours including lunch at \nDEBRIEFING: Optional lunch at The Santa Barbara Chicken Ranch\nLocal counter-serve BBQ chain offering mesquite-grilled chicken & tri-tip burritos & plates.\n2618 De La Vina St\, Santa Barbara \nBIKE TRAIL DESCRIPTION: All paved roads \nTHE PACE: 8 MPH on up. \nLEVEL: Easy \nMY CELL # IS 805-358-5972
URL:https://www.hikingwithdean.com/event/ebike-ride-montecito-santa-barbara-back-roads/
LOCATION:Tapia Park\, 884 N. Las Virgenes Road\, Calabasas\, CA\, 91302\, US
CATEGORIES:E Biking LA County and Beyond
ATTACH;FMTTYPE=image/webp:https://hwdmedia.s3.us-west-1.amazonaws.com/wp-content/uploads/2023/07/12071815/109385_image_676x380.webp
ORGANIZER;CN="E Biking LA County and Beyond":MAILTO:meetup-group-lraksxhf-list@meetup.com
GEO:34.0835877;-118.704974
X-APPLE-STRUCTURED-LOCATION;VALUE=URI;X-ADDRESS=Tapia Park 884 N. Las Virgenes Road Calabasas CA 91302 US;X-APPLE-RADIUS=500;X-TITLE=884 N. Las Virgenes Road:geo:-118.704974,34.0835877
END:VEVENT
BEGIN:VEVENT
DTSTART;TZID=America/Los_Angeles:20230714T080000
DTEND;TZID=America/Los_Angeles:20230714T130000
DTSTAMP:20260419T161332
CREATED:20230712T141811Z
LAST-MODIFIED:20230712T141811Z
UID:10001789-1689321600-1689339600@www.hikingwithdean.com
SUMMARY:EBIKE RIDE - MOORPARK AND WEST SIMI VALLEY
DESCRIPTION:This Ebike ride will be on paved roads in the hills of Moorpark and west Simi Valley. We’ll be meeting at the Miller Park Playgrounds in Moorpark.\nMake sure you bring along a spare inner tube. \nMEETUP LOCATION AND TIME: at 8:00am. \nRESTROOMS: At the meetup location and half way through the ride. \nROUTE This will be our planned route. \nDISTANCE: 33 miles \nELEVATION GAIN: 3500′ \nDURATION: 5 hours including lunch at in Moorpark \nDEBRIEFING: Optional lunch at The SZECHUWAN GARDEN – 484 Los Angeles Ave # 124\, Moorpark \nBIKE TRAIL DESCRIPTION: All paved roads most with bike paths \nTHE PACE: 8 MPH on up. \nLEVEL: Intermediate \nMY CELL # IS 805-358-5972
URL:https://www.hikingwithdean.com/event/ebike-ride-moorpark-and-west-simi-valley/
LOCATION:Tapia Park\, 884 N. Las Virgenes Road\, Calabasas\, CA\, 91302\, US
CATEGORIES:E Biking LA County and Beyond
ATTACH;FMTTYPE=image/webp:https://hwdmedia.s3.us-west-1.amazonaws.com/wp-content/uploads/2023/07/12071813/109383_image_676x380.webp
ORGANIZER;CN="E Biking LA County and Beyond":MAILTO:meetup-group-lraksxhf-list@meetup.com
GEO:34.0835877;-118.704974
X-APPLE-STRUCTURED-LOCATION;VALUE=URI;X-ADDRESS=Tapia Park 884 N. Las Virgenes Road Calabasas CA 91302 US;X-APPLE-RADIUS=500;X-TITLE=884 N. Las Virgenes Road:geo:-118.704974,34.0835877
END:VEVENT
END:VCALENDAR