BEGIN:VCALENDAR
VERSION:2.0
PRODID:-//Hiking with Dean - ECPv6.15.20//NONSGML v1.0//EN
CALSCALE:GREGORIAN
METHOD:PUBLISH
X-WR-CALNAME:Hiking with Dean
X-ORIGINAL-URL:https://www.hikingwithdean.com
X-WR-CALDESC:Events for Hiking with Dean
REFRESH-INTERVAL;VALUE=DURATION:PT1H
X-Robots-Tag:noindex
X-PUBLISHED-TTL:PT1H
BEGIN:VTIMEZONE
TZID:America/Los_Angeles
BEGIN:DAYLIGHT
TZOFFSETFROM:-0800
TZOFFSETTO:-0700
TZNAME:PDT
DTSTART:20220313T100000
END:DAYLIGHT
BEGIN:STANDARD
TZOFFSETFROM:-0700
TZOFFSETTO:-0800
TZNAME:PST
DTSTART:20221106T090000
END:STANDARD
BEGIN:DAYLIGHT
TZOFFSETFROM:-0800
TZOFFSETTO:-0700
TZNAME:PDT
DTSTART:20230312T100000
END:DAYLIGHT
BEGIN:STANDARD
TZOFFSETFROM:-0700
TZOFFSETTO:-0800
TZNAME:PST
DTSTART:20231105T090000
END:STANDARD
BEGIN:DAYLIGHT
TZOFFSETFROM:-0800
TZOFFSETTO:-0700
TZNAME:PDT
DTSTART:20240310T100000
END:DAYLIGHT
BEGIN:STANDARD
TZOFFSETFROM:-0700
TZOFFSETTO:-0800
TZNAME:PST
DTSTART:20241103T090000
END:STANDARD
END:VTIMEZONE
BEGIN:VEVENT
DTSTART;TZID=America/Los_Angeles:20230825T070000
DTEND;TZID=America/Los_Angeles:20230827T110000
DTSTAMP:20260419T074705
CREATED:20230508T010733Z
LAST-MODIFIED:20230508T010733Z
UID:10001635-1692946800-1693134000@www.hikingwithdean.com
SUMMARY:CHC Camping Trip Stony Creek Campground\, Sequoia National Forest August 25-27
DESCRIPTION:Sequoia National Forest is a beautiful alpine area with some of the largest trees on earth – the giant sequoias. Our campground is near a beautiful natural granite waterslide with swimming holes. Come prepared to get wet! Campground is about 4.5 hours from Santa Clarita. Road closures may cancel trip. \nAdd your name to the COMMENTS or chat so the coordinator can reach out. You will receive more information after you RSVP\, including maps\, etc. Bonnie T. will be in site 21. \nYou must also reserve your own campsite for Aug 25-27. We are not permitted to reserve for you. Reserve NOW to get a spot! \nSites are available for reservation at: https://www.recreation.gov/camping/campgrounds/232785?tab=info.  \nYou may have 6 people per site\, and the fee is $32 per night. This does not include the park entrance fee of $35 per vehicle. RV spaces are available\, lengths vary by site. \nDirections: From Fresno\, California\, go east on Highway 180 to the Kings Canyon National Park entrance. Take a right at the General’s Highway\, traveling approximately 10 miles south to Stony Creek Campground. After you pass Stony Creek Village (lodge and store)\, look for Stony Creek Campground on the right a couple of miles down the road. NOTE: There is also an Upper Stony Creek Campground on the left side of General’s Highway. We are in Stony Creek\, NOT Upper Stony Creek. \nGoogle Maps link: https://goo.gl/maps/D5si6eSW8kqGofz26 \nNOTE: Road Closures due to this year’s heavy storms are currently affecting Sequoia NF. Please check status before leaving\, as closures may affect this campground. Hopefully the road will be repaired by August. We will provide updates on Meetup.
URL:https://www.hikingwithdean.com/event/chc-camping-trip-stony-creek-campground-sequoia-national-forest-august-25-27/
LOCATION:Stony Creek Campground\, California\, CA\, US
CATEGORIES:Santa Clarita Community Hiking Club
ATTACH;FMTTYPE=image/webp:https://hwdmedia.s3.us-west-1.amazonaws.com/wp-content/uploads/2023/05/07180734/108393_image_676x380.webp
ORGANIZER;CN="Santa Clarita Community Hiking Club":MAILTO:Santa-Clarita-Community-Hiking-Club-Meetup-Group-list@meetup.com
GEO:36.778261;-119.4179324
END:VEVENT
END:VCALENDAR