BEGIN:VCALENDAR
VERSION:2.0
PRODID:-//Hiking with Dean - ECPv6.15.20//NONSGML v1.0//EN
CALSCALE:GREGORIAN
METHOD:PUBLISH
X-WR-CALNAME:Hiking with Dean
X-ORIGINAL-URL:https://www.hikingwithdean.com
X-WR-CALDESC:Events for Hiking with Dean
REFRESH-INTERVAL;VALUE=DURATION:PT1H
X-Robots-Tag:noindex
X-PUBLISHED-TTL:PT1H
BEGIN:VTIMEZONE
TZID:America/Los_Angeles
BEGIN:DAYLIGHT
TZOFFSETFROM:-0800
TZOFFSETTO:-0700
TZNAME:PDT
DTSTART:20220313T100000
END:DAYLIGHT
BEGIN:STANDARD
TZOFFSETFROM:-0700
TZOFFSETTO:-0800
TZNAME:PST
DTSTART:20221106T090000
END:STANDARD
BEGIN:DAYLIGHT
TZOFFSETFROM:-0800
TZOFFSETTO:-0700
TZNAME:PDT
DTSTART:20230312T100000
END:DAYLIGHT
BEGIN:STANDARD
TZOFFSETFROM:-0700
TZOFFSETTO:-0800
TZNAME:PST
DTSTART:20231105T090000
END:STANDARD
BEGIN:DAYLIGHT
TZOFFSETFROM:-0800
TZOFFSETTO:-0700
TZNAME:PDT
DTSTART:20240310T100000
END:DAYLIGHT
BEGIN:STANDARD
TZOFFSETFROM:-0700
TZOFFSETTO:-0800
TZNAME:PST
DTSTART:20241103T090000
END:STANDARD
BEGIN:DAYLIGHT
TZOFFSETFROM:-0800
TZOFFSETTO:-0700
TZNAME:PDT
DTSTART:20250309T100000
END:DAYLIGHT
BEGIN:STANDARD
TZOFFSETFROM:-0700
TZOFFSETTO:-0800
TZNAME:PST
DTSTART:20251102T090000
END:STANDARD
BEGIN:DAYLIGHT
TZOFFSETFROM:-0800
TZOFFSETTO:-0700
TZNAME:PDT
DTSTART:20260308T100000
END:DAYLIGHT
BEGIN:STANDARD
TZOFFSETFROM:-0700
TZOFFSETTO:-0800
TZNAME:PST
DTSTART:20261101T090000
END:STANDARD
BEGIN:DAYLIGHT
TZOFFSETFROM:-0800
TZOFFSETTO:-0700
TZNAME:PDT
DTSTART:20270314T100000
END:DAYLIGHT
BEGIN:STANDARD
TZOFFSETFROM:-0700
TZOFFSETTO:-0800
TZNAME:PST
DTSTART:20271107T090000
END:STANDARD
END:VTIMEZONE
BEGIN:VTIMEZONE
TZID:America/Denver
BEGIN:DAYLIGHT
TZOFFSETFROM:-0700
TZOFFSETTO:-0600
TZNAME:MDT
DTSTART:20240310T090000
END:DAYLIGHT
BEGIN:STANDARD
TZOFFSETFROM:-0600
TZOFFSETTO:-0700
TZNAME:MST
DTSTART:20241103T080000
END:STANDARD
BEGIN:DAYLIGHT
TZOFFSETFROM:-0700
TZOFFSETTO:-0600
TZNAME:MDT
DTSTART:20250309T090000
END:DAYLIGHT
BEGIN:STANDARD
TZOFFSETFROM:-0600
TZOFFSETTO:-0700
TZNAME:MST
DTSTART:20251102T080000
END:STANDARD
BEGIN:DAYLIGHT
TZOFFSETFROM:-0700
TZOFFSETTO:-0600
TZNAME:MDT
DTSTART:20260308T090000
END:DAYLIGHT
BEGIN:STANDARD
TZOFFSETFROM:-0600
TZOFFSETTO:-0700
TZNAME:MST
DTSTART:20261101T080000
END:STANDARD
END:VTIMEZONE
BEGIN:VEVENT
DTSTART;TZID=America/Los_Angeles:20260122T090000
DTEND;TZID=America/Los_Angeles:20260122T110000
DTSTAMP:20260423T111534
CREATED:20260119T032959Z
LAST-MODIFIED:20260119T032959Z
UID:10003794-1769072400-1769079600@www.hikingwithdean.com
SUMMARY:Sulphur Mountain’s Trail near Ojai
DESCRIPTION:We will hike Sulpher Mountain trail on Thursday. This trail is hard to post because after it rains it is too muddy\, then it gets too hot but right now it is PERFECT. Also\, there is a new restaurant owner at the old J&M Cafe and he is really great. The restaurant is in Oak View\, just 5 minutes off the trail up Hwy. 33. It is called Noa’s. This hike goes up the Sulpher Mountain fire road\, through petroleum-scented oak forest\, through the cattle grazing ranch land at the top to the overlook above the town of Oak View. We’ll have spectacular views of the Ojai Valley\, Lake Casitas\, and the mountains to the north and everything is very green. Our gently-sloping route will be approximately 6 miles\, with about 1000’ of elevation. \nParking is limited on Sulphur Mountain Road\, and it’s well outside our typical hiking area\, so carpooling is encouraged! \nLunch afterwards at Noa’s Cafe\, a mile north on 33 in Oak View\, on the right. (formerly J&M Cafe) \nOur usual restrictions apply – no plus-ones; no dogs; only show up if you’re on the “Attending” list.
URL:https://www.hikingwithdean.com/event/sulphur-mountains-trail-near-ojai/
LOCATION:South Sulphur Mountain Trailhead\, 155 Sulphur Mountain Rd\, Ventura\, ca\, 93001\, US
CATEGORIES:Weekday Trailblazers
ATTACH;FMTTYPE=image/jpeg:https://hwdmedia.s3.us-west-1.amazonaws.com/wp-content/uploads/2025/05/13095546/118404_image_highres_517858671.jpeg
ORGANIZER;CN="The Weekday Trailblazers":MAILTO:The-Weekday-Trailblazers-list@meetup.com
GEO:34.3780935;-119.3017307
X-APPLE-STRUCTURED-LOCATION;VALUE=URI;X-ADDRESS=South Sulphur Mountain Trailhead 155 Sulphur Mountain Rd Ventura ca 93001 US;X-APPLE-RADIUS=500;X-TITLE=155 Sulphur Mountain Rd:geo:-119.3017307,34.3780935
END:VEVENT
BEGIN:VEVENT
DTSTART;TZID=America/Denver:20250515T100000
DTEND;TZID=America/Denver:20250515T120000
DTSTAMP:20260423T111534
CREATED:20250513T165544Z
LAST-MODIFIED:20250513T165544Z
UID:10003407-1747303200-1747310400@www.hikingwithdean.com
SUMMARY:Sulphur Mountain’s Majesty
DESCRIPTION:This will probably be the last day we can do this hike until winter because it is getting hotter. There is a new restaurant in Oak View for lunch\, Noa’s. This hike goes up Sulpher Road through petroleum-scented oak forest\, through the cattle grazing ranch land at the top to the overlook above the town of Oak View. We’ll have spectacular views of the Ojai Valley\, Lake Casitas\, and the mountains to the north. Our gently-sloping route will be approximately 6 miles\, with about 500’ of elevation. \nParking is limited on Sulphur Mountain Road\, and it’s well outside our typical hiking area\, so carpooling is encouraged! \nLunch afterwards at Noa’s Cafe\, a mile north on 33\, on the right. (formerly J&M Cafe) \nOur usual restrictions apply – no plus-ones; no dogs; only show up if you’re on the “Attending” list.
URL:https://www.hikingwithdean.com/event/sulphur-mountains-majesty-2/
LOCATION:South Sulphur Mountain Trailhead\, 155 Sulphur Mountain Rd\, Ventura\, ca\, 93001\, US
CATEGORIES:Weekday Trailblazers
ATTACH;FMTTYPE=image/jpeg:https://hwdmedia.s3.us-west-1.amazonaws.com/wp-content/uploads/2025/05/13095546/118404_image_highres_517858671.jpeg
ORGANIZER;CN="The Weekday Trailblazers":MAILTO:The-Weekday-Trailblazers-list@meetup.com
GEO:34.3780935;-119.3017307
X-APPLE-STRUCTURED-LOCATION;VALUE=URI;X-ADDRESS=South Sulphur Mountain Trailhead 155 Sulphur Mountain Rd Ventura ca 93001 US;X-APPLE-RADIUS=500;X-TITLE=155 Sulphur Mountain Rd:geo:-119.3017307,34.3780935
END:VEVENT
BEGIN:VEVENT
DTSTART;TZID=America/Los_Angeles:20250114T090000
DTEND;TZID=America/Los_Angeles:20250114T110000
DTSTAMP:20260423T111534
CREATED:20250113T164553Z
LAST-MODIFIED:20250113T164553Z
UID:10003152-1736845200-1736852400@www.hikingwithdean.com
SUMMARY:Sulphur Mountain’s Majesty
DESCRIPTION:Unaffected by the horrific fires in the Santa Monica Mountains\, the Ojai foothills offer a calm alternative. \nThis route ascends from the Girl Scout camp\, through petroleum-scented oak forest\, through the cattle grazing ranch land at the top to the overlook above the town of Oak View. We’ll have spectacular views of the Ojai Valley\, Lake Casitas\, and the mountains to the north. Our gently-sloping route will be approximately 6 miles\, with about 500’ of elevation. \nParking is limited on Sulphur Mountain Road\, and it’s well outside our typical hiking area\, so carpooling is encouraged! \nLunch afterwards at Om Thai Cafe\, a mile north on 33\, on the right. \nOur usual restrictions apply – no plus-ones; no dogs; only show up if you’re on the “Attending” list.
URL:https://www.hikingwithdean.com/event/sulphur-mountains-majesty/
LOCATION:South Sulphur Mountain Trailhead\, 155 Sulphur Mountain Rd\, Ventura\, ca\, 93001\, US
CATEGORIES:Weekday Trailblazers
ATTACH;FMTTYPE=image/webp:https://hwdmedia.s3.us-west-1.amazonaws.com/wp-content/uploads/2023/12/12084142/111236_image_676x380.webp
ORGANIZER;CN="The Weekday Trailblazers":MAILTO:The-Weekday-Trailblazers-list@meetup.com
GEO:34.3780935;-119.3017307
X-APPLE-STRUCTURED-LOCATION;VALUE=URI;X-ADDRESS=South Sulphur Mountain Trailhead 155 Sulphur Mountain Rd Ventura ca 93001 US;X-APPLE-RADIUS=500;X-TITLE=155 Sulphur Mountain Rd:geo:-119.3017307,34.3780935
END:VEVENT
BEGIN:VEVENT
DTSTART;TZID=America/Los_Angeles:20231214T090000
DTEND;TZID=America/Los_Angeles:20231214T105900
DTSTAMP:20260423T111534
CREATED:20231212T164141Z
LAST-MODIFIED:20231212T164141Z
UID:10002179-1702544400-1702551540@www.hikingwithdean.com
SUMMARY:Sulphur Mountain’s Majesty - a Gentler Hike
DESCRIPTION:Let’s do our Sulphur Mountain hike before winter rains muddy the track.\nThis route ascends from the Girl Scout camp\, through petroleum-scented oak forest\, to cattle grazing ranch land at the top. We’ll have spectacular views of the Ojai Valley\, Lake Casitas\, and the mountains to the north.\nLunch afterwards at Om Thai Cafe\, just north on 33.\nOur gently-sloping route will be just over 5 miles\, with about 500’ of elevation.\nOur usual restrictions apply – no plus-ones; no dogs; only show up if you’re on the “Attending” list.
URL:https://www.hikingwithdean.com/event/sulphur-mountains-majesty-a-gentler-hike/
LOCATION:South Sulphur Mountain Trailhead\, 155 Sulphur Mountain Rd\, Ventura\, ca\, 93001\, US
CATEGORIES:Weekday Trailblazers
ATTACH;FMTTYPE=image/webp:https://hwdmedia.s3.us-west-1.amazonaws.com/wp-content/uploads/2023/12/12084142/111236_image_676x380.webp
ORGANIZER;CN="The Weekday Trailblazers":MAILTO:The-Weekday-Trailblazers-list@meetup.com
GEO:34.3780935;-119.3017307
X-APPLE-STRUCTURED-LOCATION;VALUE=URI;X-ADDRESS=South Sulphur Mountain Trailhead 155 Sulphur Mountain Rd Ventura ca 93001 US;X-APPLE-RADIUS=500;X-TITLE=155 Sulphur Mountain Rd:geo:-119.3017307,34.3780935
END:VEVENT
END:VCALENDAR