BEGIN:VCALENDAR
VERSION:2.0
PRODID:-//Hiking with Dean - ECPv6.15.20//NONSGML v1.0//EN
CALSCALE:GREGORIAN
METHOD:PUBLISH
X-WR-CALNAME:Hiking with Dean
X-ORIGINAL-URL:https://www.hikingwithdean.com
X-WR-CALDESC:Events for Hiking with Dean
REFRESH-INTERVAL;VALUE=DURATION:PT1H
X-Robots-Tag:noindex
X-PUBLISHED-TTL:PT1H
BEGIN:VTIMEZONE
TZID:America/Los_Angeles
BEGIN:DAYLIGHT
TZOFFSETFROM:-0800
TZOFFSETTO:-0700
TZNAME:PDT
DTSTART:20230312T100000
END:DAYLIGHT
BEGIN:STANDARD
TZOFFSETFROM:-0700
TZOFFSETTO:-0800
TZNAME:PST
DTSTART:20231105T090000
END:STANDARD
BEGIN:DAYLIGHT
TZOFFSETFROM:-0800
TZOFFSETTO:-0700
TZNAME:PDT
DTSTART:20240310T100000
END:DAYLIGHT
BEGIN:STANDARD
TZOFFSETFROM:-0700
TZOFFSETTO:-0800
TZNAME:PST
DTSTART:20241103T090000
END:STANDARD
BEGIN:DAYLIGHT
TZOFFSETFROM:-0800
TZOFFSETTO:-0700
TZNAME:PDT
DTSTART:20250309T100000
END:DAYLIGHT
BEGIN:STANDARD
TZOFFSETFROM:-0700
TZOFFSETTO:-0800
TZNAME:PST
DTSTART:20251102T090000
END:STANDARD
END:VTIMEZONE
BEGIN:VEVENT
DTSTART;TZID=America/Los_Angeles:20240309T090000
DTEND;TZID=America/Los_Angeles:20240309T130000
DTSTAMP:20260423T191843
CREATED:20240305T171523Z
LAST-MODIFIED:20240308T175031Z
UID:10002400-1709974800-1709989200@www.hikingwithdean.com
SUMMARY:Olympia Farms to Hidden Pond at Rancho Potrero Open Space
DESCRIPTION:I’ve never seen water at Hidden Pond\, so let’s go check it out. Along the way we will loop around Rancho Potrero Open Space. I believe there is another little pond nearby – we’ll check that out also. \nOn the west end of the space is a property that used to be called Olympia Farms\, which was owned by Greek immigrant\, textile businessman and Arabian horse breeder George Patarias Huck. (Huck was tragically shot and killed in front of his home in Mt. Olympus in August 1984 at age 46.) \nHuck’s 638 acre property was sold to the Mountains Recreation and Conservancy\, City of Thousand Oaks\, Conejo Recreation and Park District and National Park Service for $4.2 million in 1993. 312 acres were carved out as an addition to Rancho Sierra Vista. The remainder is part of Rancho Potrero\, which is maintained by the Conejo Open Space Conservation Agency (COSCA). \nIn the 2021-2022 time frame\, the Olympia Farms space was redeveloped and improved to include\, pedestrian paths\, a horse corral\, drinking fountain for people and animals\, picnic benches and a small amphitheater area. \n👉🏻Hike is about 8 miles with 1600′ total ascent and rated MEDIUM. See the HWD Hike Rating Guide \nDirections:\nThe Rancho Potrero Open Space area is located in Newbury Park off of Lynn Road\, just east of the intersection with Rancho Dos Vientos.
URL:https://www.hikingwithdean.com/event/olympia-farms-to-hidden-pond-at-rancho-potrero-open-space/
LOCATION:Rancho Potrero Open Space\, West Entrance\, Potrero Rd\, Camarillo\, CA\, 93012\, US
CATEGORIES:Hiking With Dean
ATTACH;FMTTYPE=image/webp:https://hwdmedia.s3.us-west-1.amazonaws.com/wp-content/uploads/2024/03/05091526/112476_image_676x380.webp
GEO:34.1590901;-118.999914
X-APPLE-STRUCTURED-LOCATION;VALUE=URI;X-ADDRESS=Rancho Potrero Open Space West Entrance Potrero Rd Camarillo CA 93012 US;X-APPLE-RADIUS=500;X-TITLE=Potrero Rd:geo:-118.999914,34.1590901
END:VEVENT
END:VCALENDAR