BEGIN:VCALENDAR
VERSION:2.0
PRODID:-//Hiking with Dean - ECPv6.15.20//NONSGML v1.0//EN
CALSCALE:GREGORIAN
METHOD:PUBLISH
X-WR-CALNAME:Hiking with Dean
X-ORIGINAL-URL:https://www.hikingwithdean.com
X-WR-CALDESC:Events for Hiking with Dean
REFRESH-INTERVAL;VALUE=DURATION:PT1H
X-Robots-Tag:noindex
X-PUBLISHED-TTL:PT1H
BEGIN:VTIMEZONE
TZID:America/Denver
BEGIN:DAYLIGHT
TZOFFSETFROM:-0700
TZOFFSETTO:-0600
TZNAME:MDT
DTSTART:20240310T090000
END:DAYLIGHT
BEGIN:STANDARD
TZOFFSETFROM:-0600
TZOFFSETTO:-0700
TZNAME:MST
DTSTART:20241103T080000
END:STANDARD
BEGIN:DAYLIGHT
TZOFFSETFROM:-0700
TZOFFSETTO:-0600
TZNAME:MDT
DTSTART:20250309T090000
END:DAYLIGHT
BEGIN:STANDARD
TZOFFSETFROM:-0600
TZOFFSETTO:-0700
TZNAME:MST
DTSTART:20251102T080000
END:STANDARD
BEGIN:DAYLIGHT
TZOFFSETFROM:-0700
TZOFFSETTO:-0600
TZNAME:MDT
DTSTART:20260308T090000
END:DAYLIGHT
BEGIN:STANDARD
TZOFFSETFROM:-0600
TZOFFSETTO:-0700
TZNAME:MST
DTSTART:20261101T080000
END:STANDARD
END:VTIMEZONE
BEGIN:VEVENT
DTSTART;TZID=America/Denver:20250801T080000
DTEND;TZID=America/Denver:20250801T100000
DTSTAMP:20260423T172113
CREATED:20250726T053900Z
LAST-MODIFIED:20250726T053900Z
UID:10003568-1754035200-1754042400@www.hikingwithdean.com
SUMMARY:STREET RIDE - SANTA PAULA TO FILLMORE
DESCRIPTION:ROUTE This will be the planned route.\nThis ride will be on paved roads through citrus groves as we ride from downtown Santa Paula’s old train depot using backroads to Fillmore’s old train depot. While in Fillmore we’ll check out the Fillmore Historic Museum as well as their bike paths and back roads. Following the ride\, you can join me for lunch at Hozy’s Grill in Santa Paula. \nMake sure you bring along a spare inner tube or slime. \nMEETUP LOCATION AND TIME: The Railroad Plaza Park in Santa Paula at 8:00am. \nRESTROOMS: At the beginning\, end and middle of ride. \nDISTANCE: 39 miles round trip \nELEVATION GAIN: 1500′ \nDURATION: 4+ hours \nBIKE TRAIL DESCRIPTION: Paved roads \nTHE PACE: 8 – 20 MPH. \nLEVEL: Intermediate \nDEBRIEFING: After the ride\, as an option\, you can join me for lunch at Hozy’s Grill (1760 Lemonwood Dr\, Santa Paula). \nMY CELL # IS: 805-358-5972
URL:https://www.hikingwithdean.com/event/street-ride-santa-paula-to-fillmore/
LOCATION:RAILROAD PLAZA PARK\, 923 E Santa Barbara St\, SANTA PAULA\, CA\, 93060\, US
CATEGORIES:E Biking LA County and Beyond
ATTACH;FMTTYPE=image/jpeg:https://hwdmedia.s3.us-west-1.amazonaws.com/wp-content/uploads/2025/07/25223901/119468_image_highres_529282741.jpeg
ORGANIZER;CN="E Biking LA County and Beyond":MAILTO:meetup-group-lraksxhf-list@meetup.com
END:VEVENT
BEGIN:VEVENT
DTSTART;TZID=America/Denver:20250715T080000
DTEND;TZID=America/Denver:20250715T100000
DTSTAMP:20260423T172113
CREATED:20250708T053906Z
LAST-MODIFIED:20250708T053906Z
UID:10003533-1752566400-1752573600@www.hikingwithdean.com
SUMMARY:STREET RIDE - SANTA PAULA TO PIRU
DESCRIPTION:ROUTE This will be the planned route.\nThis ride will be on paved roads through citrus groves as we ride from downtown Santa Paula’s old train depot using backroads to Piru’s old train depot. While in Piru we’ll check out the 1902 Historic Piru Train Bridge. Following the ride\, you can join me for lunch at the Flight 126 Cafe in Santa Paula. \nMake sure you bring along a spare inner tube or slime. \nMEETUP LOCATION AND TIME: The Railroad Plaza Park in Santa Paula at 8:00am. \nRESTROOMS: At the beginning\, end and middle of ride. \nDISTANCE: 39 miles round trip \nELEVATION GAIN: 1400′ \nDURATION: 4+ hours \nBIKE TRAIL DESCRIPTION: Paved roads \nTHE PACE: 8 MPH on up. \nLEVEL: Intermediate \nDEBRIEFING: After the ride\, as an option\, you can join me for lunch at The Flight 126 Cafe. \nMY CELL # IS: 805-358-5972
URL:https://www.hikingwithdean.com/event/street-ride-santa-paula-to-piru/
LOCATION:RAILROAD PLAZA PARK\, 923 E Santa Barbara St\, SANTA PAULA\, CA\, 93060\, US
CATEGORIES:E Biking LA County and Beyond
ATTACH;FMTTYPE=image/jpeg:https://hwdmedia.s3.us-west-1.amazonaws.com/wp-content/uploads/2025/07/07223907/119213_image_highres_526722416.jpeg
ORGANIZER;CN="E Biking LA County and Beyond":MAILTO:meetup-group-lraksxhf-list@meetup.com
END:VEVENT
END:VCALENDAR