BEGIN:VCALENDAR
VERSION:2.0
PRODID:-//Hiking with Dean - ECPv6.15.20//NONSGML v1.0//EN
CALSCALE:GREGORIAN
METHOD:PUBLISH
X-ORIGINAL-URL:https://www.hikingwithdean.com
X-WR-CALDESC:Events for Hiking with Dean
REFRESH-INTERVAL;VALUE=DURATION:PT1H
X-Robots-Tag:noindex
X-PUBLISHED-TTL:PT1H
BEGIN:VTIMEZONE
TZID:America/Los_Angeles
BEGIN:DAYLIGHT
TZOFFSETFROM:-0800
TZOFFSETTO:-0700
TZNAME:PDT
DTSTART:20220313T100000
END:DAYLIGHT
BEGIN:STANDARD
TZOFFSETFROM:-0700
TZOFFSETTO:-0800
TZNAME:PST
DTSTART:20221106T090000
END:STANDARD
BEGIN:DAYLIGHT
TZOFFSETFROM:-0800
TZOFFSETTO:-0700
TZNAME:PDT
DTSTART:20230312T100000
END:DAYLIGHT
BEGIN:STANDARD
TZOFFSETFROM:-0700
TZOFFSETTO:-0800
TZNAME:PST
DTSTART:20231105T090000
END:STANDARD
BEGIN:DAYLIGHT
TZOFFSETFROM:-0800
TZOFFSETTO:-0700
TZNAME:PDT
DTSTART:20240310T100000
END:DAYLIGHT
BEGIN:STANDARD
TZOFFSETFROM:-0700
TZOFFSETTO:-0800
TZNAME:PST
DTSTART:20241103T090000
END:STANDARD
END:VTIMEZONE
BEGIN:VEVENT
DTSTART;TZID=America/Los_Angeles:20230920T230000
DTEND;TZID=America/Los_Angeles:20230921T030000
DTSTAMP:20260425T195652
CREATED:20230812T171435Z
LAST-MODIFIED:20230812T171435Z
UID:10001875-1695250800-1695265200@www.hikingwithdean.com
SUMMARY:Path of the Gods
DESCRIPTION:Contact me if you happen to be in Italy around this time. \nThe “Path of the Gods” (Sentiero degli Dei) is a famous hiking trail located along the Amalfi Coast in Italy. It offers stunning panoramic views of the coastline\, the Tyrrhenian Sea\, and the picturesque towns of Positano\, Praiano\, and Agerola. The trail is renowned for its natural beauty\, historical significance\, and breathtaking vistas. \nHere’s some information about the Path of the Gods hike: \nLocation: The Path of the Gods is situated in the Campania region of Italy\, on the Amalfi Coast. It stretches between the towns of Bomerano in Agerola and Nocelle near Positano. \nDistance and Difficulty: The length of the trail is approximately 7.8 kilometers (4.8 miles). It’s considered a moderate hike\, with some uphill and downhill sections. The trail takes around 3 to 4 hours to complete\, depending on your pace and how often you stop to enjoy the views. \nScenery: The trail offers breathtaking views of the coastline\, the azure waters of the Tyrrhenian Sea\, and the stunning cliffs of the Amalfi Coast. You’ll also see terraced gardens\, traditional stone houses\, and the dramatic landscape that this region is known for. \nTrail Highlights: Along the Path of the Gods\, you’ll encounter several highlights\, including: \nBomerano: The starting point of the trail\, located in the town of Agerola.\nPanorama delle Sirene: A scenic viewpoint that offers incredible views of Positano and the sea. \nColle Serra: The highest point of the trail\, providing panoramic vistas in all directions. \nNocelle: The endpoint of the hike\, offering a way to descend towards Positano. \nDirections\nTransportation provided from\, and back to\, Sorrento
URL:https://www.hikingwithdean.com/event/path-of-the-gods/
LOCATION:Piazza Torquato Tasso\, Piazza Torquato Tasso\, Sorrento\, 80067\, IT
CATEGORIES:Hiking With Dean
ATTACH;FMTTYPE=image/webp:https://hwdmedia.s3.us-west-1.amazonaws.com/wp-content/uploads/2023/08/12101436/109822_image_676x380.webp
GEO:40.6262287;14.3756451
X-APPLE-STRUCTURED-LOCATION;VALUE=URI;X-ADDRESS=Piazza Torquato Tasso Piazza Torquato Tasso Sorrento 80067 IT;X-APPLE-RADIUS=500;X-TITLE=Piazza Torquato Tasso:geo:14.3756451,40.6262287
END:VEVENT
END:VCALENDAR