BEGIN:VCALENDAR
VERSION:2.0
PRODID:-//Hiking with Dean - ECPv6.15.20//NONSGML v1.0//EN
CALSCALE:GREGORIAN
METHOD:PUBLISH
X-ORIGINAL-URL:https://www.hikingwithdean.com
X-WR-CALDESC:Events for Hiking with Dean
REFRESH-INTERVAL;VALUE=DURATION:PT1H
X-Robots-Tag:noindex
X-PUBLISHED-TTL:PT1H
BEGIN:VTIMEZONE
TZID:America/Los_Angeles
BEGIN:DAYLIGHT
TZOFFSETFROM:-0800
TZOFFSETTO:-0700
TZNAME:PDT
DTSTART:20240310T100000
END:DAYLIGHT
BEGIN:STANDARD
TZOFFSETFROM:-0700
TZOFFSETTO:-0800
TZNAME:PST
DTSTART:20241103T090000
END:STANDARD
BEGIN:DAYLIGHT
TZOFFSETFROM:-0800
TZOFFSETTO:-0700
TZNAME:PDT
DTSTART:20250309T100000
END:DAYLIGHT
BEGIN:STANDARD
TZOFFSETFROM:-0700
TZOFFSETTO:-0800
TZNAME:PST
DTSTART:20251102T090000
END:STANDARD
BEGIN:DAYLIGHT
TZOFFSETFROM:-0800
TZOFFSETTO:-0700
TZNAME:PDT
DTSTART:20260308T100000
END:DAYLIGHT
BEGIN:STANDARD
TZOFFSETFROM:-0700
TZOFFSETTO:-0800
TZNAME:PST
DTSTART:20261101T090000
END:STANDARD
END:VTIMEZONE
BEGIN:VEVENT
DTSTART;TZID=America/Los_Angeles:20250325T090000
DTEND;TZID=America/Los_Angeles:20250325T113000
DTSTAMP:20260423T221820
CREATED:20250322T171502Z
LAST-MODIFIED:20250322T171502Z
UID:10003302-1742893200-1742902200@www.hikingwithdean.com
SUMMARY:Liberty Canyon Preserve - Phantom/Grasslands Trail Loop - 6.5 mi.\, 1100'
DESCRIPTION:Due to anticipated warm (hot?) weather I will lead us in the opposite direction from the original post. This will allow us to do most of the elevation gain at the beginning while it is cooler. \nOriginal description (read backwards for correct hiking sequence….or just trust me). On this hike we will explore the Liberty Canyon Natural Preserve which makes up the northern quadrant of Malibu Creek State Park (MCSP). We will begin our adventure on the Liberty Canyon Fire Road (aka Las Virgenes trail)\, heading south along the eastern edge of the preserve to the junction of MCSP’s North Grasslands Trail. The Grasslands Trail crosses Mulholland Hwy into the center of the park where we will follow the High Road/Crags Road along picturesque Malibu Creek. Leaving stream level we will climb the ridge above Century Lake and turn off on the always scenic Lookout Trail on our way to the Cistern Trail. The Cistern Trail takes us to our second Mulholland Hwy crossing and the Phantom Trailhead. The Phantom Trail climbs up and over the western edge of Liberty Canyon Natural Preserve and back to our starting point. \nThis grand tour of the Liberty Canyon Natural Preserve and MCSP’s central/northern trail system will clock in at about 6.5 miles and 1100′ elevation gain. \nKathy and I scouted this hike several weeks ago. All of the trails are reasonably clear but the Phantom Trail has a few overgrown areas (long pants recommended) and the poison oak is in full leaf. \nPlease review the guidelines (link to the guidelines) to join our hikes.\nRestrictions apply for your safety and ours: \n\nDon’t show up unless you’re shown on the “Attending” list.\nPLEASE bring plenty of water.\nYour safety is your own personal responsibility\, but the hike leader reserves the right to ask you to leave if you come unprepared.\nNo “Plus Ones” or dogs on Weekday Trailblazer hikes.\n\nDISCLAIMER/RELEASE OF LIABILITY – PLEASE READ IN ITS ENTIRETY\nThe hike host is a volunteer and not responsible for the group. Safety should be a priority for everyone in the group. Please treat this meet-up as hiking with a group of friends. If you become fatigued and unable to continue the hike\, it is expected you will advise the hike host of this and return to our starting point on your own. If you are able to proceed\, it is expected that you will maintain line of sight with other members of the group at all times and help to promote the group’s safety and fitness goals. \nOutdoor sports and other events we plan can be inherently dangerous and accidents may happen. By participating in any posted event\, you are taking responsibility for your own safety and well-being. The Weekday Trailblazers Meetup Group and its organizers are not trained leaders and we do not confirm the qualifications of any of its members to lead or participate in trips. All participants take full responsibility for their own actions. \nIf you choose to sign up for this or any Weekday Trailblazers Meetup event\, you are releasing the Weekday Trailblazers Meetup Group and its organizers from all liability in case of possible injuries. Your personal safety depends on your own judgment and experience.
URL:https://www.hikingwithdean.com/event/liberty-canyon-preserve-phantom-grasslands-trail-loop-6-5-mi-1100/
LOCATION:Phantom Trail\, Liberty Canyon Road\, Calabasas\, CA\, 91301\, United States
CATEGORIES:Weekday Trailblazers
ATTACH;FMTTYPE=image/webp:https://hwdmedia.s3.us-west-1.amazonaws.com/wp-content/uploads/2025/03/10094833/117553_image_676x380.webp
ORGANIZER;CN="The Weekday Trailblazers":MAILTO:The-Weekday-Trailblazers-list@meetup.com
GEO:34.1272034;-118.7240026
X-APPLE-STRUCTURED-LOCATION;VALUE=URI;X-ADDRESS=Phantom Trail Liberty Canyon Road Calabasas CA 91301 United States;X-APPLE-RADIUS=500;X-TITLE=Liberty Canyon Road:geo:-118.7240026,34.1272034
END:VEVENT
BEGIN:VEVENT
DTSTART;TZID=America/Los_Angeles:20250311T090000
DTEND;TZID=America/Los_Angeles:20250311T113000
DTSTAMP:20260423T221820
CREATED:20250310T164832Z
LAST-MODIFIED:20250310T164832Z
UID:10003278-1741683600-1741692600@www.hikingwithdean.com
SUMMARY:Liberty Canyon Nature Preserve - Phantom/Grasslands Trail Loop - 6.5 mi.\, 1100'
DESCRIPTION:On this hike we will explore the Liberty Canyon Nature Preserve which makes up the northern quadrant of Malibu Creek State Park (MCSP). We will begin our adventure on the Liberty Canyon Fire Road\, heading south along the eastern edge of the preserve to the junction of MCSP’s North Grasslands Trail. The Grasslands Trail crosses Mulholland Hwy into the center of the park where we will follow the High Road/Crags Road along picturesque Malibu Creek. Leaving stream level we will climb the ridge above Century Lake and turn off on the always scenic Lookout Trail on our way to the Cistern Trail. The Cistern Trail takes us to our second Mulholland Hwy crossing and the Phantom Trailhead. The Phantom Trail climbs up and over the western edge of Liberty Canyon Nature Preserve and back to our starting point. \nThis grand tour of the Liberty Canyon Nature Preserve and MCSP’s central/northern trail system will clock in at about 6.5 miles and 1100′ elevation gain. \nKathy and I scouted this hike several weeks ago. All of the trails are reasonably clear but the Phantom Trail has a few overgrown areas (long pants recommended) and there are some rocky spots where trekking poles might be helpful (if you normally use them). \nPlease review the guidelines (link to the guidelines) to join our hikes.\nRestrictions apply for your safety and ours: \n\nDon’t show up unless you’re shown on the “Attending” list.\nPLEASE bring plenty of water.\nYour safety is your own personal responsibility\, but the hike leader reserves the right to ask you to leave if you come unprepared.\nNo “Plus Ones” or dogs on Weekday Trailblazer hikes.\n\nDISCLAIMER/RELEASE OF LIABILITY – PLEASE READ IN ITS ENTIRETY\nThe hike host is a volunteer and not responsible for the group. Safety should be a priority for everyone in the group. Please treat this meet-up as hiking with a group of friends. If you become fatigued and unable to continue the hike\, it is expected you will advise the hike host of this and return to our starting point on your own. If you are able to proceed\, it is expected that you will maintain line of sight with other members of the group at all times and help to promote the group’s safety and fitness goals. \nOutdoor sports and other events we plan can be inherently dangerous and accidents may happen. By participating in any posted event\, you are taking responsibility for your own safety and well-being. The Weekday Trailblazers Meetup Group and its organizers are not trained leaders and we do not confirm the qualifications of any of its members to lead or participate in trips. All participants take full responsibility for their own actions. \nIf you choose to sign up for this or any Weekday Trailblazers Meetup event\, you are releasing the Weekday Trailblazers Meetup Group and its organizers from all liability in case of possible injuries. Your personal safety depends on your own judgment and experience.
URL:https://www.hikingwithdean.com/event/liberty-canyon-nature-preserve-phantom-grasslands-trail-loop-6-5-mi-1100/
LOCATION:Phantom Trail\, Liberty Canyon Road\, Calabasas\, CA\, 91301\, United States
CATEGORIES:Weekday Trailblazers
ATTACH;FMTTYPE=image/webp:https://hwdmedia.s3.us-west-1.amazonaws.com/wp-content/uploads/2025/03/10094833/117553_image_676x380.webp
ORGANIZER;CN="The Weekday Trailblazers":MAILTO:The-Weekday-Trailblazers-list@meetup.com
GEO:34.1272034;-118.7240026
X-APPLE-STRUCTURED-LOCATION;VALUE=URI;X-ADDRESS=Phantom Trail Liberty Canyon Road Calabasas CA 91301 United States;X-APPLE-RADIUS=500;X-TITLE=Liberty Canyon Road:geo:-118.7240026,34.1272034
END:VEVENT
END:VCALENDAR