BEGIN:VCALENDAR
VERSION:2.0
PRODID:-//Hiking with Dean - ECPv6.15.20//NONSGML v1.0//EN
CALSCALE:GREGORIAN
METHOD:PUBLISH
X-WR-CALNAME:Hiking with Dean
X-ORIGINAL-URL:https://www.hikingwithdean.com
X-WR-CALDESC:Events for Hiking with Dean
REFRESH-INTERVAL;VALUE=DURATION:PT1H
X-Robots-Tag:noindex
X-PUBLISHED-TTL:PT1H
BEGIN:VTIMEZONE
TZID:America/Los_Angeles
BEGIN:DAYLIGHT
TZOFFSETFROM:-0800
TZOFFSETTO:-0700
TZNAME:PDT
DTSTART:20240310T100000
END:DAYLIGHT
BEGIN:STANDARD
TZOFFSETFROM:-0700
TZOFFSETTO:-0800
TZNAME:PST
DTSTART:20241103T090000
END:STANDARD
BEGIN:DAYLIGHT
TZOFFSETFROM:-0800
TZOFFSETTO:-0700
TZNAME:PDT
DTSTART:20250309T100000
END:DAYLIGHT
BEGIN:STANDARD
TZOFFSETFROM:-0700
TZOFFSETTO:-0800
TZNAME:PST
DTSTART:20251102T090000
END:STANDARD
BEGIN:DAYLIGHT
TZOFFSETFROM:-0800
TZOFFSETTO:-0700
TZNAME:PDT
DTSTART:20260308T100000
END:DAYLIGHT
BEGIN:STANDARD
TZOFFSETFROM:-0700
TZOFFSETTO:-0800
TZNAME:PST
DTSTART:20261101T090000
END:STANDARD
END:VTIMEZONE
BEGIN:VEVENT
DTSTART;TZID=America/Los_Angeles:20250322T200000
DTEND;TZID=America/Los_Angeles:20250322T223000
DTSTAMP:20260423T044616
CREATED:20250317T134031Z
LAST-MODIFIED:20250317T134031Z
UID:10003293-1742673600-1742682600@www.hikingwithdean.com
SUMMARY:Live: Rincon Rockerz at Pedals and Pints
DESCRIPTION:The band I am in\, Rincon Rockerz\, will be returning to Pedals & Pints Brewing Company on Saturday\, March 22nd. The band plays from 8 – 10:30 PM. \nMany of you know where Pedals and Pints is from the WTB 15 Year Anniversary event. Head back there for some live music. We play a mix of electric classic rock and blues such as Cream\, Creedence\, Beatles\, Stones\, Tom Petty\, Neil Young\, and the Allman Brothers. \nPedals and Pints serves food as well as craft beer. \nMore information about the band is available at http://rinconrockerz.com/
URL:https://www.hikingwithdean.com/event/live-rincon-rockerz-at-pedals-and-pints/
LOCATION:Pedals & Pints Brewing Company\, West Hillcrest Drive 350\, Thousand Oaks\, CA\, 91360\, United States
CATEGORIES:Weekday Trailblazers
ATTACH;FMTTYPE=image/webp:https://hwdmedia.s3.us-west-1.amazonaws.com/wp-content/uploads/2025/03/17064031/117637_image_676x380.webp
ORGANIZER;CN="The Weekday Trailblazers":MAILTO:The-Weekday-Trailblazers-list@meetup.com
GEO:34.1849672;-118.8884423
X-APPLE-STRUCTURED-LOCATION;VALUE=URI;X-ADDRESS=Pedals & Pints Brewing Company West Hillcrest Drive 350 Thousand Oaks CA 91360 United States;X-APPLE-RADIUS=500;X-TITLE=West Hillcrest Drive 350:geo:-118.8884423,34.1849672
END:VEVENT
END:VCALENDAR