BEGIN:VCALENDAR
VERSION:2.0
PRODID:-//Hiking with Dean - ECPv6.15.20//NONSGML v1.0//EN
CALSCALE:GREGORIAN
METHOD:PUBLISH
X-ORIGINAL-URL:https://www.hikingwithdean.com
X-WR-CALDESC:Events for Hiking with Dean
REFRESH-INTERVAL;VALUE=DURATION:PT1H
X-Robots-Tag:noindex
X-PUBLISHED-TTL:PT1H
BEGIN:VTIMEZONE
TZID:America/Los_Angeles
BEGIN:DAYLIGHT
TZOFFSETFROM:-0800
TZOFFSETTO:-0700
TZNAME:PDT
DTSTART:20200308T100000
END:DAYLIGHT
BEGIN:STANDARD
TZOFFSETFROM:-0700
TZOFFSETTO:-0800
TZNAME:PST
DTSTART:20201101T090000
END:STANDARD
BEGIN:DAYLIGHT
TZOFFSETFROM:-0800
TZOFFSETTO:-0700
TZNAME:PDT
DTSTART:20210314T100000
END:DAYLIGHT
BEGIN:STANDARD
TZOFFSETFROM:-0700
TZOFFSETTO:-0800
TZNAME:PST
DTSTART:20211107T090000
END:STANDARD
BEGIN:DAYLIGHT
TZOFFSETFROM:-0800
TZOFFSETTO:-0700
TZNAME:PDT
DTSTART:20220313T100000
END:DAYLIGHT
BEGIN:STANDARD
TZOFFSETFROM:-0700
TZOFFSETTO:-0800
TZNAME:PST
DTSTART:20221106T090000
END:STANDARD
END:VTIMEZONE
BEGIN:VEVENT
DTSTART;TZID=America/Los_Angeles:20210316T070000
DTEND;TZID=America/Los_Angeles:20210316T090000
DTSTAMP:20260419T143124
CREATED:20210313T200408Z
LAST-MODIFIED:20210313T200408Z
UID:10000422-1615878000-1615885200@www.hikingwithdean.com
SUMMARY:Montclef ridge route exploration
DESCRIPTION:Having not been successful on my first attempt I’m going to explore an alternative route. I will also be tagging a nearby peak by lizard rock. 5-6 miles moderate “ish”. Some bushwhacking
URL:https://www.hikingwithdean.com/event/montclef-ridge-route-exploration/
LOCATION:Paradise Falls\, Paradise Falls\, Thousand Oaks\, CA\, US
CATEGORIES:Ventura County Day Hikes
ATTACH;FMTTYPE=image/jpeg:https://hwdmedia.s3.us-west-1.amazonaws.com/wp-content/uploads/2020/07/03121630/2_image.jpg
GEO:34.2144263;-118.910559
X-APPLE-STRUCTURED-LOCATION;VALUE=URI;X-ADDRESS=Paradise Falls Paradise Falls Thousand Oaks CA US;X-APPLE-RADIUS=500;X-TITLE=Paradise Falls:geo:-118.910559,34.2144263
END:VEVENT
END:VCALENDAR