BEGIN:VCALENDAR
VERSION:2.0
PRODID:-//Hiking with Dean - ECPv6.15.20//NONSGML v1.0//EN
CALSCALE:GREGORIAN
METHOD:PUBLISH
X-ORIGINAL-URL:https://www.hikingwithdean.com
X-WR-CALDESC:Events for Hiking with Dean
REFRESH-INTERVAL;VALUE=DURATION:PT1H
X-Robots-Tag:noindex
X-PUBLISHED-TTL:PT1H
BEGIN:VTIMEZONE
TZID:America/Los_Angeles
BEGIN:DAYLIGHT
TZOFFSETFROM:-0800
TZOFFSETTO:-0700
TZNAME:PDT
DTSTART:20200308T100000
END:DAYLIGHT
BEGIN:STANDARD
TZOFFSETFROM:-0700
TZOFFSETTO:-0800
TZNAME:PST
DTSTART:20201101T090000
END:STANDARD
BEGIN:DAYLIGHT
TZOFFSETFROM:-0800
TZOFFSETTO:-0700
TZNAME:PDT
DTSTART:20210314T100000
END:DAYLIGHT
BEGIN:STANDARD
TZOFFSETFROM:-0700
TZOFFSETTO:-0800
TZNAME:PST
DTSTART:20211107T090000
END:STANDARD
BEGIN:DAYLIGHT
TZOFFSETFROM:-0800
TZOFFSETTO:-0700
TZNAME:PDT
DTSTART:20220313T100000
END:DAYLIGHT
BEGIN:STANDARD
TZOFFSETFROM:-0700
TZOFFSETTO:-0800
TZNAME:PST
DTSTART:20221106T090000
END:STANDARD
END:VTIMEZONE
BEGIN:VEVENT
DTSTART;TZID=America/Los_Angeles:20210517T090000
DTEND;TZID=America/Los_Angeles:20210517T110000
DTSTAMP:20260421T190930
CREATED:20210512T200332Z
LAST-MODIFIED:20210512T200332Z
UID:10000519-1621242000-1621249200@www.hikingwithdean.com
SUMMARY:Willis Rice cyn loop
DESCRIPTION:Wills-Rice Loop Trail on AllTrailshttps://www.alltrails.com/trail/us/california/wills-rice-loop-trail
URL:https://www.hikingwithdean.com/event/willis-rice-cyn-loop/
LOCATION:Oso Trailhead\, 1290 Meyers Road\, Ojai\, CA\, US
CATEGORIES:Ventura County Day Hikes
ATTACH;FMTTYPE=image/jpeg:https://hwdmedia.s3.us-west-1.amazonaws.com/wp-content/uploads/2021/05/03120057/93977_image_highres_496242727.jpeg
GEO:34.4581472;-119.2882994
X-APPLE-STRUCTURED-LOCATION;VALUE=URI;X-ADDRESS=Oso Trailhead 1290 Meyers Road Ojai CA US;X-APPLE-RADIUS=500;X-TITLE=1290 Meyers Road:geo:-119.2882994,34.4581472
END:VEVENT
END:VCALENDAR