BEGIN:VCALENDAR
VERSION:2.0
PRODID:-//Hiking with Dean - ECPv6.15.20//NONSGML v1.0//EN
CALSCALE:GREGORIAN
METHOD:PUBLISH
X-WR-CALNAME:Hiking with Dean
X-ORIGINAL-URL:https://www.hikingwithdean.com
X-WR-CALDESC:Events for Hiking with Dean
REFRESH-INTERVAL;VALUE=DURATION:PT1H
X-Robots-Tag:noindex
X-PUBLISHED-TTL:PT1H
BEGIN:VTIMEZONE
TZID:America/Denver
BEGIN:DAYLIGHT
TZOFFSETFROM:-0700
TZOFFSETTO:-0600
TZNAME:MDT
DTSTART:20240310T090000
END:DAYLIGHT
BEGIN:STANDARD
TZOFFSETFROM:-0600
TZOFFSETTO:-0700
TZNAME:MST
DTSTART:20241103T080000
END:STANDARD
BEGIN:DAYLIGHT
TZOFFSETFROM:-0700
TZOFFSETTO:-0600
TZNAME:MDT
DTSTART:20250309T090000
END:DAYLIGHT
BEGIN:STANDARD
TZOFFSETFROM:-0600
TZOFFSETTO:-0700
TZNAME:MST
DTSTART:20251102T080000
END:STANDARD
BEGIN:DAYLIGHT
TZOFFSETFROM:-0700
TZOFFSETTO:-0600
TZNAME:MDT
DTSTART:20260308T090000
END:DAYLIGHT
BEGIN:STANDARD
TZOFFSETFROM:-0600
TZOFFSETTO:-0700
TZNAME:MST
DTSTART:20261101T080000
END:STANDARD
END:VTIMEZONE
BEGIN:VEVENT
DTSTART;TZID=America/Denver:20250805T090000
DTEND;TZID=America/Denver:20250805T140000
DTSTAMP:20260424T164458
CREATED:20250730T053935Z
LAST-MODIFIED:20250730T053935Z
UID:10003580-1754384400-1754402400@www.hikingwithdean.com
SUMMARY:OXNARD-CHANNEL ISLANDS & VENTURA HARBOR
DESCRIPTION:ROUTE < This is the route we will be riding \nWe can have a cool ride along the coast between Ventura and Oxnard versus an inland route where the temps are soaring. The route takes us from the Ventura Harbor to Qxnard Channel Islands. Almost half of this route will be on paved bike paths.\nMake sure you bring along a spare inner tube or slime. \nMEETUP LOCATION AND TIME: Marina Park\, Ventura at 9:00 am in parking lot. \nPARKING FEE: None \nDISTANCE: 31 miles. \nELEVATION GAIN: 400′ \nDEBRIEFING: After the bike ride\, as an option\, we can have lunch at Andrea’s Seafood (1449 Spinnaker Dr A\, Ventura). \nTHE PACE: No faster than the slowest biker in the group \nDURATION: 4+ hours including lunch \nLEVEL: Easy intermediate \nTERRAIN: Paved bike paths and streets \nRESTROOMS: At the beginning\, end and during the bike ride. \nMY CELL # IS: 805-358-5972
URL:https://www.hikingwithdean.com/event/oxnard-channel-islands-ventura-harbor/
LOCATION:Marina Park\, Pierpont Blvd\, Ventura\, CA\, 93001\, US
CATEGORIES:E Biking LA County and Beyond
ATTACH;FMTTYPE=image/jpeg:https://hwdmedia.s3.us-west-1.amazonaws.com/wp-content/uploads/2025/07/29223935/119532_image_highres_529363243.jpeg
ORGANIZER;CN="E Biking LA County and Beyond":MAILTO:meetup-group-lraksxhf-list@meetup.com
END:VEVENT
END:VCALENDAR