BEGIN:VCALENDAR
VERSION:2.0
PRODID:-//Hiking with Dean - ECPv6.15.20//NONSGML v1.0//EN
CALSCALE:GREGORIAN
METHOD:PUBLISH
X-ORIGINAL-URL:https://www.hikingwithdean.com
X-WR-CALDESC:Events for Hiking with Dean
REFRESH-INTERVAL;VALUE=DURATION:PT1H
X-Robots-Tag:noindex
X-PUBLISHED-TTL:PT1H
BEGIN:VTIMEZONE
TZID:America/Los_Angeles
BEGIN:DAYLIGHT
TZOFFSETFROM:-0800
TZOFFSETTO:-0700
TZNAME:PDT
DTSTART:20220313T100000
END:DAYLIGHT
BEGIN:STANDARD
TZOFFSETFROM:-0700
TZOFFSETTO:-0800
TZNAME:PST
DTSTART:20221106T090000
END:STANDARD
BEGIN:DAYLIGHT
TZOFFSETFROM:-0800
TZOFFSETTO:-0700
TZNAME:PDT
DTSTART:20230312T100000
END:DAYLIGHT
BEGIN:STANDARD
TZOFFSETFROM:-0700
TZOFFSETTO:-0800
TZNAME:PST
DTSTART:20231105T090000
END:STANDARD
BEGIN:DAYLIGHT
TZOFFSETFROM:-0800
TZOFFSETTO:-0700
TZNAME:PDT
DTSTART:20240310T100000
END:DAYLIGHT
BEGIN:STANDARD
TZOFFSETFROM:-0700
TZOFFSETTO:-0800
TZNAME:PST
DTSTART:20241103T090000
END:STANDARD
END:VTIMEZONE
BEGIN:VEVENT
DTSTART;TZID=America/Los_Angeles:20230101T090000
DTEND;TZID=America/Los_Angeles:20230101T123000
DTSTAMP:20260422T170754
CREATED:20221213T001020Z
LAST-MODIFIED:20230109T194947Z
UID:10001356-1672563600-1672576200@www.hikingwithdean.com
SUMMARY:New Year's Hike: Mini Bulldog Loop - MASH Site - Lost Cabin Trail
DESCRIPTION:Get ready for a hike in Malibu Creek State Park the other groups don’t do. Our old destination\, the stone house\, is gone but this moderately strenuous 7-miler is still a great diversion from the usual MCSP treks. \nWe’ll start at the western end of Crags Rd near Malibou Lake and head on up to Lakeside Lateral and the Bulldog Mtwy via Maqueketa Terrace. We’ll loop the lateral and from there we descend down along the Bulldog Lateral. Bulldog is a fire road/powerline access road that descends crookedly along slopes thickly clothed in chaparral and will provide rewarding views of Goat Buttes. \nNear the bottom we’ll come across a dry creek bed then take Crags Rd to the MASH site. After paying homage to Hawkeye\, we’ll visit the Lost Cabin site. The trail to the site probably has the most beautiful surroundings in the park with the red sandstone Goat Buttes to the north and green\, rugged mountains to the south. It is very secluded with few travelers. \nHIKE IS ABOUT 7 MILES WITH ABOUT 1\,300 FT TOTAL ASCENT AND IS RATED DIFFICULT DUE TO TERRAIN. SEE THE HIKE RATING GUIDE \nDirections \nWe’ll meet in the Malibou Lake Neighborhood on the corner of Crags Dr and Lookout Dr. Park on neighboring streets such as Lookout Dr\, Seminole Dr or Olivera Dr.
URL:https://www.hikingwithdean.com/event/new-years-hike-mini-bulldog-loop-mash-site-lost-cabin-trail/
LOCATION:Malibou Lake – HWD\, 29011 Crags Dr\, Agoura Hills\, ca\, 91301\, US
CATEGORIES:Hiking With Dean
ATTACH;FMTTYPE=image/webp:https://hwdmedia.s3.us-west-1.amazonaws.com/wp-content/uploads/2022/12/03112113/106133_image_676x380.webp
GEO:34.1042934;-118.7575374
X-APPLE-STRUCTURED-LOCATION;VALUE=URI;X-ADDRESS=Malibou Lake – HWD 29011 Crags Dr Agoura Hills ca 91301 US;X-APPLE-RADIUS=500;X-TITLE=29011 Crags Dr:geo:-118.7575374,34.1042934
END:VEVENT
END:VCALENDAR