BEGIN:VCALENDAR
VERSION:2.0
PRODID:-//Hiking with Dean - ECPv6.15.20//NONSGML v1.0//EN
CALSCALE:GREGORIAN
METHOD:PUBLISH
X-WR-CALNAME:Hiking with Dean
X-ORIGINAL-URL:https://www.hikingwithdean.com
X-WR-CALDESC:Events for Hiking with Dean
REFRESH-INTERVAL;VALUE=DURATION:PT1H
X-Robots-Tag:noindex
X-PUBLISHED-TTL:PT1H
BEGIN:VTIMEZONE
TZID:America/Los_Angeles
BEGIN:DAYLIGHT
TZOFFSETFROM:-0800
TZOFFSETTO:-0700
TZNAME:PDT
DTSTART:20230312T100000
END:DAYLIGHT
BEGIN:STANDARD
TZOFFSETFROM:-0700
TZOFFSETTO:-0800
TZNAME:PST
DTSTART:20231105T090000
END:STANDARD
BEGIN:DAYLIGHT
TZOFFSETFROM:-0800
TZOFFSETTO:-0700
TZNAME:PDT
DTSTART:20240310T100000
END:DAYLIGHT
BEGIN:STANDARD
TZOFFSETFROM:-0700
TZOFFSETTO:-0800
TZNAME:PST
DTSTART:20241103T090000
END:STANDARD
BEGIN:DAYLIGHT
TZOFFSETFROM:-0800
TZOFFSETTO:-0700
TZNAME:PDT
DTSTART:20250309T100000
END:DAYLIGHT
BEGIN:STANDARD
TZOFFSETFROM:-0700
TZOFFSETTO:-0800
TZNAME:PST
DTSTART:20251102T090000
END:STANDARD
END:VTIMEZONE
BEGIN:VEVENT
DTSTART;TZID=America/Los_Angeles:20241228T080000
DTEND;TZID=America/Los_Angeles:20241228T110000
DTSTAMP:20260425T185355
CREATED:20241213T010833Z
LAST-MODIFIED:20241213T010833Z
UID:10003085-1735372800-1735383600@www.hikingwithdean.com
SUMMARY:Kagel Mountain via Dillion Divide
DESCRIPTION:DESCRIPTION:\nThis will be the last hike of 2024! I hope something a little closer to home and a little shorter to mark the end of the year might make it easier to get a larger – maybe celebratory – group together to ring out 2024 might be fun. As usual you can expect beautiful views\, and you might like that this trail is largely a well-maintained fire road. At the peak we will visit a paragliding launch pad where we might see some paragliders in action (if we’re lucky). Please note the trailhead is at Dillion Divide on Little Tujunga Road. For those who are interested\, let’s maybe grab brunch and/or a drink after the hike? \nDETAILS: \n\nHike Organizer(s): Tim R.\nMeet: Kagel Mountain Trailhead at 7:45 am\, departure at 8:00 am sharp (Saturday\, Dec 28).\nDistance: Approximately 6.0 miles.\nElevation gain: Approximately 1\,269 feet.\nTime: Approximately 3.0 hours hiking including a snack break.\nConditioning: You need to be in generally good physical condition.\nDogs: Dogs are allowed.\nRestrooms: No.\nAdventure Pass: Required.\n\nIMPORTANT NOTES: We’ll hike at a brisk pace and ask everyone to stay with the group for a friendly and safe outing. Hiking may be hazardous due to uneven footing\, stream crossings\, exposures\, snakes\, bugs\, poison oak\, etc. Please be aware of your abilities and their limits. You are responsible for your own safety and well-being. This event may be cancelled due to inclement weather or other conditions. You can check the weather and other conditions on the AllTrails GPS Trail Map link below. \nESSENTIAL GEAR: Hiking boots and poles. Clothing layers recommended. Snacks and 2+ liters of water and electrolytes or salt tablets. Hat and sunscreen. \nThe Ten Essentials of Hiking (link) \nTHIS HIKE RANKING: Level 3\, Intermediate (see chart below).\nPlease only sign up to attend hikes that are consistent with your ability. Based on your hiking during the last 90 days\, how would you score on the CHC Hike rating scale of one to five assuming a brisk pace? \nCHC HIKE RANKING SCALE:\n1. Beginner: 1-3 miles\, less than 500 feet elevation gain.\n2. Beginner/Intermediate: 1-7 miles\, less than 700 feet elevation gain.\n3. Intermediate: 5-10 miles\, 1000-2000 feet elevation gain.\n4. Intermediate/Advanced: 7-12 miles\, up to 3000 feet elevation gain.\n5. Advanced: 10-17 miles\, 3000 feet or more elevation gain. \nTRAILHEAD LOCATION: Kagel Mountain Trailhead\, Kagel Canyon\, CA 91342. \nDriving Directions (link) \nNAVIGATION: We highly recommend the AllTrails app be installed on your cell phones and/or you print a copy of the trail map so you can personally navigate the trail if you need to. \nGPS Trail Map (link) \nThe Community Hiking Club is a Non-Profit 501C3 organization. We rely on donations to continue sponsoring hikes like this. Please contribute by donating via: Cash contribution (at each hike)\, or via Zelle at 6617135610; or via Venmo at: @Heidi-Webber-5 \nDISCLAIMER / RELEASE OF LIABILITY – IMPORTANT\, PLEASE READ BELOW IN ITS ENTIRETY:\nWhen you sign up for this event\, you are releasing Community Hiking Club from any liability or responsibility with your participation in this group activity. While safety is a priority for everyone in the group\, hiking can be inherently risky. By participating in any posted event\, you are assuming responsibility for your own safety and well-being. The Community Hiking Club (CHC) Meetup Group and its organizers and hike leaders are not trained leaders and we do not confirm the qualifications of any of its members to lead or participate in our events. All participants take full responsibility for their own actions. If you choose to sign up for any Community Hiking Club Meetup events\, you are releasing the Community Hiking Club Meetup Group and Hike Leaders from all liability in case of possible injuries or death as stated in paragraph 6.2 of the Meetup “Terms of Service” located on the bottom of the Meetup website. Your personal safety depends on your own judgment and experience. If you sign up for this hike\, you are verifying that this hike is within your abilities.
URL:https://www.hikingwithdean.com/event/kagel-mountain-via-dillion-divide/
LOCATION:Los Padres Trailhead\, Thousand Oaks\, CA\, 91361\, United States
CATEGORIES:Santa Clarita Community Hiking Club
ATTACH;FMTTYPE=image/webp:https://hwdmedia.s3.us-west-1.amazonaws.com/wp-content/uploads/2024/12/12170833/116389_image_676x380.webp
ORGANIZER;CN="Santa Clarita Community Hiking Club":MAILTO:Santa-Clarita-Community-Hiking-Club-Meetup-Group-list@meetup.com
GEO:34.172486;-118.8770953
END:VEVENT
END:VCALENDAR