BEGIN:VCALENDAR
VERSION:2.0
PRODID:-//Hiking with Dean - ECPv6.15.20//NONSGML v1.0//EN
CALSCALE:GREGORIAN
METHOD:PUBLISH
X-ORIGINAL-URL:https://www.hikingwithdean.com
X-WR-CALDESC:Events for Hiking with Dean
REFRESH-INTERVAL;VALUE=DURATION:PT1H
X-Robots-Tag:noindex
X-PUBLISHED-TTL:PT1H
BEGIN:VTIMEZONE
TZID:America/Los_Angeles
BEGIN:DAYLIGHT
TZOFFSETFROM:-0800
TZOFFSETTO:-0700
TZNAME:PDT
DTSTART:20210314T100000
END:DAYLIGHT
BEGIN:STANDARD
TZOFFSETFROM:-0700
TZOFFSETTO:-0800
TZNAME:PST
DTSTART:20211107T090000
END:STANDARD
BEGIN:DAYLIGHT
TZOFFSETFROM:-0800
TZOFFSETTO:-0700
TZNAME:PDT
DTSTART:20220313T100000
END:DAYLIGHT
BEGIN:STANDARD
TZOFFSETFROM:-0700
TZOFFSETTO:-0800
TZNAME:PST
DTSTART:20221106T090000
END:STANDARD
BEGIN:DAYLIGHT
TZOFFSETFROM:-0800
TZOFFSETTO:-0700
TZNAME:PDT
DTSTART:20230312T100000
END:DAYLIGHT
BEGIN:STANDARD
TZOFFSETFROM:-0700
TZOFFSETTO:-0800
TZNAME:PST
DTSTART:20231105T090000
END:STANDARD
END:VTIMEZONE
BEGIN:VEVENT
DTSTART;TZID=America/Los_Angeles:20221217T170000
DTEND;TZID=America/Los_Angeles:20221217T220000
DTSTAMP:20260423T203022
CREATED:20220903T031549Z
LAST-MODIFIED:20220903T031549Z
UID:10001255-1671296400-1671314400@www.hikingwithdean.com
SUMMARY:Annual Holiday Dinner and After Party - Junk Yard Cafe
DESCRIPTION:Please join us for the Hiking Plus Annual Holiday Dinner and After Party. \nThis is a sit down dinner with our Hiking Plus friends. Everybody initially goes on the waiting list. \nI have arranged to order from the menu\, and have individual checks. \nThis event required a non-refundable deposit\, whose return is only by deducting from checks. Therefore\, please be prepared to pay in CASH. \nSince this is a reservation event with limited seating for 40 in a special room\, we must set some limits on who may attend the DINNER portion of the event: \n\nYou must have hiked with us at least 5 times as of this writing\, in the past 6 months.\nYou must not have cancelled a reservation event within 1 week of the event\, or been a no-show for a reservation event.\nDinner is required. Please don’t sign up if you only plan on dessert.\n\nThe host may make some exceptions as the date approaches\, and may require a cash deposit. \nThere will be multiple tables with open seating\, so please be kind if you don’t get to sit with your favorite fellows. If you remain on the waiting list on the day of the event\, or you just want to come for dessert\, you may try to make your own reservation\, or join us in the bar area for drinks at about 7:30 pm\, if space is available. \nPlease be courteous and not sign up if you aren’t sure you can attend\, and cancel if you decide you can’t attend. \nIf the room fills to capacity\, and additional space is available in the adjoining areas\, we’ll be sure to reserve it if possible. \nJunk Yard Cafe\, Tiki Room\n2585 Cochran St.\nSimi Valley\, CA 93065\n(805) 520-5865\nOpen until 10p
URL:https://www.hikingwithdean.com/event/annual-holiday-dinner-and-after-party-junk-yard-cafe/
LOCATION:Junkyard Cafe\, 2585 Cochran St\, Simi Valley\, CA\, 93065\, US
CATEGORIES:Hiking Plus
ATTACH;FMTTYPE=image/webp:https://hwdmedia.s3.us-west-1.amazonaws.com/wp-content/uploads/2022/09/03112413/105156_image_676x380.webp
GEO:34.2795827;-118.7461284
X-APPLE-STRUCTURED-LOCATION;VALUE=URI;X-ADDRESS=Junkyard Cafe 2585 Cochran St Simi Valley CA 93065 US;X-APPLE-RADIUS=500;X-TITLE=2585 Cochran St:geo:-118.7461284,34.2795827
END:VEVENT
END:VCALENDAR