BEGIN:VCALENDAR
VERSION:2.0
PRODID:-//Hiking with Dean - ECPv6.15.20//NONSGML v1.0//EN
CALSCALE:GREGORIAN
METHOD:PUBLISH
X-ORIGINAL-URL:https://www.hikingwithdean.com
X-WR-CALDESC:Events for Hiking with Dean
REFRESH-INTERVAL;VALUE=DURATION:PT1H
X-Robots-Tag:noindex
X-PUBLISHED-TTL:PT1H
BEGIN:VTIMEZONE
TZID:America/Los_Angeles
BEGIN:DAYLIGHT
TZOFFSETFROM:-0800
TZOFFSETTO:-0700
TZNAME:PDT
DTSTART:20220313T100000
END:DAYLIGHT
BEGIN:STANDARD
TZOFFSETFROM:-0700
TZOFFSETTO:-0800
TZNAME:PST
DTSTART:20221106T090000
END:STANDARD
BEGIN:DAYLIGHT
TZOFFSETFROM:-0800
TZOFFSETTO:-0700
TZNAME:PDT
DTSTART:20230312T100000
END:DAYLIGHT
BEGIN:STANDARD
TZOFFSETFROM:-0700
TZOFFSETTO:-0800
TZNAME:PST
DTSTART:20231105T090000
END:STANDARD
BEGIN:DAYLIGHT
TZOFFSETFROM:-0800
TZOFFSETTO:-0700
TZNAME:PDT
DTSTART:20240310T100000
END:DAYLIGHT
BEGIN:STANDARD
TZOFFSETFROM:-0700
TZOFFSETTO:-0800
TZNAME:PST
DTSTART:20241103T090000
END:STANDARD
END:VTIMEZONE
BEGIN:VEVENT
DTSTART;TZID=America/Los_Angeles:20230513T090000
DTEND;TZID=America/Los_Angeles:20230513T113000
DTSTAMP:20260423T155639
CREATED:20230410T181025Z
LAST-MODIFIED:20230410T181025Z
UID:10001570-1683968400-1683977400@www.hikingwithdean.com
SUMMARY:Harmon Canyon Road and West Road
DESCRIPTION:https://www.alltrails.com/trail/us/california/harmon-canyon-road-and-west-road?search=true \nHello Fellow Hikers\,\nHarmon Canyon is back open after the rain damage and now it is time to hit this trail. This is a really popular area so will need to start earlier plus the weather is starting to ease towards summer now. If you haven’t been to the area before it’s a great place to hike. Perfect time of year as its still green with wildflowers and still a cool breeze. This is a gradual incline so you can enjoy the scenery more and get in more conversation without having to stop to breath. lol Parking can fill up fast so if that’s the case kim suggest parking on kimball Rd which is off FootHill Rd. Carpooling at our same meetup spot will be offered for anyone who wishes to carpool or follow to the trailhead (Best donuts located 2325 Kuehner Dr # 127 Simi Valley off the 118 freeway at 8:00 am) I have attached the AllTrails link for directions\, stats and photos. https://www.alltrails.com/trail/us/california/harmon-canyon-road-and-west-road?search=true \nTrail out and back\nMiles 6.5\nElevation Gain 905 ft\nRated moderate\nDogs unfortunately only allowed 2 miles into the trail\nParking free lot or side street \nAs of now there is no sweeper for this hike so please know if you feel you can not finish for any reason please turn back early \nPlease check back on hike info as rain\, heat advisory\, strong winds or low attendance may cause the hike to be rescheduled \nWe will always follow Jim’s Golden Rules: \n\nHike your own hike\nPlease stop at every junction and split to wait for others to catch up\n\nPlease remember to bring all essentials you’ll need for a hike\n(water\,hat\,sunglasses\,hiking boot/hiking shoes poles if needed snacks) \nLiability Disclaimer:\nAnd last….The Organizer\, Co Organizer\, Assistant Organizers and Event hosts in this group are not professional guides. The function of the Organizer is only to organize the trip. Each person who signs up for an Event is responsible for his or her own safety and the safety of his or her guest. Remember this is your hike. All responsibilities are of your own once you attend. Please be aware of your limit. During outdoor activity you can encounter bodily injury\, snake bites\, sunburn\, overheating\, etc. This is not within our control and we ask that you are prepared for any of the above once you sign up for an Event. If you need to take several breaks (not counting quick breather breaks) and stops throughout a hike\, the hike maybe too much for your ability. Please check each event for miles\, elevation gain\, and difficulty rating. The higher the elevation gain means more incline and less leveled off sections. We offer all levels of hikes from moderate to hard to advanced only. We encourage everyone to not give up work on your core by joining our easier moderate Events and then joining our harder hikes once you are ready. 😊
URL:https://www.hikingwithdean.com/event/harmon-canyon-road-and-west-road/
LOCATION:Harmon Canyon Road\, Harmon Canyon Rd\, Ventura\, CA\, 93003\, US
CATEGORIES:Ventura County Day Hikes
ATTACH;FMTTYPE=image/webp:https://hwdmedia.s3.us-west-1.amazonaws.com/wp-content/uploads/2023/04/10111026/107918_image_676x380.webp
GEO:34.3124747;-119.1995679
X-APPLE-STRUCTURED-LOCATION;VALUE=URI;X-ADDRESS=Harmon Canyon Road Harmon Canyon Rd Ventura CA 93003 US;X-APPLE-RADIUS=500;X-TITLE=Harmon Canyon Rd:geo:-119.1995679,34.3124747
END:VEVENT
END:VCALENDAR