BEGIN:VCALENDAR
VERSION:2.0
PRODID:-//Hiking with Dean - ECPv6.15.20//NONSGML v1.0//EN
CALSCALE:GREGORIAN
METHOD:PUBLISH
X-WR-CALNAME:Hiking with Dean
X-ORIGINAL-URL:https://www.hikingwithdean.com
X-WR-CALDESC:Events for Hiking with Dean
REFRESH-INTERVAL;VALUE=DURATION:PT1H
X-Robots-Tag:noindex
X-PUBLISHED-TTL:PT1H
BEGIN:VTIMEZONE
TZID:America/Denver
BEGIN:DAYLIGHT
TZOFFSETFROM:-0700
TZOFFSETTO:-0600
TZNAME:MDT
DTSTART:20240310T090000
END:DAYLIGHT
BEGIN:STANDARD
TZOFFSETFROM:-0600
TZOFFSETTO:-0700
TZNAME:MST
DTSTART:20241103T080000
END:STANDARD
BEGIN:DAYLIGHT
TZOFFSETFROM:-0700
TZOFFSETTO:-0600
TZNAME:MDT
DTSTART:20250309T090000
END:DAYLIGHT
BEGIN:STANDARD
TZOFFSETFROM:-0600
TZOFFSETTO:-0700
TZNAME:MST
DTSTART:20251102T080000
END:STANDARD
BEGIN:DAYLIGHT
TZOFFSETFROM:-0700
TZOFFSETTO:-0600
TZNAME:MDT
DTSTART:20260308T090000
END:DAYLIGHT
BEGIN:STANDARD
TZOFFSETFROM:-0600
TZOFFSETTO:-0700
TZNAME:MST
DTSTART:20261101T080000
END:STANDARD
END:VTIMEZONE
BEGIN:VTIMEZONE
TZID:America/Los_Angeles
BEGIN:DAYLIGHT
TZOFFSETFROM:-0800
TZOFFSETTO:-0700
TZNAME:PDT
DTSTART:20230312T100000
END:DAYLIGHT
BEGIN:STANDARD
TZOFFSETFROM:-0700
TZOFFSETTO:-0800
TZNAME:PST
DTSTART:20231105T090000
END:STANDARD
BEGIN:DAYLIGHT
TZOFFSETFROM:-0800
TZOFFSETTO:-0700
TZNAME:PDT
DTSTART:20240310T100000
END:DAYLIGHT
BEGIN:STANDARD
TZOFFSETFROM:-0700
TZOFFSETTO:-0800
TZNAME:PST
DTSTART:20241103T090000
END:STANDARD
BEGIN:DAYLIGHT
TZOFFSETFROM:-0800
TZOFFSETTO:-0700
TZNAME:PDT
DTSTART:20250309T100000
END:DAYLIGHT
BEGIN:STANDARD
TZOFFSETFROM:-0700
TZOFFSETTO:-0800
TZNAME:PST
DTSTART:20251102T090000
END:STANDARD
END:VTIMEZONE
BEGIN:VEVENT
DTSTART;TZID=America/Denver:20250614T090000
DTEND;TZID=America/Denver:20250614T110000
DTSTAMP:20260420T131513
CREATED:20250603T175911Z
LAST-MODIFIED:20250603T175911Z
UID:10003453-1749891600-1749898800@www.hikingwithdean.com
SUMMARY:Wilderness Access Day - Gypsum Canyon Wilderness
DESCRIPTION:Additional registration is not required for the event. \nDetails about the event: https://letsgooutside.org/activities/2025/06/14/wilderness-access-day-gypsum-canyon-wilderness-25/ \nPlease join us for our second exploratory hike at Gypsum Canyon! We plan to do 4-5 miles with roughly 800 ft. of elevation gain. \nLocated within OC Parks’ Irvine Ranch Open Space\, Gypsum Canyon Wilderness features seven new trails for hiking\, mountain biking and horseback riding. Two lookout points offer sweeping views of the surrounding canyons and unique prehistoric rock formations. Multiple loop options that vary in distance and range from easy to moderate in difficulty are available for self-guided exploration. \nGypsum Canyon Wilderness is comprised of protected and preserved native habitats that a variety of wildlife\, including mule deer\, red-tailed hawks\, California gnatcatchers and bobcats\, call home. \nRain or inclement weather will cancel the program. \nGypsum Canyon Wilderness is located at 390 South Gypsum Canyon Road\, Anaheim\, CA 92887. \nParking is free.
URL:https://www.hikingwithdean.com/event/wilderness-access-day-gypsum-canyon-wilderness-2/
LOCATION:Gypsum Canyon Wilderness\, South Gypsum Canyon Road 390\, Yorba Linda\, CA\, 92887\, United States
CATEGORIES:Trail Mix
ATTACH;FMTTYPE=image/jpeg:https://hwdmedia.s3.us-west-1.amazonaws.com/wp-content/uploads/2025/06/03105911/118712_image_highres_528326504.jpeg
ORGANIZER;CN="Trail Mix":MAILTO:Trail-Mix-185605806jlJwVcQL-list@meetup.com
GEO:33.8675217;-117.7119006
X-APPLE-STRUCTURED-LOCATION;VALUE=URI;X-ADDRESS=Gypsum Canyon Wilderness South Gypsum Canyon Road 390 Yorba Linda CA 92887 United States;X-APPLE-RADIUS=500;X-TITLE=South Gypsum Canyon Road 390:geo:-117.7119006,33.8675217
END:VEVENT
BEGIN:VEVENT
DTSTART;TZID=America/Los_Angeles:20241214T080000
DTEND;TZID=America/Los_Angeles:20241214T103000
DTSTAMP:20260420T131513
CREATED:20241208T175549Z
LAST-MODIFIED:20241208T175549Z
UID:10003074-1734163200-1734172200@www.hikingwithdean.com
SUMMARY:Wilderness Access Day - Gypsum Canyon Wilderness
DESCRIPTION:Additional registration is not required for the event. \nDetails about the event: https://letsgooutside.org/activities/2024/12/14/wilderness-access-day-gypsum-canyon-wilderness-19/ \nPlease join us for our first exploratory hike at Gypsum Canyon! \nCome explore 6 miles of new trails at Gypsum Canyon Wilderness through this self-guided opportunity. \nLocated within OC Parks’ Irvine Ranch Open Space\, Gypsum Canyon Wilderness features seven new trails for hiking\, mountain biking and horseback riding. Two lookout points offer sweeping views of the surrounding canyons and unique prehistoric rock formations. Multiple loop options that vary in distance and range from easy to moderate in difficulty are available for self-guided exploration. \nGypsum Canyon Wilderness is comprised of protected and preserved native habitats that a variety of wildlife\, including mule deer\, red-tailed hawks\, California gnatcatchers and bobcats\, call home. \nRain or inclement weather will cancel the program. \nGypsum Canyon Wilderness is located at 390 South Gypsum Canyon Road\, Anaheim\, CA 92887. \nParking is free.
URL:https://www.hikingwithdean.com/event/wilderness-access-day-gypsum-canyon-wilderness/
LOCATION:Gypsum Canyon Wilderness\, South Gypsum Canyon Road 390\, Yorba Linda\, CA\, 92887\, United States
CATEGORIES:Trail Mix
ATTACH;FMTTYPE=image/webp:https://hwdmedia.s3.us-west-1.amazonaws.com/wp-content/uploads/2022/09/03112411/105183_image_676x380.webp
ORGANIZER;CN="Trail Mix":MAILTO:Trail-Mix-185605806jlJwVcQL-list@meetup.com
GEO:33.8675217;-117.7119006
X-APPLE-STRUCTURED-LOCATION;VALUE=URI;X-ADDRESS=Gypsum Canyon Wilderness South Gypsum Canyon Road 390 Yorba Linda CA 92887 United States;X-APPLE-RADIUS=500;X-TITLE=South Gypsum Canyon Road 390:geo:-117.7119006,33.8675217
END:VEVENT
END:VCALENDAR