BEGIN:VCALENDAR
VERSION:2.0
PRODID:-//Hiking with Dean - ECPv6.15.20//NONSGML v1.0//EN
CALSCALE:GREGORIAN
METHOD:PUBLISH
X-WR-CALNAME:Hiking with Dean
X-ORIGINAL-URL:https://www.hikingwithdean.com
X-WR-CALDESC:Events for Hiking with Dean
REFRESH-INTERVAL;VALUE=DURATION:PT1H
X-Robots-Tag:noindex
X-PUBLISHED-TTL:PT1H
BEGIN:VTIMEZONE
TZID:America/Los_Angeles
BEGIN:DAYLIGHT
TZOFFSETFROM:-0800
TZOFFSETTO:-0700
TZNAME:PDT
DTSTART:20230312T100000
END:DAYLIGHT
BEGIN:STANDARD
TZOFFSETFROM:-0700
TZOFFSETTO:-0800
TZNAME:PST
DTSTART:20231105T090000
END:STANDARD
BEGIN:DAYLIGHT
TZOFFSETFROM:-0800
TZOFFSETTO:-0700
TZNAME:PDT
DTSTART:20240310T100000
END:DAYLIGHT
BEGIN:STANDARD
TZOFFSETFROM:-0700
TZOFFSETTO:-0800
TZNAME:PST
DTSTART:20241103T090000
END:STANDARD
BEGIN:DAYLIGHT
TZOFFSETFROM:-0800
TZOFFSETTO:-0700
TZNAME:PDT
DTSTART:20250309T100000
END:DAYLIGHT
BEGIN:STANDARD
TZOFFSETFROM:-0700
TZOFFSETTO:-0800
TZNAME:PST
DTSTART:20251102T090000
END:STANDARD
END:VTIMEZONE
BEGIN:VEVENT
DTSTART;TZID=America/Los_Angeles:20240629T100000
DTEND;TZID=America/Los_Angeles:20240630T110000
DTSTAMP:20260421T162240
CREATED:20240605T230205Z
LAST-MODIFIED:20240605T230205Z
UID:10002644-1719655200-1719745200@www.hikingwithdean.com
SUMMARY:BACKPACKING 101 (CUYAMACA): Sweetwater to Granite Springs
DESCRIPTION:This is a Beginner’s Backpacking trip.\nRSVP Opens: Saturday\, June 8\, 2024 8:00 AM\nSpace is very limited. \nAbout Me:\nI am not a professional guide or backpacking instructor.\nIn 2017 I asked a Facebook backpacking group in Virginia about learning how to backpack. Shortly after\, I met up with a stranger who showed me the ropes. I’ve been learning from those more experienced than I am\, and that’s still the way it is today. It’s finally time to return the favor!\nI joined San Diego Backpackers in 2020. I’ll be hosting a series of Backpacking 101 trips that progress in mileage. Other than that\, I specialize in leading out-of-state adventures and river trips. 🌼 \nPlease read the following in its entirety. \nSweetwater to Granite Springs in Cuyamaca Rancho State Park\nDifficulty: Moderate (Used often for beginning backpacking)\nTrail Description: Well maintained with a steady incline to camp\nLength: Approximately 8 miles total and 1\,100′ gain/loss\nCamp Description: Primitive sites with a pit toilet.\nWater: Seasonal spring with a pump\, recommended to carry all water.\nSunset: ~8:00PM\nHighs/Lows: 80s/50s \nPark requires fees. I will go ahead of time for recon\, park fee information (I believe it’s $5 per person)\, and information regarding the permits to use Granite Springs (first come\, first served). More information to come.\nPark Brochure\nAll Trails \n🌼 We’ll meet in the day picnic parking inside the Green Valley Campground at 10:00AM to check in and pay fees. (Time may change based on availability. Please be flexible.) After we square away park fees\, we’ll move our vehicles to the parking lot at the Harvey Moore Trailhead. \n🌼 There are no campfires allowed. To use a stove to prepare meals or drinks\, please obtain the required California Campfire Permit. Campfire permits are necessary to use a barbecue\, lantern\, or stove outside a developed recreation area.\nGet your free permit here. \nDuring our trip we will cover the following skills and more:\n(Some skills will be theory.)\n🌼 Leave No Trace principles\n🌼 Campsite selection\n🌼 Setting camp\n🌼 Filtering water\n🌼 Using the restroom\n🌼 Gear (preferences\, how to use\, etc.)\n🌼 Navigation\n🌼 Useful apps\n🌼 Personal locator beacons \nWhat should you bring?\nThe 10 Essentials\nGeneral Backpacking Check List\n🌼 Please be sure you are properly equipped for this trip and that all of your gear is in working order.\n🌼 If you are needing to borrow pieces of gear\, please let me know. Members of SDB have kindly offered to loan out some bits. There are also backpacking items available for rent at REI.\n🌼 Remember\, there may be no water available in camp. Please bring all of your water. This amount is totally dependent on you\, your physical fitness\, heat tolerance\, thirst levels\, perspiration levels\, desire for drinks in camp such as tea or breakfast coffee\, food prep needs\, etc. Please bring more than enough.\n🌼 Please bring adequate snacks and dinner. We’ll be breaking camp at 8:00AM\, please bring breakfast and snacks for the hike out.\n🌼 Option to host a Zoom Meeting prior to our trip to go over or review gear to be sure everyone is set. \nLastly\, please do not hesitate to reach out to me with any questions or concerns. Let’s go backpacking! \n\nBy participating in this event\, you acknowledge you are ultimately responsible for yourself and your safety while engaging in this activity and event. \nDISCLAIMER: Hike at your own risk. Be responsible for yourself and your safety. Make good decisions. With any trip\, things can change\, reservations can get lost\, the unexpected can happen. A go-with-the-flow attitude is always a good thing\, and most importantly\, let’s all have fun! This is a beginner backpacking event. Make sure you are in good enough physical shape for the distance\, elevation changes\, and terrain. The hike leaders in this group aren’t professional hike leaders. By signing up for these events\, you agree not to hold the Meetup organizers responsible for whatever happens to you on these events. The hiking group does not certify the expertise of the organizers\, the event or assistant organizers (hike leaders) and… We are NOT responsible for any possible losses or injuries.
URL:https://www.hikingwithdean.com/event/backpacking-101-cuyamaca-sweetwater-to-granite-springs/
LOCATION:Green Valley Campground\, 11842 Hwy 79\, descanso\, CA\, US
CATEGORIES:San Diego Backpackers
ATTACH;FMTTYPE=image/webp:https://hwdmedia.s3.us-west-1.amazonaws.com/wp-content/uploads/2024/06/05160207/114075_image_676x380.webp
ORGANIZER;CN="San Diego Backpackers":MAILTO:San-Diego-Backpackers-list@meetup.com
GEO:32.9023759;-116.5803609
X-APPLE-STRUCTURED-LOCATION;VALUE=URI;X-ADDRESS=Green Valley Campground 11842 Hwy 79 descanso CA US;X-APPLE-RADIUS=500;X-TITLE=11842 Hwy 79:geo:-116.5803609,32.9023759
END:VEVENT
BEGIN:VEVENT
DTSTART;TZID=America/Los_Angeles:20240626T183001
DTEND;TZID=America/Los_Angeles:20240626T223001
DTSTAMP:20260421T162240
CREATED:20240608T180010Z
LAST-MODIFIED:20240608T180010Z
UID:10002649-1719426601-1719441001@www.hikingwithdean.com
SUMMARY:Free backpacking 101 Class. Tell your friends
DESCRIPTION:Topics we’ll cover: \n\nWhere to go\, planning\, and how to get permits\nGear/Kit: Must have vs nice to have (from clothing to footwear\, and camping essentials)\nHydration (including filtration)\nNutrition (including cooking kit)\nFIrst Aid (including how to avoid emergencies)\nDangers in the wild\nFinding people to go with\nAnd many more pro-tips and tricks to make sure you have a great experience\n\nSponsored by instructors from the Wilderness First Aid Course.
URL:https://www.hikingwithdean.com/event/free-backpacking-101-class-tell-your-friends/
LOCATION:Green Valley Campground\, 11842 Hwy 79\, descanso\, CA\, US
CATEGORIES:Hike, Backpack, Climb, Travel with Wilderness Travel Course
ATTACH;FMTTYPE=image/webp:https://hwdmedia.s3.us-west-1.amazonaws.com/wp-content/uploads/2024/06/08110012/114112_image_676x380.webp
ORGANIZER;CN="Hike%2C Backpack%2C Climb%2C Travel with Wilderness Travel Course":MAILTO:hiking-609-list@meetup.com
GEO:32.9023759;-116.5803609
X-APPLE-STRUCTURED-LOCATION;VALUE=URI;X-ADDRESS=Green Valley Campground 11842 Hwy 79 descanso CA US;X-APPLE-RADIUS=500;X-TITLE=11842 Hwy 79:geo:-116.5803609,32.9023759
END:VEVENT
BEGIN:VEVENT
DTSTART;TZID=America/Los_Angeles:20240622T160000
DTEND;TZID=America/Los_Angeles:20240623T100000
DTSTAMP:20260421T162240
CREATED:20240605T230200Z
LAST-MODIFIED:20240605T230200Z
UID:10002643-1719072000-1719136800@www.hikingwithdean.com
SUMMARY:BACKPACKING 101 (CUYAMACA): Green Valley Campground to Arroyo Seco Primitive
DESCRIPTION:This is a Beginner’s Backpacking trip.\nRSVP Opens: Saturday\, June 8\, 2024 8:00 AM\nSpace is very limited. Please do not sign up for this trip if you are already confident hiking with your backpacking kit or using your backpacking kit. This trip is designed for those who want to take the plunge into backpacking. \nAbout Me:\nI am not a professional guide or backpacking instructor.\nIn 2017 I asked a Facebook backpacking group in Virginia about learning how to backpack. Shortly after\, I met up with a stranger who showed me the ropes. I’ve been learning from those more experienced than I am\, and that’s still the way it is today. It’s finally time to return the favor!\nI joined San Diego Backpackers in 2020. I’ll be hosting a series of Backpacking 101 trips that progress in mileage. Other than that\, I specialize in leading out-of-state adventures and river trips. 🌼 \nPlease read the following in its entirety. \nGreen Valley Campground to Arroyo Seco Primitive Trail Camp in\nCuyamaca Rancho State Park\nDifficulty: Easy\nTrail Description: Fire road\nLength: Approximately 1.5 miles and 300′ gain/loss (3 miles total)\nCamp Description: Primitive sites with a pit toilet.\nWater: Carry all of your water\, there is no water available in camp.\nSunset: ~8:00PM\nHighs/Lows: 80s/50s \nPark requires fees. I will go ahead of time for recon\, park fee information (I believe it’s $5 per person)\, and information regarding the permits to use Arroyo Seco (first come\, first served). More information to come.\nPark Brochure \n🌼 We’ll meet in the day picnic parking at the Arroyo Seco Fire Road trailhead inside the Green Valley Campground at 4:00PM. (Time may change based on availability. Please be flexible.) After we square away park fees\, we’ll begin our trek down the fire road. \n🌼 There are no campfires allowed. To use a stove to prepare meals or drinks\, please obtain the required California Campfire Permit. Campfire permits are necessary to use a barbecue\, lantern\, or stove outside a developed recreation area.\nGet your free permit here. \nDuring our trip we will cover the following skills and more:\n(Some skills will be theory.)\n🌼 Leave No Trace principles\n🌼 Campsite selection\n🌼 Setting camp\n🌼 Filtering water\n🌼 Using the restroom\n🌼 Gear (preferences\, how to use\, etc.) \nWhat should you bring?\nThe 10 Essentials\nGeneral Backpacking Check List\n🌼 Please be sure you are properly equipped for this trip and that all of your gear is in working order.\n🌼 If you are needing to borrow pieces of gear\, please let me know. Members of SDB have kindly offered to loan out some bits. There are also backpacking items available for rent at REI.\n🌼 Remember\, there is no water available in camp. Please bring all of your water. This amount is totally dependent on you\, your physical fitness\, heat tolerance\, thirst levels\, perspiration levels\, desire for drinks in camp such as tea or breakfast coffee\, food prep needs\, etc. Please bring more than enough.\n🌼 Please bring adequate snacks and dinner. We’ll be breaking camp at 8:30AM\, please bring whatever breakfast energy you prefer.\n🌼 Option to host a Zoom Meeting prior to our trip to go over or review gear to be sure everyone is set. \nLastly\, please do not hesitate to reach out to me with any questions or concerns. Let’s go backpacking! \n\nBy participating in this event\, you acknowledge you are ultimately responsible for yourself and your safety while engaging in this activity and event. \nDISCLAIMER: Hike at your own risk. Be responsible for yourself and your safety. Make good decisions. With any trip\, things can change\, reservations can get lost\, the unexpected can happen. A go-with-the-flow attitude is always a good thing\, and most importantly\, let’s all have fun! This is a beginner backpacking event. Make sure you are in good enough physical shape for the distance\, elevation changes\, and terrain. The hike leaders in this group aren’t professional hike leaders. By signing up for these events\, you agree not to hold the Meetup organizers responsible for whatever happens to you on these events. The hiking group does not certify the expertise of the organizers\, the event or assistant organizers (hike leaders) and… We are NOT responsible for any possible losses or injuries.
URL:https://www.hikingwithdean.com/event/backpacking-101-cuyamaca-green-valley-campground-to-arroyo-seco-primitive/
LOCATION:Green Valley Campground\, 11842 Hwy 79\, descanso\, CA\, US
CATEGORIES:San Diego Backpackers
ATTACH;FMTTYPE=image/webp:https://hwdmedia.s3.us-west-1.amazonaws.com/wp-content/uploads/2024/06/05160204/114073_image_676x380.webp
ORGANIZER;CN="San Diego Backpackers":MAILTO:San-Diego-Backpackers-list@meetup.com
GEO:32.9023759;-116.5803609
X-APPLE-STRUCTURED-LOCATION;VALUE=URI;X-ADDRESS=Green Valley Campground 11842 Hwy 79 descanso CA US;X-APPLE-RADIUS=500;X-TITLE=11842 Hwy 79:geo:-116.5803609,32.9023759
END:VEVENT
END:VCALENDAR