BEGIN:VCALENDAR
VERSION:2.0
PRODID:-//Hiking with Dean - ECPv6.15.20//NONSGML v1.0//EN
CALSCALE:GREGORIAN
METHOD:PUBLISH
X-ORIGINAL-URL:https://www.hikingwithdean.com
X-WR-CALDESC:Events for Hiking with Dean
REFRESH-INTERVAL;VALUE=DURATION:PT1H
X-Robots-Tag:noindex
X-PUBLISHED-TTL:PT1H
BEGIN:VTIMEZONE
TZID:America/Denver
BEGIN:DAYLIGHT
TZOFFSETFROM:-0700
TZOFFSETTO:-0600
TZNAME:MDT
DTSTART:20240310T090000
END:DAYLIGHT
BEGIN:STANDARD
TZOFFSETFROM:-0600
TZOFFSETTO:-0700
TZNAME:MST
DTSTART:20241103T080000
END:STANDARD
BEGIN:DAYLIGHT
TZOFFSETFROM:-0700
TZOFFSETTO:-0600
TZNAME:MDT
DTSTART:20250309T090000
END:DAYLIGHT
BEGIN:STANDARD
TZOFFSETFROM:-0600
TZOFFSETTO:-0700
TZNAME:MST
DTSTART:20251102T080000
END:STANDARD
BEGIN:DAYLIGHT
TZOFFSETFROM:-0700
TZOFFSETTO:-0600
TZNAME:MDT
DTSTART:20260308T090000
END:DAYLIGHT
BEGIN:STANDARD
TZOFFSETFROM:-0600
TZOFFSETTO:-0700
TZNAME:MST
DTSTART:20261101T080000
END:STANDARD
END:VTIMEZONE
BEGIN:VTIMEZONE
TZID:America/Los_Angeles
BEGIN:DAYLIGHT
TZOFFSETFROM:-0800
TZOFFSETTO:-0700
TZNAME:PDT
DTSTART:20240310T100000
END:DAYLIGHT
BEGIN:STANDARD
TZOFFSETFROM:-0700
TZOFFSETTO:-0800
TZNAME:PST
DTSTART:20241103T090000
END:STANDARD
BEGIN:DAYLIGHT
TZOFFSETFROM:-0800
TZOFFSETTO:-0700
TZNAME:PDT
DTSTART:20250309T100000
END:DAYLIGHT
BEGIN:STANDARD
TZOFFSETFROM:-0700
TZOFFSETTO:-0800
TZNAME:PST
DTSTART:20251102T090000
END:STANDARD
BEGIN:DAYLIGHT
TZOFFSETFROM:-0800
TZOFFSETTO:-0700
TZNAME:PDT
DTSTART:20260308T100000
END:DAYLIGHT
BEGIN:STANDARD
TZOFFSETFROM:-0700
TZOFFSETTO:-0800
TZNAME:PST
DTSTART:20261101T090000
END:STANDARD
END:VTIMEZONE
BEGIN:VEVENT
DTSTART;TZID=America/Denver:20250901T140000
DTEND;TZID=America/Denver:20250901T190000
DTSTAMP:20260424T065929
CREATED:20250724T031601Z
LAST-MODIFIED:20250724T031601Z
UID:10003563-1756735200-1756753200@www.hikingwithdean.com
SUMMARY:Labor Day - Picnic and Concert - Skynyrd and Frynds (Lynyrd Skynyrd Tribute)
DESCRIPTION:Picnic and Concert\, Jim’s Birthday\nMany of us from this group will attend this event. We’ll start picnicking a few hours before the concert. \nBring food and drinks to share.\nIf your item requires utensils\, please supply them. \nPlease post in the comments\, if you can bring a table. \nBring blankets and lawn chairs. A variety of gourmet Food Trucks and Dessert Trucks will be on-site and available for purchase. \nPlease bring something to put on\, as it often gets cooler in the evening. \nConcert starts at 5:00p.\nSkynyrd and Frynds – bringing the legendary sound of Lynyrd Skynyrd from the 1960’s and 70’s\,\nAbout the band – click here \nPark on the surrounding streets. Drop your stuff off at the park if you don’t want to carry it. \nNo pets please. \nLook for our exact location at the concert venue\, posted in the comments close to event time. \nLink to Conejo Recreation and Park District \nConejo Community Park\n1175 Hendrix Avenue\nThousand Oaks\, CA 91360 \nFAQ\nHiking Plus Page Links
URL:https://www.hikingwithdean.com/event/labor-day-picnic-and-concert-skynyrd-and-frynds-lynyrd-skynyrd-tribute/
LOCATION:Conejo Community Park (Hendrix)\, Hendrix Avenue 1175\, Thousand Oaks\, CA\, 91360\, United States
CATEGORIES:Hiking Plus
ATTACH;FMTTYPE=image/jpeg:https://hwdmedia.s3.us-west-1.amazonaws.com/wp-content/uploads/2025/07/23201602/119438_image_highres_529243000.jpeg
GEO:34.192949;-118.881847
X-APPLE-STRUCTURED-LOCATION;VALUE=URI;X-ADDRESS=Conejo Community Park (Hendrix) Hendrix Avenue 1175 Thousand Oaks CA 91360 United States;X-APPLE-RADIUS=500;X-TITLE=Hendrix Avenue 1175:geo:-118.881847,34.192949
END:VEVENT
BEGIN:VEVENT
DTSTART;TZID=America/Los_Angeles:20250614T080000
DTEND;TZID=America/Los_Angeles:20250615T110000
DTSTAMP:20260424T065929
CREATED:20250327T232835Z
LAST-MODIFIED:20250327T232835Z
UID:10003316-1749888000-1749985200@www.hikingwithdean.com
SUMMARY:Dry Lake via South Fork - Dry Lake to Peak optional
DESCRIPTION:San Gorgonio Mountain is the tallest peak in Southern California (11\,502 feet) We will be taking the South Fork Trail to Dry Lake. We will be camping near Dry Lake. Depending on weather conditions\, we might need mircro spikes or crampons. Possibly snow at higher elevation. So San Gorgonio Peak will be optional. \nMiles: 11.2 +/-miles\nDays: 2 days\, 1 nights\nElevation Gain/Loss: 2270’\nType of Trip: Backpacking\nDifficulty: Moderate/Strenuous\nLocation: San Gorgonio Wilderness \nThe South Fork Trailhead is on Jenks Lake Road\, 2.5 miles from Highway 38. The trail begins at the large paved parking lot on Jenks Lake Road. \nNO PLUS (1)\nMAP: South Fork to Dry Lake – All Trails \n**Please be prepared and know all of the required gear you’ll need for this backpacking trip. If you have any questions\, please post them on the thread or email me directly via Meetup. \nDISCLAIMER:\nHike at your own risk. Be responsible for yourself and your safety. Make good decisions. With any trip\, things can change\, reservations can get lost\, the unexpected can happen. A go-with-the-flow attitude is always a good thing\, and most importantly\, let’s all have fun! This is an intermediate hike. Make sure you are in good enough physical shape for the distance\, elevation changes\, and terrain. The hike leaders in this group aren’t professional hike leaders. By signing up for these events\, you agree not to hold the Meetup organizers responsible for whatever happens to you on these events. The hiking group does not certify the expertise of the organizers\, the event or assistant organizers (hike leaders) and…We are NOT responsible for any possible losses or injuries. \nWe reserve the right to deny or remove any members if they are deemed inappropriate for this trip.
URL:https://www.hikingwithdean.com/event/dry-lake-via-south-fork-dry-lake-to-peak-optional/
LOCATION:Conejo Community Park (Hendrix)\, Hendrix Avenue 1175\, Thousand Oaks\, CA\, 91360\, United States
CATEGORIES:San Diego Backpackers
ATTACH;FMTTYPE=image/webp:https://hwdmedia.s3.us-west-1.amazonaws.com/wp-content/uploads/2023/06/01160202/108806_image_676x380.webp
ORGANIZER;CN="San Diego Backpackers":MAILTO:San-Diego-Backpackers-list@meetup.com
GEO:34.192949;-118.881847
X-APPLE-STRUCTURED-LOCATION;VALUE=URI;X-ADDRESS=Conejo Community Park (Hendrix) Hendrix Avenue 1175 Thousand Oaks CA 91360 United States;X-APPLE-RADIUS=500;X-TITLE=Hendrix Avenue 1175:geo:-118.881847,34.192949
END:VEVENT
BEGIN:VEVENT
DTSTART;TZID=America/Los_Angeles:20250526T140000
DTEND;TZID=America/Los_Angeles:20250526T190000
DTSTAMP:20260424T065929
CREATED:20250323T033808Z
LAST-MODIFIED:20250323T033808Z
UID:10003306-1748268000-1748286000@www.hikingwithdean.com
SUMMARY:Memorial Day - Picnic and Concert - DSB (Journey Tribute)
DESCRIPTION:Picnic and Concert\nMany of us from this group will attend this event. We’ll start picnicing a few hours before the concert. \nBring food and drinks to share.\nIf your item requires utensils\, please supply them. \nPlease post in the comments\, if you can bring a table. \nBring blankets and lawn chairs. A variety of gourmet Food Trucks and Dessert Trucks will be on-site and available for purchase. \nPlease bring something to put on\, as it often gets cooler in the evening. \nConcert starts at 5:00p.\nDSB – Don’t Stop Believing is highly revered as the world’s greatest Journey tribute band!\nAbout the band – click here \nPark on the surrounding streets. Drop your stuff off at the park if you don’t want to carry it. \nNo pets please. \nLook for the exact location posted in the comments close to event time. \nLink to Conejo Recreation and Park District \nConejo Community Park\n1175 Hendrix Avenue\nThousand Oaks\, CA 91360 \nFAQ\nHiking Plus Page Links
URL:https://www.hikingwithdean.com/event/memorial-day-picnic-and-concert-dsb-journey-tribute/
LOCATION:Conejo Community Park (Hendrix)\, Hendrix Avenue 1175\, Thousand Oaks\, CA\, 91360\, United States
CATEGORIES:Hiking Plus
ATTACH;FMTTYPE=image/webp:https://hwdmedia.s3.us-west-1.amazonaws.com/wp-content/uploads/2025/03/22203808/117727_image_676x380.webp
GEO:34.192949;-118.881847
X-APPLE-STRUCTURED-LOCATION;VALUE=URI;X-ADDRESS=Conejo Community Park (Hendrix) Hendrix Avenue 1175 Thousand Oaks CA 91360 United States;X-APPLE-RADIUS=500;X-TITLE=Hendrix Avenue 1175:geo:-118.881847,34.192949
END:VEVENT
BEGIN:VEVENT
DTSTART;TZID=America/Los_Angeles:20250405T080000
DTEND;TZID=America/Los_Angeles:20250405T113000
DTSTAMP:20260424T065929
CREATED:20250330T012119Z
LAST-MODIFIED:20250330T012119Z
UID:10003321-1743840000-1743852600@www.hikingwithdean.com
SUMMARY:Coquina Mine Trail Loop - Marr Open Space/Simi Valley
DESCRIPTION:DESCRIPTION: This is a 6.3-mile trail loop near Simi Valley\, California. Generally considered a moderately challenging route\, it takes an average of 3 hours to complete. Most of the elevation gain occurs between miles 2-3\, some segments are very steep. This is partly on a fire road and trail. Our destination is an historic strip-mining operation that started in 1929 and ceased in 1935. Limestone was mined here for an extremely pure form of Calcium Carbonate (Calcite CaCO3). You’ll find abandoned mining equipment with large boulders of both Limestone and a lot of Fossils as we climb the last hill to the mine. The trail will end at the mining site with the largest mining equipment abandoned there. We’ll return on a loop path (see map below) to return to the trailhead. \nDETAILS:\n• Hike leader volunteer(s): Michele E\n• Meet: Las Llajas Trailhead at 7:45 am\, departure at 8:00 am sharp\n• Distance: Approximately 6.1 miles.\n• Elevation gain: Approximately 1\,053 feet.\n• Time: Approximately 3.5 hours hiking including a snack break.\n• Conditioning: You need to be in generally good physical condition.\n• Dogs: Dogs are welcome but must be on a leash.\n• Restrooms: None.\n• Adventure Pass: Not Required \nIMPORTANT NOTES: We’ll hike at a brisk pace and ask everyone to stay with the group for a friendly and safe outing. There are no expected stream crossings\, exposures\, bugs or other warnings. As always\, people may slip and fall\, encounter poison oak\, rattlesnakes\, etc. on this hike. This event may be cancelled due to inclement weather before or at the start of the hike. \nESSENTIAL GEAR:\n• Hiking boots and poles.\n• Clothing layers recommended.\n• Snacks and 2+ liters of water and electrolytes or salt tablets.\n• Hat and sunscreen. \nThe Ten Essentials of Hiking (link) \nTHIS HIKE RANKING: Level 3\, Intermediate (see chart below).\nPlease only sign up to attend hikes that are consistent with your ability. Based on your hiking during the last 90 days\, how would you score on the CHC Hike rating scale of one to five assuming a brisk pace? \nCHC HIKE RANKING SCALE: \n\nBeginner: 1-3 miles\, less than 500 feet elevation gain.\nBeginner/Intermediate: 1-7 miles\, less than 700 feet elevation gain.\nIntermediate: 5-10 miles\, 1000-2000 feet elevation gain.\nIntermediate/Advanced: 7-12 miles\, up to 3000 feet elevation gain.\nAdvanced: 10-17 miles\, 3000 feet or more elevation gain.\n\nTRAILHEAD LOCATION:\n5715 Evening Sky Drive\, Simi Valley\, CA (street parking)\nDriving Directions Link (Google Maps)\nWhat3Words Map Link \nThe trailhead is located on the northern side of Evening Sky Drive. Park on the northern side of the road\, and the trail parking is available along Evening Sky Drive\, primarily on the north side of the road as well. \nNAVIGATION & GEAR:\nWe highly recommend AllTrails apps be installed on your cell phones and/or you print a copy of the trail map so you can personally navigate the trail if you need to. \nView/Download Loop Trail (Import into AllTrails or Gaia as GPX Track) \nThe Community Hiking Club is a Non-Profit 501C3 organization. We rely on donations to continue sponsoring hikes like this. Please contribute by donating via: Cash contribution (at each hike)\, or via Zelle at 6617135610; or via Venmo at: @Heidi-Webber-5\nDISCLAIMER / RELEASE OF LIABILITY – IMPORTANT\, PLEASE READ BELOW IN ITS ENTIRETY:\nWhen you sign up for this event\, you are releasing Community Hiking Club from any liability or responsibility with your participation in this group activity. While safety is a priority for everyone in the group\, hiking can be inherently risky. By participating in any posted event\, you are assuming responsibility for your own safety and well-being. The Community Hiking Club (CHC) Meetup Group and its organizers and hike leaders are not trained leaders and we do not confirm the qualifications of any of its members to lead or participate in our events. All participants take full responsibility for their own actions. If you choose to sign up for any Community Hiking Club Meetup events\, you are releasing the Community Hiking Club Meetup Group and Hike Leaders from all liability in case of possible injuries or death as stated in paragraph 6.2 of the Meetup “Terms of Service” located on the bottom of the Meetup website. Your personal safety depends on your own judgment and experience. If you sign up for this hike\, you are verifying that this hike is within your abilities.
URL:https://www.hikingwithdean.com/event/coquina-mine-trail-loop-marr-open-space-simi-valley/
LOCATION:Conejo Community Park (Hendrix)\, Hendrix Avenue 1175\, Thousand Oaks\, CA\, 91360\, United States
CATEGORIES:Santa Clarita Community Hiking Club
ATTACH;FMTTYPE=image/webp:https://hwdmedia.s3.us-west-1.amazonaws.com/wp-content/uploads/2025/03/29182120/117816_image_676x380.webp
ORGANIZER;CN="Santa Clarita Community Hiking Club":MAILTO:Santa-Clarita-Community-Hiking-Club-Meetup-Group-list@meetup.com
GEO:34.192949;-118.881847
X-APPLE-STRUCTURED-LOCATION;VALUE=URI;X-ADDRESS=DESCRIPTION:DESCRIPTION: This is a 6.3-mile trail loop near Simi Valley California. Generally considered a moderately challenging route it takes an average of 3 hours to complete. Most of the elevation gain occurs between miles 2-3 some segments are very steep. This is partly on a fire road and trail. Our destination is an historic strip-mining operation that started in 1929 and ceased in 1935. Limestone was mined here for an extremely pure form of Calcium Carbonate (Calcite CaCO3). You’ll find abandoned mining equipment with large boulders of both Limestone and a lot of Fossils as we climb the last hill to the mine. The trail will end at the mining site with the largest mining equipment abandoned there. We’ll return on a loop path (see map below) to return to the trailhead. \nDETAILS:\n• Hike leader volunteer(s): Michele E\n• Meet: Las Llajas Trailhead at 7:45 am departure at 8:00 am sharp\n• Distance: Approximately 6.1 miles.\n• Elevation gain: Approximately 1053 feet.\n• Time: Approximately 3.5 hours hiking including a snack break.\n• Conditioning: You need to be in generally good physical condition.\n• Dogs: Dogs are welcome but must be on a leash.\n• Restrooms: None.\n• Adventure Pass: Not Required \nIMPORTANT NOTES: We’ll hike at a brisk pace and ask everyone to stay with the group for a friendly and safe outing. There are no expected stream crossings exposures bugs or other warnings. As always people may slip and fall encounter poison oak rattlesnakes etc. on this hike. This event may be cancelled due to inclement weather before or at the start of the hike. \nESSENTIAL GEAR:\n• Hiking boots and poles.\n• Clothing layers recommended.\n• Snacks and 2+ liters of water and electrolytes or salt tablets.\n• Hat and sunscreen. \nThe Ten Essentials of Hiking (link) \nTHIS HIKE RANKING: Level 3 Intermediate (see chart below).\nPlease only sign up to attend hikes that are consistent with your ability. Based on your hiking during the last 90 days how would you score on the CHC Hike rating scale of one to five assuming a brisk pace? \nCHC HIKE RANKING SCALE: \n\nBeginner: 1-3 miles less than 500 feet elevation gain.\nBeginner/Intermediate: 1-7 miles less than 700 feet elevation gain.\nIntermediate: 5-10 miles 1000-2000 feet elevation gain.\nIntermediate/Advanced: 7-12 miles up to 3000 feet elevation gain.\nAdvanced: 10-17 miles 3000 feet or more elevation gain.\n\nTRAILHEAD \n5715 Evening Sky Drive Simi Valley CA (street parking)\nDriving Directions Link (Google Maps)\nWhat3Words Map Link \nThe trailhead is located on the northern side of Evening Sky Drive. Park on the northern side of the road and the trail parking is available along Evening Sky Drive primarily on the north side of the road as well. \nNAVIGATION & GEAR:\nWe highly recommend AllTrails apps be installed on your cell phones and/or you print a copy of the trail map so you can personally navigate the trail if you need to. \nView/Download Loop Trail (Import into AllTrails or Gaia as GPX Track) \nThe Community Hiking Club is a Non-Profit 501C3 organization. We rely on donations to continue sponsoring hikes like this. Please contribute by donating via: Cash contribution (at each hike) or via Zelle at 6617135610; or via Venmo at: @Heidi-Webber-5\nDISCLAIMER / RELEASE OF LIABILITY – IMPORTANT PLEASE READ BELOW IN ITS ENTIRETY:\nWhen you sign up for this event you are releasing Community Hiking Club from any liability or responsibility with your participation in this group activity. While safety is a priority for everyone in the group hiking can be inherently risky. By participating in any posted event you are assuming responsibility for your own safety and well-being. The Community Hiking Club (CHC) Meetup Group and its organizers and hike leaders are not trained leaders and we do not confirm the qualifications of any of its members to lead or participate in our events. All participants take full responsibility for their own actions. If you choose to sign up for any Community Hiking Club Meetup events you are releasing the Community Hiking Club Meetup Group and Hike Leaders from all liability in case of possible injuries or death as stated in paragraph 6.2 of the Meetup “Terms of Service” located on the bottom of the Meetup website. Your personal safety depends on your own judgment and experience. If you sign up for this hike you are verifying that this hike is within your abilities.;X-APPLE-RADIUS=500;X-TITLE=Hendrix Avenue 1175:geo:-118.881847,34.192949
END:VEVENT
END:VCALENDAR