BEGIN:VCALENDAR
VERSION:2.0
PRODID:-//Hiking with Dean - ECPv6.15.20//NONSGML v1.0//EN
CALSCALE:GREGORIAN
METHOD:PUBLISH
X-WR-CALNAME:Hiking with Dean
X-ORIGINAL-URL:https://www.hikingwithdean.com
X-WR-CALDESC:Events for Hiking with Dean
REFRESH-INTERVAL;VALUE=DURATION:PT1H
X-Robots-Tag:noindex
X-PUBLISHED-TTL:PT1H
BEGIN:VTIMEZONE
TZID:America/Los_Angeles
BEGIN:DAYLIGHT
TZOFFSETFROM:-0800
TZOFFSETTO:-0700
TZNAME:PDT
DTSTART:20220313T100000
END:DAYLIGHT
BEGIN:STANDARD
TZOFFSETFROM:-0700
TZOFFSETTO:-0800
TZNAME:PST
DTSTART:20221106T090000
END:STANDARD
BEGIN:DAYLIGHT
TZOFFSETFROM:-0800
TZOFFSETTO:-0700
TZNAME:PDT
DTSTART:20230312T100000
END:DAYLIGHT
BEGIN:STANDARD
TZOFFSETFROM:-0700
TZOFFSETTO:-0800
TZNAME:PST
DTSTART:20231105T090000
END:STANDARD
BEGIN:DAYLIGHT
TZOFFSETFROM:-0800
TZOFFSETTO:-0700
TZNAME:PDT
DTSTART:20240310T100000
END:DAYLIGHT
BEGIN:STANDARD
TZOFFSETFROM:-0700
TZOFFSETTO:-0800
TZNAME:PST
DTSTART:20241103T090000
END:STANDARD
END:VTIMEZONE
BEGIN:VEVENT
DTSTART;TZID=America/Los_Angeles:20230812T073000
DTEND;TZID=America/Los_Angeles:20230812T113000
DTSTAMP:20260425T101535
CREATED:20230807T175227Z
LAST-MODIFIED:20230807T175227Z
UID:10001859-1691825400-1691839800@www.hikingwithdean.com
SUMMARY:Hike to Josephine Peak - San Gabriel Mountains
DESCRIPTION:Let’s do another awesome peak in the Angeles National Forest! \nThis hike will be to Josephine Peak. It is an out and back hike that will be about 8 miles and 1\,850 ft. of elevation gain. The peak has an elevation of 5\,558 ft. \nIt will be an easy hike to navigate. We take one trail all of the way to the top. There is not a lot of shade\, so sunscreen\, hat\, and shades are recommended! Along with water\, snacks\, maybe poles if you like them\, good boots… \nLink to Google Maps: Clear Creek Information Center Angeles Crest Hwy La Cañada Flintridge\, CA 91011 https://www.google.com/maps/place/Clear+Creek+Information+Center\,+Angeles+Crest+Hwy\,+La+Ca%C3%B1ada+Flintridge\,+CA+91011/@34.2694629\,-118.153166\,20z/data=!4m6!1m3!3m2!1s0x80c2e8d7457d6769:0xb911d0074ddf83c2!2sJosephine+Peak\,+California+93550!3m1!1s0x80c2e8e6accd87b1:0x108062b9b29aa263 \nThe parking lot is directly across the street from the Clear Creek Information Center. This is right where the Angeles Crest Highway meets the Angeles Forest Highway. \nDogs are allowed on this trail. \nFor parking\, this hike requires an Adventure Pass. You can purchase a day pass for $5 or an annual pass for $30. Here is a link to where you can purchase either the day/annual pass. (Please purchase beforehand\, as you cannot purchase it in the parking lot.) http://www.fs.usda.gov/detailfull/r5/passes-permits/recreation/?cid=stelprdb5181410&width=full \nPlease ask any questions you may have; I’ll do my best to answer them.
URL:https://www.hikingwithdean.com/event/hike-to-josephine-peak-san-gabriel-mountains-2/
LOCATION:Clear Creek Visitor Information Center\, Angeles Crest Hwy\, La Cañada Flintridge\, CA\, 91011\, US
CATEGORIES:Trail Mix
ATTACH;FMTTYPE=image/webp:https://hwdmedia.s3.us-west-1.amazonaws.com/wp-content/uploads/2023/08/07105228/109757_image_676x380.webp
ORGANIZER;CN="Trail Mix":MAILTO:Trail-Mix-185605806jlJwVcQL-list@meetup.com
GEO:34.2374497;-118.189106
X-APPLE-STRUCTURED-LOCATION;VALUE=URI;X-ADDRESS=Clear Creek Visitor Information Center Angeles Crest Hwy La Cañada Flintridge CA 91011 US;X-APPLE-RADIUS=500;X-TITLE=Angeles Crest Hwy:geo:-118.189106,34.2374497
END:VEVENT
BEGIN:VEVENT
DTSTART;TZID=America/Los_Angeles:20230513T080000
DTEND;TZID=America/Los_Angeles:20230513T120000
DTSTAMP:20260425T101535
CREATED:20230506T175252Z
LAST-MODIFIED:20230506T175252Z
UID:10001630-1683964800-1683979200@www.hikingwithdean.com
SUMMARY:Hike to Josephine Peak - San Gabriel Mountains
DESCRIPTION:Let’s do another awesome peak in the Angeles National Forest! \nThis hike will be to Josephine Peak. It is an out and back hike that will be about 8 miles and 1\,850 ft. of elevation gain. The peak has an elevation of 5\,558 ft. \nIt will be an easy hike to navigate. We take one trail all of the way to the top. There is not a lot of shade\, so sunscreen\, hat\, and shades are recommended! Along with water\, snacks\, maybe poles if you like them\, good boots… \nLink to Google Maps: Clear Creek Information Center Angeles Crest Hwy La Cañada Flintridge\, CA 91011 https://www.google.com/maps/place/Clear+Creek+Information+Center\,+Angeles+Crest+Hwy\,+La+Ca%C3%B1ada+Flintridge\,+CA+91011/@34.2694629\,-118.153166\,20z/data=!4m6!1m3!3m2!1s0x80c2e8d7457d6769:0xb911d0074ddf83c2!2sJosephine+Peak\,+California+93550!3m1!1s0x80c2e8e6accd87b1:0x108062b9b29aa263 \nThe parking lot is directly across the street from the Clear Creek Information Center. This is right where the Angeles Crest Highway meets the Angeles Forest Highway. \nDogs are allowed on this trail. \nFor parking\, this hike requires an Adventure Pass. You can purchase a day pass for $5 or an annual pass for $30. Here is a link to where you can purchase either the day/annual pass. (Please purchase beforehand\, as you cannot purchase it in the parking lot.) http://www.fs.usda.gov/detailfull/r5/passes-permits/recreation/?cid=stelprdb5181410&width=full \nPlease ask any questions you may have; I’ll do my best to answer them.
URL:https://www.hikingwithdean.com/event/hike-to-josephine-peak-san-gabriel-mountains/
LOCATION:Clear Creek Visitor Information Center\, Angeles Crest Hwy\, La Cañada Flintridge\, CA\, 91011\, US
CATEGORIES:Trail Mix
ATTACH;FMTTYPE=image/webp:https://hwdmedia.s3.us-west-1.amazonaws.com/wp-content/uploads/2022/09/03112411/105183_image_676x380.webp
ORGANIZER;CN="Trail Mix":MAILTO:Trail-Mix-185605806jlJwVcQL-list@meetup.com
GEO:34.2374497;-118.189106
X-APPLE-STRUCTURED-LOCATION;VALUE=URI;X-ADDRESS=Clear Creek Visitor Information Center Angeles Crest Hwy La Cañada Flintridge CA 91011 US;X-APPLE-RADIUS=500;X-TITLE=Angeles Crest Hwy:geo:-118.189106,34.2374497
END:VEVENT
END:VCALENDAR