BEGIN:VCALENDAR
VERSION:2.0
PRODID:-//Hiking with Dean - ECPv6.15.20//NONSGML v1.0//EN
CALSCALE:GREGORIAN
METHOD:PUBLISH
X-ORIGINAL-URL:https://www.hikingwithdean.com
X-WR-CALDESC:Events for Hiking with Dean
REFRESH-INTERVAL;VALUE=DURATION:PT1H
X-Robots-Tag:noindex
X-PUBLISHED-TTL:PT1H
BEGIN:VTIMEZONE
TZID:America/Los_Angeles
BEGIN:DAYLIGHT
TZOFFSETFROM:-0800
TZOFFSETTO:-0700
TZNAME:PDT
DTSTART:20220313T100000
END:DAYLIGHT
BEGIN:STANDARD
TZOFFSETFROM:-0700
TZOFFSETTO:-0800
TZNAME:PST
DTSTART:20221106T090000
END:STANDARD
BEGIN:DAYLIGHT
TZOFFSETFROM:-0800
TZOFFSETTO:-0700
TZNAME:PDT
DTSTART:20230312T100000
END:DAYLIGHT
BEGIN:STANDARD
TZOFFSETFROM:-0700
TZOFFSETTO:-0800
TZNAME:PST
DTSTART:20231105T090000
END:STANDARD
BEGIN:DAYLIGHT
TZOFFSETFROM:-0800
TZOFFSETTO:-0700
TZNAME:PDT
DTSTART:20240310T100000
END:DAYLIGHT
BEGIN:STANDARD
TZOFFSETFROM:-0700
TZOFFSETTO:-0800
TZNAME:PST
DTSTART:20241103T090000
END:STANDARD
END:VTIMEZONE
BEGIN:VEVENT
DTSTART;TZID=America/Los_Angeles:20230606T083000
DTEND;TZID=America/Los_Angeles:20230606T103000
DTSTAMP:20260419T174524
CREATED:20230604T164148Z
LAST-MODIFIED:20230604T164148Z
UID:10001705-1686040200-1686047400@www.hikingwithdean.com
SUMMARY:Challenger Park Trail ~ Gentler Intermediate
DESCRIPTION:Challenger park offers miles of trails connecting to Long Canyon\, Oak Canyon\, Trough Canyon\, Lone Oak Canyon\, and other adjoining open-space nature areas in the southern section of the Simi Valley. The scenery lining the trails includes extensive oak woodlands\, chaparral\, and coastal sage scrub. The terrain varies greatly with rolling green hills and steep mountainous hills and canyons. \nI hiked this trail Saturday morning to check out the trail and there are still a few wildflowers left and the colorful bushes are lovely. \nhttps://www.alltrails.com/explore/recording/challenger-park-6-3-23-5463b51 \nIt is 5.2 miles with about a 900 ft elevation gain/loss. \nDirections: \nFrom Highway 23\, take the Olsen Road exit and go northeast for 1.9 miles to Wood Ranch Parkway. (Olsen becomes Madera Road). Turn right on Wood Ranch Parkway and go 1.9 miles to the junction with Long Canyon Road. Turn left onto Long Canyon Road and go 1.7 miles. Challenger Park will be on the right. \nFrom Simi Valley: From Highway118\, take the First St. exit and go south (turn right if you’re coming from the west\, left if from the east) for 2.8 miles. Turn left into the parking lot signed for Challenger Park (just past the intersection with Stonebrook. \nAs you enter the park road\, a horse arena is on the left. \nBE CAREFUL OF HIGH SPEED BUMPS! GO SLOW! \nPLEASE READ BELOW IN ITS ENTIRETY\nPlease review the guidelines (link to the guidelines) to join our hikes.\nRestrictions apply for your safety and ours: \n\nDon’t show up unless you’re shown on the “Attending” list.\nPlan on KEEPING UP with the group (2.5MILES/HR+) and completing the entire hike at a moderate pace\, or please find an alternative hike that better suits your hiking level.\nYour safety is your own personal responsibility\, but the hike leader reserves the right to ask you to leave if you come unprepared.\nNo “Plus Ones” or dogs on Weekday Trailblazer hikes.\n\nDISCLAIMER / RELEASE OF LIABILITY\nThe hike host is a volunteer and not responsible for the group. Safety should be a priority for everyone in the group. Please treat this meet-up as hiking with a group of friends. If you become fatigued and unable to continue the hike\, it is expected you will advise the hike host of this and return to our starting point on your own. If you are able to proceed\, it is expected that you will maintain line of sight with other members of the group at all times and help to promote the group’s safety and fitness goals.\nOutdoor sports and other events we plan can be inherently dangerous and accidents may happen. By participating in any posted event\, you are taking responsibility for your own safety and well-being. The Weekday Trailblazers Meetup Group and its organizers are not trained leaders and we do not confirm the qualifications of any of its members to lead or participate in trips. All participants take full responsibility for their own actions.\nIf you choose to sign up for this or any Weekday Trailblazers Meetup event\, you are releasing the Weekday Trailblazers Meetup Group and its organizers from all liability in case of possible injuries. Your personal safety depends on your own judgment and experience.\nAll participants must be 18 or older\, or accompanied by a parent or legal guardian.
URL:https://www.hikingwithdean.com/event/challenger-park-trail-gentler-intermediate/
LOCATION:Challenger Park Road\, Challenger Park Rd\, Simi Valley\, CA\, 93065\, US
CATEGORIES:Weekday Trailblazers
ATTACH;FMTTYPE=image/webp:https://hwdmedia.s3.us-west-1.amazonaws.com/wp-content/uploads/2023/06/04094149/108839_image_676x380.webp
ORGANIZER;CN="The Weekday Trailblazers":MAILTO:The-Weekday-Trailblazers-list@meetup.com
GEO:34.2415615;-118.7797996
X-APPLE-STRUCTURED-LOCATION;VALUE=URI;X-ADDRESS=Challenger Park Road Challenger Park Rd Simi Valley CA 93065 US;X-APPLE-RADIUS=500;X-TITLE=Challenger Park Rd:geo:-118.7797996,34.2415615
END:VEVENT
END:VCALENDAR