BEGIN:VCALENDAR
VERSION:2.0
PRODID:-//Hiking with Dean - ECPv6.15.20//NONSGML v1.0//EN
CALSCALE:GREGORIAN
METHOD:PUBLISH
X-WR-CALNAME:Hiking with Dean
X-ORIGINAL-URL:https://www.hikingwithdean.com
X-WR-CALDESC:Events for Hiking with Dean
REFRESH-INTERVAL;VALUE=DURATION:PT1H
X-Robots-Tag:noindex
X-PUBLISHED-TTL:PT1H
BEGIN:VTIMEZONE
TZID:America/Los_Angeles
BEGIN:DAYLIGHT
TZOFFSETFROM:-0800
TZOFFSETTO:-0700
TZNAME:PDT
DTSTART:20230312T100000
END:DAYLIGHT
BEGIN:STANDARD
TZOFFSETFROM:-0700
TZOFFSETTO:-0800
TZNAME:PST
DTSTART:20231105T090000
END:STANDARD
BEGIN:DAYLIGHT
TZOFFSETFROM:-0800
TZOFFSETTO:-0700
TZNAME:PDT
DTSTART:20240310T100000
END:DAYLIGHT
BEGIN:STANDARD
TZOFFSETFROM:-0700
TZOFFSETTO:-0800
TZNAME:PST
DTSTART:20241103T090000
END:STANDARD
BEGIN:DAYLIGHT
TZOFFSETFROM:-0800
TZOFFSETTO:-0700
TZNAME:PDT
DTSTART:20250309T100000
END:DAYLIGHT
BEGIN:STANDARD
TZOFFSETFROM:-0700
TZOFFSETTO:-0800
TZNAME:PST
DTSTART:20251102T090000
END:STANDARD
END:VTIMEZONE
BEGIN:VEVENT
DTSTART;TZID=America/Los_Angeles:20240824T080000
DTEND;TZID=America/Los_Angeles:20240824T130000
DTSTAMP:20260424T201411
CREATED:20240721T010454Z
LAST-MODIFIED:20240721T010454Z
UID:10002747-1724486400-1724504400@www.hikingwithdean.com
SUMMARY:Ray Miller Backbone Trail to Overlook Trail and La Jolla Camp
DESCRIPTION:DESCRIPTION: We start at sea level at the back of the La Jolla Canyon Group Camping Parking Area to head up the Ray Miller Backbone Trail. The trail winds back and forth across the hillside providing spectacular views of the Pacific Coast Highway and the Pacific Ocean. We climb almost 1000′ in the first 2.7 miles then it levels off for 1.9 miles as we traverse the ridge\, joining the Overlook trail\, revealing great views into Sycamore Canyon and the Boney Mountain range off to the Southeast. The final 0.7 miles is a gradual descent along the Loop trail into the valley below\, turning into the La Jolla Valley walk-in campground. Here we take a break and grab a snack before our return to the trailhead along the same route. \nDETAILS: \n\nHike leader volunteer(s): Tim R.\nMeet: Ray Miller Trailhead in La Jolla Canyon parking lot (across from La Jolla beach) at 7:45 am\, departure at 8:00 am sharp (Aug 24).\nDistance: Approximately 10.67 miles.\nElevation gain: Approximately 1\,719 feet.\nTime: Approximately 5 hours hiking including a snack break.\nConditioning: You need to be in generally good physical condition.\nDogs: No dogs are allowed.\nRestrooms: There are bathrooms at the trailhead.\nAdventure Pass: Not Required.\n\nIMPORTANT NOTES: We’ll hike at a brisk pace and ask everyone to stay with the group for a friendly and safe outing. There are no expected stream crossings\, exposures\, bugs or other warnings. As always\, people may slip and fall\, encounter poison oak\, snakes\, etc. on this hike. This event may be cancelled due to inclement weather before or at the start of the hike. Check the weather report and plan accordingly. \nESSENTIAL GEAR:\nHiking boots and poles. Clothing layers recommended. Snacks and 2+ liters of water and electrolytes or salt tablets. Hat and sunscreen. \nThe Ten Essentials of Hiking (link) \nTHIS HIKE RANKING: Level 3\, Intermediate (see chart below).\nPlease only sign up to attend hikes that are consistent with your ability. Based on your hiking during the last 90 days\, how would you score on the CHC Hike rating scale of one to five assuming a brisk pace? \nCHC HIKE RANKING SCALE:\n1. Beginner: 1-3 miles\, less than 500 feet elevation gain.\n2. Beginner/Intermediate: 1-7 miles\, less than 700 feet elevation gain.\n3. Intermediate: 5-10 miles\, 1000-2000 feet elevation gain.\n4. Intermediate/Advanced: 7-12 miles\, up to 3000 feet elevation gain.\n5. Advanced: 10-17 miles\, 3000 feet or more elevation gain. \nTRAILHEAD LOCATION:\nRay Miller Trailhead in La Jolla Canyon parking lot\n(across from La Jolla Beach\, Malibu\, CA) \nDriving Directions (link) \nThere are two parking options: Park in the La Jolla Canyon Parking lot and pay a $12/ day fee with a credit card to a machine in the lot. Alternatively\, you may be able to find free parking out on the PCH\, on either side of the entrance. \nNAVIGATION:\nWe highly recommend the AllTrails app be installed on your cell phones and/or you print a copy of the trail map so you can personally navigate the trail if you need to. \nGPS Trail Map (link) \nThe Community Hiking Club is a Non-Profit 501C3 organization. We rely on donations to continue sponsoring hikes like this. Please contribute by donating via: Cash contribution (at each hike)\, or via Zelle at 6617135610; or via Venmo at: @Heidi-Webber-5 \nDISCLAIMER / RELEASE OF LIABILITY – IMPORTANT\, PLEASE READ BELOW IN ITS ENTIRETY:\nWhen you sign up for this event\, you are releasing Community Hiking Club from any liability or responsibility with your participation in this group activity. While safety is a priority for everyone in the group\, hiking can be inherently risky. By participating in any posted event\, you are assuming responsibility for your own safety and well-being. The Community Hiking Club (CHC) Meetup Group and its organizers and hike leaders are not trained leaders and we do not confirm the qualifications of any of its members to lead or participate in our events. All participants take full responsibility for their own actions. If you choose to sign up for any Community Hiking Club Meetup events\, you are releasing the Community Hiking Club Meetup Group and Hike Leaders from all liability in case of possible injuries or death as stated in paragraph 6.2 of the Meetup “Terms of Service” located on the bottom of the Meetup website. Your personal safety depends on your own judgment and experience. If you sign up for this hike\, you are verifying that this hike is within your abilities.
URL:https://www.hikingwithdean.com/event/ray-miller-backbone-trail-to-overlook-trail-and-la-jolla-camp/
LOCATION:BBT – Kanan Dume Rd\, Kanan Dume Road\, Malibu\, CA\, 90265\, United States
CATEGORIES:Santa Clarita Community Hiking Club
ATTACH;FMTTYPE=image/webp:https://hwdmedia.s3.us-west-1.amazonaws.com/wp-content/uploads/2024/07/20180456/114673_image_676x380.webp
ORGANIZER;CN="Santa Clarita Community Hiking Club":MAILTO:Santa-Clarita-Community-Hiking-Club-Meetup-Group-list@meetup.com
GEO:34.0757261;-118.8151914
X-APPLE-STRUCTURED-LOCATION;VALUE=URI;X-ADDRESS=DESCRIPTION:DESCRIPTION: We start at sea level at the back of the La Jolla Canyon Group Camping Parking Area to head up the Ray Miller Backbone Trail. The trail winds back and forth across the hillside providing spectacular views of the Pacific Coast Highway and the Pacific Ocean. We climb almost 1000′ in the first 2.7 miles then it levels off for 1.9 miles as we traverse the ridge joining the Overlook trail revealing great views into Sycamore Canyon and the Boney Mountain range off to the Southeast. The final 0.7 miles is a gradual descent along the Loop trail into the valley below turning into the La Jolla Valley walk-in campground. Here we take a break and grab a snack before our return to the trailhead along the same route. \nDETAILS: \n\nHike leader volunteer(s): Tim R.\nMeet: Ray Miller Trailhead in La Jolla Canyon parking lot (across from La Jolla beach) at 7:45 am departure at 8:00 am sharp (Aug 24).\nDistance: Approximately 10.67 miles.\nElevation gain: Approximately 1719 feet.\nTime: Approximately 5 hours hiking including a snack break.\nConditioning: You need to be in generally good physical condition.\nDogs: No dogs are allowed.\nRestrooms: There are bathrooms at the trailhead.\nAdventure Pass: Not Required.\n\nIMPORTANT NOTES: We’ll hike at a brisk pace and ask everyone to stay with the group for a friendly and safe outing. There are no expected stream crossings exposures bugs or other warnings. As always people may slip and fall encounter poison oak snakes etc. on this hike. This event may be cancelled due to inclement weather before or at the start of the hike. Check the weather report and plan accordingly. \nESSENTIAL GEAR:\nHiking boots and poles. Clothing layers recommended. Snacks and 2+ liters of water and electrolytes or salt tablets. Hat and sunscreen. \nThe Ten Essentials of Hiking (link) \nTHIS HIKE RANKING: Level 3 Intermediate (see chart below).\nPlease only sign up to attend hikes that are consistent with your ability. Based on your hiking during the last 90 days how would you score on the CHC Hike rating scale of one to five assuming a brisk pace? \nCHC HIKE RANKING SCALE:\n1. Beginner: 1-3 miles less than 500 feet elevation gain.\n2. Beginner/Intermediate: 1-7 miles less than 700 feet elevation gain.\n3. Intermediate: 5-10 miles 1000-2000 feet elevation gain.\n4. Intermediate/Advanced: 7-12 miles up to 3000 feet elevation gain.\n5. Advanced: 10-17 miles 3000 feet or more elevation gain. \nTRAILHEAD \nRay Miller Trailhead in La Jolla Canyon parking lot\n(across from La Jolla Beach Malibu CA) \nDriving Directions (link) \nThere are two parking options: Park in the La Jolla Canyon Parking lot and pay a $12/ day fee with a credit card to a machine in the lot. Alternatively you may be able to find free parking out on the PCH on either side of the entrance. \nNAVIGATION:\nWe highly recommend the AllTrails app be installed on your cell phones and/or you print a copy of the trail map so you can personally navigate the trail if you need to. \nGPS Trail Map (link) \nThe Community Hiking Club is a Non-Profit 501C3 organization. We rely on donations to continue sponsoring hikes like this. Please contribute by donating via: Cash contribution (at each hike) or via Zelle at 6617135610; or via Venmo at: @Heidi-Webber-5 \nDISCLAIMER / RELEASE OF LIABILITY – IMPORTANT PLEASE READ BELOW IN ITS ENTIRETY:\nWhen you sign up for this event you are releasing Community Hiking Club from any liability or responsibility with your participation in this group activity. While safety is a priority for everyone in the group hiking can be inherently risky. By participating in any posted event you are assuming responsibility for your own safety and well-being. The Community Hiking Club (CHC) Meetup Group and its organizers and hike leaders are not trained leaders and we do not confirm the qualifications of any of its members to lead or participate in our events. All participants take full responsibility for their own actions. If you choose to sign up for any Community Hiking Club Meetup events you are releasing the Community Hiking Club Meetup Group and Hike Leaders from all liability in case of possible injuries or death as stated in paragraph 6.2 of the Meetup “Terms of Service” located on the bottom of the Meetup website. Your personal safety depends on your own judgment and experience. If you sign up for this hike you are verifying that this hike is within your abilities.;X-APPLE-RADIUS=500;X-TITLE=Kanan Dume Road:geo:-118.8151914,34.0757261
END:VEVENT
BEGIN:VEVENT
DTSTART;TZID=America/Los_Angeles:20240724T173000
DTEND;TZID=America/Los_Angeles:20240724T193000
DTSTAMP:20260424T201411
CREATED:20240720T164145Z
LAST-MODIFIED:20240720T164145Z
UID:10002745-1721842200-1721849400@www.hikingwithdean.com
SUMMARY:Kanan Dume Almost to Castro Peak OAB
DESCRIPTION:Will keep an eye on the temperature. If it is expected to be above 90 at the time of the hike\, I will cancel it. \nAs this is an Out and Back slower paced hikers can go as far as Latigo Canyon and turn around for a total of 4.6 miles\, or we can pick them up on the way back. \nOur Out And Back (OAB) hike will take us on a less-traveled but quite beautiful part of the 60-mile Backbone Trail\, which runs through the Santa Monica Mountains National Recreation Area from Will Rogers State Park in the east to Point Mugu in the west. \nThe route begins at Kanan Dume Road and goes southerly a short distance\, allowing us to cross over the southernmost tunnel (Tunnel 1) above Kanan Dume Road. We then proceed easterly roughly 3 1/2 miles and up 1250 feet\, gradually winding our way up and through Latigo Canyon\, crossing Latigo Canyon Road\, and then ending at a saddle south of Castro Peak with spectacular Pacific views. \nhttp://photos1.meetupstatic.com/photos/event/3/8/0/6/event_101654342.jpeg \nThe terrain is a mix of single and double-file trail. The majority of our out and back hike is wooded and shaded canyon trails\, offering periodic glimpses of the Pacific\, but the route eventually gives way to open hillsides and ridgelines\, and an open area over the Pacific. \nThe total distance for this hike will be approximately 7 miles with 1550 feet of elevation gain. \nNo “Plus Ones” allowed. \nNo dogs allowed on the hike. \nDirections: \nFrom the 101 – exit at the Kanan Road exit and drive south (toward the ocean) 7.8 miles\, going through two of the three tunnels on this road (which changes name to Kanan Dume Road). Turn right into the “Backbone Trail” parking area\, just before entering the third tunnel. \nFrom PCH – turn up South Kanan Dume Road. Drive 4.4 miles from PCH\, going through one tunnel\, and then turn left into the “Backbone Trail” parking area\, almost immediately after coming out of the tunnel. Free parking is available at the trailhead. \nDISCLAIMER / RELEASE OF LIABILITY \nIMPORTANT\, PLEASE READ BELOW IN ITS ENTIRETY: \nThe hike host is a volunteer and not responsible for the group. Safety should be a priority for everyone in the group. Please treat this meet-up as hiking with a group of friends. If you become fatigued and unable to continue the hike\, it is expected you will advise the hike host of this and return to our starting point on your own. If you are able to proceed\, it is expected that you will maintain line of sight with other members of the group at all times and help to promote the group’s safety and fitness goals. \nOutdoor sports and other events we plan can be inherently dangerous and accidents may happen. By participating in any posted event\, you are taking responsibility for your own safety and well-being. The Weekday Trailblazers Meetup Group and its organizers are not trained leaders and we do not confirm the qualifications of any of its members to lead or participate in trips. All participants take full responsibility for their own actions. \nIf you choose to sign up for this or any Weekday Trailblazers Meetup event\, you are releasing the Weekday Trailblazers Meetup Group and its organizers from all liability in case of possible injuries. Your personal safety depends on your own judgment and experience. \nAll participants must be 18 or older\, or accompanied by a parent or legal guardian. \nHope to see you there. \nLinda\n818-523-8719
URL:https://www.hikingwithdean.com/event/kanan-dume-almost-to-castro-peak-oab-2/
LOCATION:BBT – Kanan Dume Rd\, Kanan Dume Road\, Malibu\, CA\, 90265\, United States
CATEGORIES:Weekday Trailblazers
ATTACH;FMTTYPE=image/webp:https://hwdmedia.s3.us-west-1.amazonaws.com/wp-content/uploads/2023/03/26094204/107686_image_676x380.webp
ORGANIZER;CN="The Weekday Trailblazers":MAILTO:The-Weekday-Trailblazers-list@meetup.com
GEO:34.0757261;-118.8151914
X-APPLE-STRUCTURED-LOCATION;VALUE=URI;X-ADDRESS=BBT – Kanan Dume Rd Kanan Dume Road Malibu CA 90265 United States;X-APPLE-RADIUS=500;X-TITLE=Kanan Dume Road:geo:-118.8151914,34.0757261
END:VEVENT
END:VCALENDAR