BEGIN:VCALENDAR
VERSION:2.0
PRODID:-//Hiking with Dean - ECPv6.15.20//NONSGML v1.0//EN
CALSCALE:GREGORIAN
METHOD:PUBLISH
X-ORIGINAL-URL:https://www.hikingwithdean.com
X-WR-CALDESC:Events for Hiking with Dean
REFRESH-INTERVAL;VALUE=DURATION:PT1H
X-Robots-Tag:noindex
X-PUBLISHED-TTL:PT1H
BEGIN:VTIMEZONE
TZID:America/Los_Angeles
BEGIN:DAYLIGHT
TZOFFSETFROM:-0800
TZOFFSETTO:-0700
TZNAME:PDT
DTSTART:20220313T100000
END:DAYLIGHT
BEGIN:STANDARD
TZOFFSETFROM:-0700
TZOFFSETTO:-0800
TZNAME:PST
DTSTART:20221106T090000
END:STANDARD
BEGIN:DAYLIGHT
TZOFFSETFROM:-0800
TZOFFSETTO:-0700
TZNAME:PDT
DTSTART:20230312T100000
END:DAYLIGHT
BEGIN:STANDARD
TZOFFSETFROM:-0700
TZOFFSETTO:-0800
TZNAME:PST
DTSTART:20231105T090000
END:STANDARD
BEGIN:DAYLIGHT
TZOFFSETFROM:-0800
TZOFFSETTO:-0700
TZNAME:PDT
DTSTART:20240310T100000
END:DAYLIGHT
BEGIN:STANDARD
TZOFFSETFROM:-0700
TZOFFSETTO:-0800
TZNAME:PST
DTSTART:20241103T090000
END:STANDARD
BEGIN:DAYLIGHT
TZOFFSETFROM:-0800
TZOFFSETTO:-0700
TZNAME:PDT
DTSTART:20250309T100000
END:DAYLIGHT
BEGIN:STANDARD
TZOFFSETFROM:-0700
TZOFFSETTO:-0800
TZNAME:PST
DTSTART:20251102T090000
END:STANDARD
END:VTIMEZONE
BEGIN:VEVENT
DTSTART;TZID=America/Los_Angeles:20241218T100000
DTEND;TZID=America/Los_Angeles:20241219T130000
DTSTAMP:20260422T125438
CREATED:20241208T000710Z
LAST-MODIFIED:20241208T000710Z
UID:10003073-1734516000-1734613200@www.hikingwithdean.com
SUMMARY:Overnight backpacking trip to Whale Peak in Anza Borrego
DESCRIPTION:This is an Intermediate level trip due to some off-trail scrambling up Smugglers Canyon and the fact that it is overnight dry camping (all water for the trip must be carried). \nAt 10:00 am (12/18)\, we will meet up at the Pictographs Trailhead (search “Anza Borrego Pictographs Trailhead” in Google Maps). \nThe backpacking route can be found on All Trails at https://www.alltrails.com/trail/us/california/whale-peak-via-pictograph-smuggler-s-canyon-trail \nWe will camp on top of Whale Peak for a beautiful view of the sunset and sunrise before heading back to the cars (12/19). There will be no water source available from the time we leave the cars to the time we return to the cars so you must carry all the water you will need. (Recommended at least 4 liters of water.)
URL:https://www.hikingwithdean.com/event/overnight-backpacking-trip-to-whale-peak-in-anza-borrego/
LOCATION:Anza-Borrego Desert State Park\, East of\, San Diego\, CA\, US
CATEGORIES:San Diego Backpackers
ATTACH;FMTTYPE=image/webp:https://hwdmedia.s3.us-west-1.amazonaws.com/wp-content/uploads/2023/02/24182531/107062_image_676x380.webp
ORGANIZER;CN="San Diego Backpackers":MAILTO:San-Diego-Backpackers-list@meetup.com
GEO:32.7945917;-116.9625816
X-APPLE-STRUCTURED-LOCATION;VALUE=URI;X-ADDRESS=Anza-Borrego Desert State Park East of San Diego CA US;X-APPLE-RADIUS=500;X-TITLE=East of:geo:-116.9625816,32.7945917
END:VEVENT
BEGIN:VEVENT
DTSTART;TZID=America/Los_Angeles:20241116T120000
DTEND;TZID=America/Los_Angeles:20241117T120000
DTSTAMP:20260422T125438
CREATED:20240811T230201Z
LAST-MODIFIED:20240811T230201Z
UID:10002804-1731758400-1731844800@www.hikingwithdean.com
SUMMARY:ANZA-BORREGO: Friendsgiving Holiday Meal & Car Camp
DESCRIPTION:Please join us to share a meal in our beautiful desert. 🌙 \nAnza-Borrego Desert State Park\nBow Willow Campground\n200 Palm Canyon Drive\, Borrego Springs\, CA 92004\n32.84175968\, -116.22494267\nNovember 16-17 \nBegin meal set-up at 3:00PM\, sunset at 4:40PM\nPlease bring a dish to share\, a table if you’ve got it\, and wood to burn.\nWe’ll join tables for our shared meal.\nPlease bring your own drinking vessel\, plate\, and eating utensil.\nClick here to add a dish to the potluck. \nAbout Bow Willow:\nEasy to get to.\nFirst come\, first served.\nElevation = 930′\nWater\, vault toilets\, picnic tables\, shade ramadas\, and fire rings.\n$20 per site\, 16 sites available.\nPlease bring cash.\nMaximum of 8 people to share 1 site.\n(If for some reason there is not enough space to accommodate our group\, Plan B = Mountain Palm Springs Primitive Campground only 3.5 miles away.) \nHistory of Bow Willow:\nBow Willow itself is on the site of an ancient seasonal Kumeyaay village. Kumeyaay people have inhabited the region for over 10\,000 years.\nMorteros can be viewed in the granite boulders at the West end of the camp. \nHiking around Bow Willow:\nBow Willow to Rockhouse\nThe first settlers of this area established cow camps around the 1890s. A cattleman built a rockhouse in 1933 within large boulders nearby. A trough for livestock can be found East of the rockhouse.\nThe loop is 7.5 miles\nBow Willow to Tree Groves\nThere are many groves near Bow Willow including the largest groves in the park. The Torote Bowl has 15 large Small-Leaf Elephant Trees (Torote).\n1.2 miles to Torote (one way).\nThere are other groves nearby to create a loop of 4 miles. These groves house California Fan Palms\, evidence of a wetter past.\n“The ancient Colorado River used to flow nearby. The area was a lush savannah. Zebras\, cheetahs\, camels\, mastodons\, sabertoothed cats\, horses\, and ancient dogs roamed the savannah. As the mountains rose\, the climate changed\, most of the animals died out. Only a few water-loving species remain like the California Fan Palm.” -From Anza-Borrego Desert Region\, Lowell & Lindsay. \nPlease join us in this beautiful\, historic place where we can share thanks over a meal and a fire. \n\nBy participating in this event\, you acknowledge you are ultimately responsible for yourself and your safety while engaging in this activity and event. \nDISCLAIMER: Hike at your own risk. Be responsible for yourself and your safety. Make good decisions. With any trip\, things can change\, reservations can get lost\, the unexpected can happen. A go-with-the-flow attitude is always a good thing\, and most importantly\, let’s all have fun! This is a beginner backpacking event. Make sure you are in good enough physical shape for the distance\, elevation changes\, and terrain. The hike leaders in this group aren’t professional hike leaders. By signing up for these events\, you agree not to hold the Meetup organizers responsible for whatever happens to you on these events. The hiking group does not certify the expertise of the organizers\, the event or assistant organizers (hike leaders) and… We are NOT responsible for any possible losses or injuries.
URL:https://www.hikingwithdean.com/event/anza-borrego-friendsgiving-holiday-meal-car-camp/
LOCATION:Anza-Borrego Desert State Park\, East of\, San Diego\, CA\, US
CATEGORIES:San Diego Backpackers
ATTACH;FMTTYPE=image/webp:https://hwdmedia.s3.us-west-1.amazonaws.com/wp-content/uploads/2024/08/11160202/114966_image_676x380.webp
ORGANIZER;CN="San Diego Backpackers":MAILTO:San-Diego-Backpackers-list@meetup.com
GEO:32.7945917;-116.9625816
X-APPLE-STRUCTURED-LOCATION;VALUE=URI;X-ADDRESS=Anza-Borrego Desert State Park East of San Diego CA US;X-APPLE-RADIUS=500;X-TITLE=East of:geo:-116.9625816,32.7945917
END:VEVENT
BEGIN:VEVENT
DTSTART;TZID=America/Los_Angeles:20231111T080000
DTEND;TZID=America/Los_Angeles:20231112T160000
DTSTAMP:20260422T125438
CREATED:20231026T230236Z
LAST-MODIFIED:20231026T230236Z
UID:10002054-1699689600-1699804800@www.hikingwithdean.com
SUMMARY:Joshua Tree - Boy Scout Trail to Smith Water Canyon
DESCRIPTION:Desert season is here! I haven’t been on either of these trails but I did the Joshua Tree section of the California Riding and Hiking Trail last year and I’d like to explore more of the park. \nSmith Water Canyon is a cross country route (NO TRAIL) with scrambles up dry falls. \nRoute requires a car shuttle. \nGAIA Route Link\nWeather \nDay 0 (Friday)\nStash water near Quail Springs.\nI’ll probably camp somewhere nearby. \nDay 1 (Saturday) 10.6mi 2200ft\nBoy Scout Trail to Quail Wash\nPick up stashed water. \nDay 2 (Sunday) 7.6mi 1200ft\nUp Smith Water Canyon to Upper Covington Flat \nDISCLAIMER:\nHike at your own risk. Be responsible for yourself and your safety. Make good decisions. With any trip\, things can change\, reservations can get lost\, the unexpected can happen. A go-with-the-flow attitude is always a good thing\, and most importantly\, let’s all have fun! This is a strenuous hike. Make sure you are in good enough physical shape for the distance\, elevation changes\, and terrain. The hike leaders in this group aren’t professional hike leaders. By signing up for these events\, you agree not to hold the Meetup organizers responsible for whatever happens to you on these events. The hiking group does not certify the expertise of the organizers\, the event or assistant organizers (hike leaders) and…We are NOT responsible for any possible losses or injuries.\nWe reserve the right to deny or remove any members if they are deemed inappropriate for this trip.
URL:https://www.hikingwithdean.com/event/joshua-tree-boy-scout-trail-to-smith-water-canyon/
LOCATION:Anza-Borrego Desert State Park\, East of\, San Diego\, CA\, US
CATEGORIES:San Diego Backpackers
ATTACH;FMTTYPE=image/webp:https://hwdmedia.s3.us-west-1.amazonaws.com/wp-content/uploads/2023/10/26160238/110643_image_676x380.webp
ORGANIZER;CN="San Diego Backpackers":MAILTO:San-Diego-Backpackers-list@meetup.com
GEO:32.7945917;-116.9625816
X-APPLE-STRUCTURED-LOCATION;VALUE=URI;X-ADDRESS=Anza-Borrego Desert State Park East of San Diego CA US;X-APPLE-RADIUS=500;X-TITLE=East of:geo:-116.9625816,32.7945917
END:VEVENT
BEGIN:VEVENT
DTSTART;TZID=America/Los_Angeles:20231104T090000
DTEND;TZID=America/Los_Angeles:20231104T130000
DTSTAMP:20260422T125438
CREATED:20231019T230315Z
LAST-MODIFIED:20231019T230315Z
UID:10002035-1699088400-1699102800@www.hikingwithdean.com
SUMMARY:Day Hike Hellhole Canyon to Maidenhair Falls
DESCRIPTION:DAY HIKE \nTrailhead address: Montezuma Valley Road (Route S22)\, Anza-Borrego Desert State Park\, Borrego Springs\, CA 92004\nTrailhead coordinates: 33.248037\, -116.40594 \nDifficulty: Moderate 5.5 miles roundtrip and 1\,000 feet of elevation gain. Mandatory rock scrambling with faint trail. \nDescription: Hellhole Canyon is an exposed hike with no shade. 1\,000 feet of elevation gain.\nThere is a seasonal 20-foot waterfall\, Maidenhair Falls\, present during early spring or any time rain brings water to Hellhole Canyon. Mandatory rock scrambling will take us up to the top of this 5.5 mile round-trip hike. \nhttps://www.hikespeak.com/trails/hellhole-canyon-trail-maidenhair-falls-anza-borrego-desert/ \nBring plenty of water\, electrolytes\, sun block\, and your method of navigation! \nTHE 10 ESSENTIALS:\nNavigation\nHeadlamp\nSun protection\nFirst aid\nRepair kit / tools\nFire\nShelter\nExtra food\nExtra water\nExtra clothes \nhttps://www.nps.gov/articles/10essentials.htm \nSORRY\, NO PETS. \nTo get to the trailhead: From Christmas Circle in Borrego Springs\, drive 1.3 miles west on Palm Canyon Road. Turn left on Montezuma Valley Road (Route S22)\, which is 0.4 miles before the park visitor center. Drive 0.8 miles south and turn right into the large dirt parking area at the trailhead (just before the road heads up the mountain). There is a bathroom at the far end of the lot away from the start of the trail. \nDISCLAIMER:\nHike at your own risk. Be responsible for yourself and your safety. Make good decisions. With any trip\, things can change\, and the unexpected can happen. A go-with-the-flow attitude is always a good thing\, and most importantly\, let’s all have fun! This is a moderate to intermediate hike. Make sure you are in good enough physical shape for the distance\, elevation changes\, and terrain. The hike leaders in this group aren’t professional hike leaders. By signing up for these events\, you agree not to hold the Meetup organizers responsible for whatever happens to you on these events. The hiking group does not certify the expertise of the organizers\, the event or assistant organizers (hike leaders) and…We are NOT responsible for any possible losses or injuries.
URL:https://www.hikingwithdean.com/event/day-hike-hellhole-canyon-to-maidenhair-falls/
LOCATION:Anza-Borrego Desert State Park\, East of\, San Diego\, CA\, US
CATEGORIES:San Diego Backpackers
ATTACH;FMTTYPE=image/webp:https://hwdmedia.s3.us-west-1.amazonaws.com/wp-content/uploads/2023/10/19160316/110569_image_676x380.webp
ORGANIZER;CN="San Diego Backpackers":MAILTO:San-Diego-Backpackers-list@meetup.com
GEO:32.7945917;-116.9625816
X-APPLE-STRUCTURED-LOCATION;VALUE=URI;X-ADDRESS=Anza-Borrego Desert State Park East of San Diego CA US;X-APPLE-RADIUS=500;X-TITLE=East of:geo:-116.9625816,32.7945917
END:VEVENT
BEGIN:VEVENT
DTSTART;TZID=America/Los_Angeles:20231031T090000
DTEND;TZID=America/Los_Angeles:20231031T113000
DTSTAMP:20260422T125438
CREATED:20231021T181114Z
LAST-MODIFIED:20231021T181114Z
UID:10002041-1698742800-1698751800@www.hikingwithdean.com
SUMMARY:Challenger Open Space Loop
DESCRIPTION:
URL:https://www.hikingwithdean.com/event/challenger-open-space-loop/
LOCATION:Anza-Borrego Desert State Park\, East of\, San Diego\, CA\, US
CATEGORIES:Ventura County Day Hikes
ATTACH;FMTTYPE=image/webp:https://hwdmedia.s3.us-west-1.amazonaws.com/wp-content/uploads/2023/10/21111114/110589_image_676x380.webp
GEO:32.7945917;-116.9625816
X-APPLE-STRUCTURED-LOCATION;VALUE=URI;X-ADDRESS=Anza-Borrego Desert State Park East of San Diego CA US;X-APPLE-RADIUS=500;X-TITLE=East of:geo:-116.9625816,32.7945917
END:VEVENT
BEGIN:VEVENT
DTSTART;TZID=America/Los_Angeles:20231029T100000
DTEND;TZID=America/Los_Angeles:20231029T140000
DTSTAMP:20260422T125438
CREATED:20231020T180012Z
LAST-MODIFIED:20231020T180012Z
UID:10002037-1698573600-1698588000@www.hikingwithdean.com
SUMMARY:Wilderness Adventures Section Fall Picnic and Hike
DESCRIPTION:Join the Wilderness Adventures Section (WAS) for a fall picnic! We will work up our appetites with a hike in Duekmejian Wilderness Park followed by a picnic. Old\, new\, and perspective WAS members and friends are welcome as we enjoy the fall weather and share our summer adventure stories. \nHike: Meet at 10:00 AM on Sunday\, October 29 in the parking lot near the Stone Barn Nature Center for a moderately paced hike (3 miles\, 900 feet elevation gain) in Dunsore Canyon. Bring 10 essentials\, hiking footwear\, water\, snack\, and sun protection. Participants will need to sign a waiver at the trailhead in order to participate. \nPicnic: Meet at noon at the picnic tables below the nature center. The WAS will provide drinks and the main course. Please bring a salad\, side\, or dessert to share. \nParking: If the parking lots are full\, street parking is available outside the entrance gate to the park. Street parking is approximately 0.25 mile from the meeting location. \nPrecautions: If you are feeling sick or have been exposed to someone recently (within the last 10 days) who has been sick from or tested positive for COVID-19\, please do not join this outing. \nRSVP: Please RSVP on the Angeles Chapter website or to the leader at sbrapoport@hotmail.com by Thursday\, October 26. RSVPs will be used to determine how much food is needed. Please update us if your plans change. \nCancellation Policy: Extreme heat or rain cancels. Check the Angeles Chapter outings website on Saturday evening before the event for any last minute changes. \nLeaders: Shana Rapoport\, Jeff Taylor\, Mandy Horak\, Richard Shamban\, Tejinder Dhillon\, Mark Fleming and Mary Pickert. \nRSVP here on Meetup is not sufficient. Please RSVP on the Angeles Chapter website or to the Shana by Thursday\, October 26. RSVPs will be used to determine how much food is needed. Please update your reservation if your plans change. \nBring: Hike: Bring 10 essentials\, hiking footwear\, water\, snack\, and sun protection. Picnic: WAS will provide drinks and the main course. Please bring a salad\, side\, or dessert to share. \nAdditional Directions: Deukmejian Wilderness Park3429 Markridge Rd\, Glendale\, CA 91214
URL:https://www.hikingwithdean.com/event/wilderness-adventures-section-fall-picnic-and-hike/
LOCATION:Anza-Borrego Desert State Park\, East of\, San Diego\, CA\, US
CATEGORIES:Hike, Backpack, Climb, Travel with Wilderness Travel Course
ATTACH;FMTTYPE=image/webp:https://hwdmedia.s3.us-west-1.amazonaws.com/wp-content/uploads/2022/11/03112203/105884_image_676x380.webp
ORGANIZER;CN="Hike%2C Backpack%2C Climb%2C Travel with Wilderness Travel Course":MAILTO:hiking-609-list@meetup.com
GEO:32.7945917;-116.9625816
X-APPLE-STRUCTURED-LOCATION;VALUE=URI;X-ADDRESS=Anza-Borrego Desert State Park East of San Diego CA US;X-APPLE-RADIUS=500;X-TITLE=East of:geo:-116.9625816,32.7945917
END:VEVENT
BEGIN:VEVENT
DTSTART;TZID=America/Los_Angeles:20231029T083000
DTEND;TZID=America/Los_Angeles:20231029T103000
DTSTAMP:20260422T125438
CREATED:20231020T181009Z
LAST-MODIFIED:20231020T181009Z
UID:10002039-1698568200-1698575400@www.hikingwithdean.com
SUMMARY:Tapo Canyon Trail
DESCRIPTION:
URL:https://www.hikingwithdean.com/event/tapo-canyon-trail-36/
LOCATION:Anza-Borrego Desert State Park\, East of\, San Diego\, CA\, US
CATEGORIES:Ventura County Day Hikes
ATTACH;FMTTYPE=image/webp:https://hwdmedia.s3.us-west-1.amazonaws.com/wp-content/uploads/2022/03/03113315/103030_image_676x380.webp
GEO:32.7945917;-116.9625816
X-APPLE-STRUCTURED-LOCATION;VALUE=URI;X-ADDRESS=Anza-Borrego Desert State Park East of San Diego CA US;X-APPLE-RADIUS=500;X-TITLE=East of:geo:-116.9625816,32.7945917
END:VEVENT
BEGIN:VEVENT
DTSTART;TZID=America/Los_Angeles:20231028T083000
DTEND;TZID=America/Los_Angeles:20231028T123000
DTSTAMP:20260422T125438
CREATED:20231020T181009Z
LAST-MODIFIED:20231020T181009Z
UID:10002038-1698481800-1698496200@www.hikingwithdean.com
SUMMARY:Coquina Mine Trail (Loop)
DESCRIPTION:
URL:https://www.hikingwithdean.com/event/coquina-mine-trail-loop-2/
LOCATION:Anza-Borrego Desert State Park\, East of\, San Diego\, CA\, US
CATEGORIES:Ventura County Day Hikes
ATTACH;FMTTYPE=image/webp:https://hwdmedia.s3.us-west-1.amazonaws.com/wp-content/uploads/2022/04/03113147/103269_image_676x380.webp
GEO:32.7945917;-116.9625816
X-APPLE-STRUCTURED-LOCATION;VALUE=URI;X-ADDRESS=Anza-Borrego Desert State Park East of San Diego CA US;X-APPLE-RADIUS=500;X-TITLE=East of:geo:-116.9625816,32.7945917
END:VEVENT
END:VCALENDAR