BEGIN:VCALENDAR
VERSION:2.0
PRODID:-//Hiking with Dean - ECPv6.15.20//NONSGML v1.0//EN
CALSCALE:GREGORIAN
METHOD:PUBLISH
X-WR-CALNAME:Hiking with Dean
X-ORIGINAL-URL:https://www.hikingwithdean.com
X-WR-CALDESC:Events for Hiking with Dean
REFRESH-INTERVAL;VALUE=DURATION:PT1H
X-Robots-Tag:noindex
X-PUBLISHED-TTL:PT1H
BEGIN:VTIMEZONE
TZID:America/Los_Angeles
BEGIN:DAYLIGHT
TZOFFSETFROM:-0800
TZOFFSETTO:-0700
TZNAME:PDT
DTSTART:20230312T100000
END:DAYLIGHT
BEGIN:STANDARD
TZOFFSETFROM:-0700
TZOFFSETTO:-0800
TZNAME:PST
DTSTART:20231105T090000
END:STANDARD
BEGIN:DAYLIGHT
TZOFFSETFROM:-0800
TZOFFSETTO:-0700
TZNAME:PDT
DTSTART:20240310T100000
END:DAYLIGHT
BEGIN:STANDARD
TZOFFSETFROM:-0700
TZOFFSETTO:-0800
TZNAME:PST
DTSTART:20241103T090000
END:STANDARD
BEGIN:DAYLIGHT
TZOFFSETFROM:-0800
TZOFFSETTO:-0700
TZNAME:PDT
DTSTART:20250309T100000
END:DAYLIGHT
BEGIN:STANDARD
TZOFFSETFROM:-0700
TZOFFSETTO:-0800
TZNAME:PST
DTSTART:20251102T090000
END:STANDARD
END:VTIMEZONE
BEGIN:VEVENT
DTSTART;TZID=America/Los_Angeles:20240629T110000
DTEND;TZID=America/Los_Angeles:20240629T210000
DTSTAMP:20260424T113147
CREATED:20240512T031552Z
LAST-MODIFIED:20240512T031552Z
UID:10002593-1719658800-1719694800@www.hikingwithdean.com
SUMMARY:Greek Festival in Camarillo! Opa!! (New Location)
DESCRIPTION:Come join us for a fun and food filled festival day\, with all the Greek food\, music\, and culture you can handle! Oh\, and lots of Ouzo and beer\, and definitely some dancing. This year\, the location has changed from the Camarillo Airport to nearby the church\, so church tours will be available\, as well. \nSt. Demetrios Greek Orthodox Church is hosting their annual Greek Festival\, and HP will be there to take in the sights and sounds. There will be tons of food and desserts\, lots of vendors\, and performances. \nThe fun kicks off at 11\, and it’s only 6 bucks to get in.\nI suggest you pack some good beverages to share with others. \nCome join us for some plate-smashing good Greek fun — Opa!!!! \nFor compete details and schedule\, go here:\nwww.vcgreekfestival.org \nOr search for it on Facebook. \nFree Parking & Shuttle Rides at the Ventura County Office Of Education (VCOE) parking lot 5100 Adolfo Rd.\nLocated off Santa Rosa at Adolfo. Exit the 101 at Santa Rosa and head East\, Turn Right on Adolfo Rd. \nParking is NOT available at St Demetrios Greek Orthodox Church\nFull menu of appetizers\, entrées\, desserts\, and beer\, wine and spirits available\, along with vendors\, so bring your cash or card. All profits go towards construction of a new church in Camarillo. \nPrior Greek Festival Events:\n2022\n2021
URL:https://www.hikingwithdean.com/event/greek-festival-in-camarillo-opa-new-location/
LOCATION:5100 Adolfo Rd\, 5100 Adolfo Rd\, Camarillo\, CA\, 93012\, US
CATEGORIES:Hiking Plus
ATTACH;FMTTYPE=image/webp:https://hwdmedia.s3.us-west-1.amazonaws.com/wp-content/uploads/2022/06/03112658/104447_image_676x380.webp
GEO:34.2154439;-118.9998904
X-APPLE-STRUCTURED-LOCATION;VALUE=URI;X-ADDRESS=5100 Adolfo Rd 5100 Adolfo Rd Camarillo CA 93012 US;X-APPLE-RADIUS=500;X-TITLE=5100 Adolfo Rd:geo:-118.9998904,34.2154439
END:VEVENT
END:VCALENDAR