BEGIN:VCALENDAR
VERSION:2.0
PRODID:-//Hiking with Dean - ECPv6.15.20//NONSGML v1.0//EN
CALSCALE:GREGORIAN
METHOD:PUBLISH
X-WR-CALNAME:Hiking with Dean
X-ORIGINAL-URL:https://www.hikingwithdean.com
X-WR-CALDESC:Events for Hiking with Dean
REFRESH-INTERVAL;VALUE=DURATION:PT1H
X-Robots-Tag:noindex
X-PUBLISHED-TTL:PT1H
BEGIN:VTIMEZONE
TZID:America/Denver
BEGIN:DAYLIGHT
TZOFFSETFROM:-0700
TZOFFSETTO:-0600
TZNAME:MDT
DTSTART:20240310T090000
END:DAYLIGHT
BEGIN:STANDARD
TZOFFSETFROM:-0600
TZOFFSETTO:-0700
TZNAME:MST
DTSTART:20241103T080000
END:STANDARD
BEGIN:DAYLIGHT
TZOFFSETFROM:-0700
TZOFFSETTO:-0600
TZNAME:MDT
DTSTART:20250309T090000
END:DAYLIGHT
BEGIN:STANDARD
TZOFFSETFROM:-0600
TZOFFSETTO:-0700
TZNAME:MST
DTSTART:20251102T080000
END:STANDARD
BEGIN:DAYLIGHT
TZOFFSETFROM:-0700
TZOFFSETTO:-0600
TZNAME:MDT
DTSTART:20260308T090000
END:DAYLIGHT
BEGIN:STANDARD
TZOFFSETFROM:-0600
TZOFFSETTO:-0700
TZNAME:MST
DTSTART:20261101T080000
END:STANDARD
BEGIN:DAYLIGHT
TZOFFSETFROM:-0700
TZOFFSETTO:-0600
TZNAME:MDT
DTSTART:20270314T090000
END:DAYLIGHT
BEGIN:STANDARD
TZOFFSETFROM:-0600
TZOFFSETTO:-0700
TZNAME:MST
DTSTART:20271107T080000
END:STANDARD
END:VTIMEZONE
BEGIN:VTIMEZONE
TZID:America/Los_Angeles
BEGIN:DAYLIGHT
TZOFFSETFROM:-0800
TZOFFSETTO:-0700
TZNAME:PDT
DTSTART:20240310T100000
END:DAYLIGHT
BEGIN:STANDARD
TZOFFSETFROM:-0700
TZOFFSETTO:-0800
TZNAME:PST
DTSTART:20241103T090000
END:STANDARD
BEGIN:DAYLIGHT
TZOFFSETFROM:-0800
TZOFFSETTO:-0700
TZNAME:PDT
DTSTART:20250309T100000
END:DAYLIGHT
BEGIN:STANDARD
TZOFFSETFROM:-0700
TZOFFSETTO:-0800
TZNAME:PST
DTSTART:20251102T090000
END:STANDARD
BEGIN:DAYLIGHT
TZOFFSETFROM:-0800
TZOFFSETTO:-0700
TZNAME:PDT
DTSTART:20260308T100000
END:DAYLIGHT
BEGIN:STANDARD
TZOFFSETFROM:-0700
TZOFFSETTO:-0800
TZNAME:PST
DTSTART:20261101T090000
END:STANDARD
BEGIN:DAYLIGHT
TZOFFSETFROM:-0800
TZOFFSETTO:-0700
TZNAME:PDT
DTSTART:20270314T100000
END:DAYLIGHT
BEGIN:STANDARD
TZOFFSETFROM:-0700
TZOFFSETTO:-0800
TZNAME:PST
DTSTART:20271107T090000
END:STANDARD
END:VTIMEZONE
BEGIN:VEVENT
DTSTART;TZID=America/Denver:20260308T160000
DTEND;TZID=America/Denver:20260308T193000
DTSTAMP:20260420T100156
CREATED:20260303T053352Z
LAST-MODIFIED:20260303T053352Z
UID:10003894-1772985600-1772998200@www.hikingwithdean.com
SUMMARY:Olympia Vista - Potluck Hike (time change\, start at 4pm)
DESCRIPTION:Spring Forward Time Change\, Start at 4:00 PM\n5.0 miles\, 640′ gain\, Easy Intermediate \nStarting at the Wendy trailhead we hike about 1/4 mile and take the left fork up the Windmill Trail\, a steep\, but short climb (0.1 miles\, 100 ft gain). At the top of this steep climb we’ll take the right fork down the Wendy-Satwiwa Connector into the grasslands for about another 1/4 mile where we will take the right fork onto the Satwiwa Loop Trail. We’ll hike for about 1/3 mile down to the Satwiwa Native American Indian Cultural Center. \nNext we’ll cross over the paved road and continue along the Rancho Overlook Trail for about 0.8 miles. At this point we’ll take the fork to the left going up a short incline (3/4 mile\, 200 ft elevation gain). Then we’ll take a right turn down to the picnic area. We should be able see the tables under the tree from here. \nOn the return trip we’ll go straight on the Palomino/ Rancho Overlook Trail for about 2 miles back to the Satwiwa Native American Indian Cultural Center. Just past the center\, we’ll take the first left turn (0.1 miles) up the hill along the Wendy Trail back to the cars (0.7 miles). \nThis is a potluck hike. Please bring food\, drinks to share.\nIf your item requires utensils/plates/toothpicks\, etc.\, please bring them.\nYou may wish to bring your own cup\, plate\, and utensils in case there aren’t any.\nSnacks and/or beverages to share \nAt the turning point\, there is a picnic table in Olympia Farms. We’ll enjoy the great views and enjoy a potluck social event at the top for 60-90 minutes before heading back the way we came. Please bring some food and drink to share\, and utensils of your item requires it. \nHike Distance: 5.0 miles\nGain: 640′\nDifficulty: Easy Intermediate.\nShape: Basically Out and back.\nPace: approx. 2.0 mph.\nDuration: 3.5 hours\nDogs: Dogs must be kept on leash and away from picnic table.\nRestrooms: No\nDrinking Fountains: No.\nParking: Free along the street.\nWhat to bring\n1 liter of water for every 3 miles.\nHiking shoes/boots. Not required\, but recommended.\nFlashlight or headlamp.\nSunscreen and/or hat as needed.\nYour own cup\, plate\, and utensils in case there aren’t any for picnic. \nDirections:\nWendy Trail Head\n4128 Potrero Rd\nThousand Oaks\, CA 91361\nWhere S. Wendy Dr. ends at Potrero Rd. 4128 Potrero Rd\, Thousand Oaks\, CA 91361 \nFrom CA-118:\nCA-118 west for 8 miles.\nCA-23 south for 7.4 miles.\nUS-101 North for 2 miles.\nExit 45 Lynn Rd. and south/west for 2.5 miles.\nLeft on S. Wendy Dr. for 0.6 miles until it dead ends at Potrero Rd.\nPark on Potrero.\nFrom US-101 north/west of Wendy:\nUS-101 south\, exit Wendy Dr.\nSouth on Wendy Dr. for 3 miles until it dead ends at Potrero Rd.\nPark on Potrero.
URL:https://www.hikingwithdean.com/event/olympia-vista-potluck-hike-time-change-start-at-4pm/
LOCATION:4128 Potrero Rd\, Hidden Valley\, CA\, 91361\, United States
CATEGORIES:Hiking Plus
ATTACH;FMTTYPE=image/jpeg:https://hwdmedia.s3.us-west-1.amazonaws.com/wp-content/uploads/2025/05/20202035/118507_image_highres_526333216-scaled.jpeg
GEO:34.1384626;-118.8946309
END:VEVENT
BEGIN:VEVENT
DTSTART;TZID=America/Los_Angeles:20260118T150000
DTEND;TZID=America/Los_Angeles:20260118T183000
DTSTAMP:20260420T100156
CREATED:20260115T063840Z
LAST-MODIFIED:20260115T063840Z
UID:10003786-1768748400-1768761000@www.hikingwithdean.com
SUMMARY:Wendy Trailhead to Olympia Vista - Potluck Hike
DESCRIPTION:5.0 miles\, 640′ gain\, Easy Intermediate \nStarting at the Wendy trailhead we hike about 1/4 mile and take the left fork up the Windmill Trail\, a steep\, but short climb (0.1 miles\, 100 ft gain). At the top of this steep climb we’ll take the right fork down the Wendy-Satwiwa Connector into the grasslands for about another 1/4 mile where we will take the right fork onto the Satwiwa Loop Trail. We’ll hike for about 1/3 mile down to the Satwiwa Native American Indian Cultural Center. \nNext we’ll cross over the paved road and continue along the Rancho Overlook Trail for about 0.8 miles. At this point we’ll take the fork to the left going up a short incline (3/4 mile\, 200 ft elevation gain). Then we’ll take a right turn down to the picnic area. We should be able see the tables under the tree from here. \nOn the return trip we’ll go straight on the Palomino/ Rancho Overlook Trail for about 2 miles back to the Satwiwa Native American Indian Cultural Center. Just past the center\, we’ll take the first left turn (0.1 miles) up the hill along the Wendy Trail back to the cars (0.7 miles). \nThis is a potluck hike. Please bring food\, drinks to share.\nIf your item requires utensils/plates/toothpicks\, etc.\, please bring them.\nYou may wish to bring your own cup\, plate\, and utensils in case there aren’t any.\nSnacks and/or beverages to share \nAt the turning point\, there is a picnic table in Olympia Farms. We’ll enjoy the great views and enjoy a potluck social event at the top for 60-90 minutes before heading back the way we came. Please bring some food and drink to share\, and utensils of your item requires it. \nHike Distance: 5.0 miles\nGain: 640′\nDifficulty: Easy Intermediate.\nShape: Basically Out and back.\nPace: approx. 2.0 mph.\nDuration: 3.5 hours\nDogs: Dogs must be kept on leash and away from picnic table.\nRestrooms: No\nDrinking Fountains: No.\nParking: Free along the street.\nWhat to bring\n1 liter of water for every 3 miles.\nHiking shoes/boots. Not required\, but recommended.\nFlashlight or headlamp.\nSunscreen and/or hat as needed.\nYour own cup\, plate\, and utensils in case there aren’t any for picnic. \nDirections:\nWendy Trail Head\n4128 Potrero Rd\nThousand Oaks\, CA 91361\nWhere S. Wendy Dr. ends at Potrero Rd. 4128 Potrero Rd\, Thousand Oaks\, CA 91361 \nFrom CA-118:\nCA-118 west for 8 miles.\nCA-23 south for 7.4 miles.\nUS-101 North for 2 miles.\nExit 45 Lynn Rd. and south/west for 2.5 miles.\nLeft on S. Wendy Dr. for 0.6 miles until it dead ends at Potrero Rd.\nPark on Potrero.\nFrom US-101 north/west of Wendy:\nUS-101 south\, exit Wendy Dr.\nSouth on Wendy Dr. for 3 miles until it dead ends at Potrero Rd.\nPark on Potrero.
URL:https://www.hikingwithdean.com/event/wendy-trailhead-to-olympia-vista-potluck-hike-6/
LOCATION:4128 Potrero Rd\, Hidden Valley\, CA\, 91361\, United States
CATEGORIES:Hiking Plus
ATTACH;FMTTYPE=image/jpeg:https://hwdmedia.s3.us-west-1.amazonaws.com/wp-content/uploads/2025/05/20202035/118507_image_highres_526333216-scaled.jpeg
GEO:34.1384626;-118.8946309
END:VEVENT
BEGIN:VEVENT
DTSTART;TZID=America/Denver:20250914T160000
DTEND;TZID=America/Denver:20250914T193000
DTSTAMP:20260420T100156
CREATED:20250909T031548Z
LAST-MODIFIED:20250909T031548Z
UID:10003663-1757865600-1757878200@www.hikingwithdean.com
SUMMARY:Wendy Trailhead to Olympia Vista - Potluck Hike
DESCRIPTION:5.0 miles\, 640′ gain\, Easy Intermediate \nStarting at the Wendy trailhead we hike about 1/4 mile and take the left fork up the Windmill Trail\, a steep\, but short climb (0.1 miles\, 100 ft gain). At the top of this steep climb we’ll take the right fork down the Wendy-Satwiwa Connector into the grasslands for about another 1/4 mile where we will take the right fork onto the Satwiwa Loop Trail. We’ll hike for about 1/3 mile down to the Satwiwa Native American Indian Cultural Center. \nNext we’ll cross over the paved road and continue along the Rancho Overlook Trail for about 0.8 miles. At this point we’ll take the fork to the left going up a short incline (3/4 mile\, 200 ft elevation gain). Then we’ll take a right turn down to the picnic area. We should be able see the tables under the tree from here. \nOn the return trip we’ll go straight on the Palomino/ Rancho Overlook Trail for about 2 miles back to the Satwiwa Native American Indian Cultural Center. Just past the center\, we’ll take the first left turn (0.1 miles) up the hill along the Wendy Trail back to the cars (0.7 miles). \nThis is a potluck hike. Please bring food\, drinks to share.\nIf your item requires utensils/plates/toothpicks\, etc.\, please bring them.\nYou may wish to bring your own cup\, plate\, and utensils in case there aren’t any.\nSnacks and/or beverages to share \nAt the turning point\, there is a picnic table in Olympia Farms. We’ll enjoy the great views and enjoy a potluck social event at the top for 60-90 minutes before heading back the way we came. Please bring some food and drink to share\, and utensils of your item requires it. \nHike Distance: 5.0 miles\nGain: 640′\nDifficulty: Easy Intermediate.\nShape: Basically Out and back.\nPace: approx. 2.0 mph.\nDuration: 3.5 hours\nDogs: Dogs must be kept on leash and away from picnic table.\nRestrooms: No\nDrinking Fountains: No.\nParking: Free along the street.\nWhat to bring\n1 liter of water for every 3 miles.\nHiking shoes/boots. Not required\, but recommended.\nFlashlight or headlamp.\nSunscreen and/or hat as needed.\nYour own cup\, plate\, and utensils in case there aren’t any for picnic. \nDirections:\nWendy Trail Head\n4128 Potrero Rd\nThousand Oaks\, CA 91361\nWhere S. Wendy Dr. ends at Potrero Rd. 4128 Potrero Rd\, Thousand Oaks\, CA 91361 \nFrom CA-118:\nCA-118 west for 8 miles.\nCA-23 south for 7.4 miles.\nUS-101 North for 2 miles.\nExit 45 Lynn Rd. and south/west for 2.5 miles.\nLeft on S. Wendy Dr. for 0.6 miles until it dead ends at Potrero Rd.\nPark on Potrero.\nFrom US-101 north/west of Wendy:\nUS-101 south\, exit Wendy Dr.\nSouth on Wendy Dr. for 3 miles until it dead ends at Potrero Rd.\nPark on Potrero.
URL:https://www.hikingwithdean.com/event/wendy-trailhead-to-olympia-vista-potluck-hike-5/
LOCATION:4128 Potrero Rd\, Hidden Valley\, CA\, 91361\, United States
CATEGORIES:Hiking Plus
ATTACH;FMTTYPE=image/jpeg:https://hwdmedia.s3.us-west-1.amazonaws.com/wp-content/uploads/2025/05/20202035/118507_image_highres_526333216-scaled.jpeg
GEO:34.1384626;-118.8946309
END:VEVENT
BEGIN:VEVENT
DTSTART;TZID=America/Denver:20250727T160000
DTEND;TZID=America/Denver:20250727T193000
DTSTAMP:20260420T100156
CREATED:20250723T031550Z
LAST-MODIFIED:20250723T031550Z
UID:10003560-1753632000-1753644600@www.hikingwithdean.com
SUMMARY:Wendy Trailhead to Olympia Vista - Potluck Hike
DESCRIPTION:5.0 miles\, 640′ gain\, Easy Intermediate \nStarting at the Wendy trailhead we hike about 1/4 mile and take the left fork up the Windmill Trail\, a steep\, but short climb (0.1 miles\, 100 ft gain). At the top of this steep climb we’ll take the right fork down the Wendy-Satwiwa Connector into the grasslands for about another 1/4 mile where we will take the right fork onto the Satwiwa Loop Trail. We’ll hike for about 1/3 mile down to the Satwiwa Native American Indian Cultural Center. \nNext we’ll cross over the paved road and continue along the Rancho Overlook Trail for about 0.8 miles. At this point we’ll take the fork to the left going up a short incline (3/4 mile\, 200 ft elevation gain). Then we’ll take a right turn down to the picnic area. We should be able see the tables under the tree from here. \nOn the return trip we’ll go straight on the Palomino/ Rancho Overlook Trail for about 2 miles back to the Satwiwa Native American Indian Cultural Center. Just past the center\, we’ll take the first left turn (0.1 miles) up the hill along the Wendy Trail back to the cars (0.7 miles). \nThis is a potluck hike. Please bring food\, drinks to share.\nIf your item requires utensils/plates/toothpicks\, etc.\, please bring them.\nYou may wish to bring your own cup\, plate\, and utensils in case there aren’t any.\nSnacks and/or beverages to share \nAt the turning point\, there is a picnic table in Olympia Farms. We’ll enjoy the great views and enjoy a potluck social event at the top for 60-90 minutes before heading back the way we came. Please bring some food and drink to share\, and utensils of your item requires it. \nHike Distance: 5.0 miles\nGain: 640′\nDifficulty: Easy Intermediate.\nShape: Basically Out and back.\nPace: approx. 2.0 mph.\nDuration: 3.5 hours\nDogs: Dogs must be kept on leash and away from picnic table.\nRestrooms: No\nDrinking Fountains: No.\nParking: Free along the street.\nWhat to bring\n1 liter of water for every 3 miles.\nHiking shoes/boots. Not required\, but recommended.\nFlashlight or headlamp.\nSunscreen and/or hat as needed.\nYour own cup\, plate\, and utensils in case there aren’t any for picnic. \nDirections:\nWendy Trail Head\n4128 Potrero Rd\nThousand Oaks\, CA 91361\nWhere S. Wendy Dr. ends at Potrero Rd. 4128 Potrero Rd\, Thousand Oaks\, CA 91361 \nFrom CA-118:\nCA-118 west for 8 miles.\nCA-23 south for 7.4 miles.\nUS-101 North for 2 miles.\nExit 45 Lynn Rd. and south/west for 2.5 miles.\nLeft on S. Wendy Dr. for 0.6 miles until it dead ends at Potrero Rd.\nPark on Potrero.\nFrom US-101 north/west of Wendy:\nUS-101 south\, exit Wendy Dr.\nSouth on Wendy Dr. for 3 miles until it dead ends at Potrero Rd.\nPark on Potrero.
URL:https://www.hikingwithdean.com/event/wendy-trailhead-to-olympia-vista-potluck-hike-4/
LOCATION:4128 Potrero Rd\, Hidden Valley\, CA\, 91361\, United States
CATEGORIES:Hiking Plus
ATTACH;FMTTYPE=image/jpeg:https://hwdmedia.s3.us-west-1.amazonaws.com/wp-content/uploads/2025/05/20202035/118507_image_highres_526333216-scaled.jpeg
GEO:34.1384626;-118.8946309
END:VEVENT
BEGIN:VEVENT
DTSTART;TZID=America/Denver:20250525T170000
DTEND;TZID=America/Denver:20250525T210000
DTSTAMP:20260420T100156
CREATED:20250521T032032Z
LAST-MODIFIED:20250521T032032Z
UID:10003420-1748192400-1748206800@www.hikingwithdean.com
SUMMARY:Wendy Trailhead to Olympia Vista - Potluck Hike
DESCRIPTION:5.0 miles\, 640′ gain\, Easy Intermediate \nStarting at the Wendy trailhead we hike about 1/4 mile and take the left fork up the Windmill Trail\, a steep\, but short climb (0.1 miles\, 100 ft gain). At the top of this steep climb we’ll take the right fork down the Wendy-Satwiwa Connector into the grasslands for about another 1/4 mile where we will take the right fork onto the Satwiwa Loop Trail. We’ll hike for about 1/3 mile down to the Satwiwa Native American Indian Cultural Center. \nNext we’ll cross over the paved road and continue along the Rancho Overlook Trail for about 0.8 miles. At this point we’ll take the fork to the left going up a short incline (3/4 mile\, 200 ft elevation gain). Then we’ll take a right turn down to the picnic area. We should be able see the tables under the tree from here. \nOn the return trip we’ll go straight on the Palomino/ Rancho Overlook Trail for about 2 miles back to the Satwiwa Native American Indian Cultural Center. Just past the center\, we’ll take the first left turn (0.1 miles) up the hill along the Wendy Trail back to the cars (0.7 miles). \nThis is a potluck hike. Please bring food\, drinks to share.\nIf your item requires utensils/plates/toothpicks\, etc.\, please bring them.\nYou may wish to bring your own cup\, plate\, and utensils in case there aren’t any.\nSnacks and/or beverages to share \nAt the turning point\, there is a picnic table in Olympia Farms. We’ll enjoy the great views and enjoy a potluck social event at the top for 60-90 minutes before heading back the way we came. Please bring some food and drink to share\, and utensils of your item requires it. \nHike Distance: 5.0 miles\nGain: 640′\nDifficulty: Easy Intermediate.\nShape: Basically Out and back.\nPace: approx. 2.0 mph.\nDuration: 3.5 hours\nDogs: Dogs must be kept on leash and away from picnic table.\nRestrooms: No\nDrinking Fountains: No.\nParking: Free along the street.\nWhat to bring\n1 liter of water for every 3 miles.\nHiking shoes/boots. Not required\, but recommended.\nFlashlight or headlamp.\nSunscreen and/or hat as needed.\nYour own cup\, plate\, and utensils in case there aren’t any for picnic. \nDirections:\nWendy Trail Head\n4128 Potrero Rd\nThousand Oaks\, CA 91361\nWhere S. Wendy Dr. ends at Potrero Rd. 4128 Potrero Rd\, Thousand Oaks\, CA 91361 \nFrom CA-118:\nCA-118 west for 8 miles.\nCA-23 south for 7.4 miles.\nUS-101 North for 2 miles.\nExit 45 Lynn Rd. and south/west for 2.5 miles.\nLeft on S. Wendy Dr. for 0.6 miles until it dead ends at Potrero Rd.\nPark on Potrero.\nFrom US-101 north/west of Wendy:\nUS-101 south\, exit Wendy Dr.\nSouth on Wendy Dr. for 3 miles until it dead ends at Potrero Rd.\nPark on Potrero.
URL:https://www.hikingwithdean.com/event/wendy-trailhead-to-olympia-vista-potluck-hike-3/
LOCATION:4128 Potrero Rd\, Hidden Valley\, CA\, 91361\, United States
CATEGORIES:Hiking Plus
ATTACH;FMTTYPE=image/jpeg:https://hwdmedia.s3.us-west-1.amazonaws.com/wp-content/uploads/2025/05/20202035/118507_image_highres_526333216-scaled.jpeg
GEO:34.1384626;-118.8946309
END:VEVENT
BEGIN:VEVENT
DTSTART;TZID=America/Los_Angeles:20250323T160000
DTEND;TZID=America/Los_Angeles:20250323T193000
DTSTAMP:20260420T100156
CREATED:20250319T032728Z
LAST-MODIFIED:20250319T032728Z
UID:10003297-1742745600-1742758200@www.hikingwithdean.com
SUMMARY:Wendy Trailhead to Olympia Vista - Potluck Hike
DESCRIPTION:5.0 miles\, 640′ gain\, Easy Intermediate \nStarting at the Wendy trailhead we hike about 1/4 mile and take the left fork up the Windmill Trail\, a steep\, but short climb (0.1 miles\, 100 ft gain). At the top of this steep climb we’ll take the right fork down the Wendy-Satwiwa Connector into the grasslands for about another 1/4 mile where we will take the right fork onto the Satwiwa Loop Trail. We’ll hike for about 1/3 mile down to the Satwiwa Native American Indian Cultural Center. \nNext we’ll cross over the paved road and continue along the Rancho Overlook Trail for about 0.8 miles. At this point we’ll take the fork to the left going up a short incline (3/4 mile\, 200 ft elevation gain). Then we’ll take a right turn down to the picnic area. We should be able see the tables under the tree from here. \nOn the return trip we’ll go straight on the Palomino/ Rancho Overlook Trail for about 2 miles back to the Satwiwa Native American Indian Cultural Center. Just past the center\, we’ll take the first left turn (0.1 miles) up the hill along the Wendy Trail back to the cars (0.7 miles). \nThis is a potluck hike. Please bring food\, drinks to share.\nIf your item requires utensils/plates/toothpicks\, etc.\, please bring them.\nYou may wish to bring your own cup\, plate\, and utensils in case there aren’t any.\nSnacks and/or beverages to share \nAt the turning point\, there is a picnic table in Olympia Farms. We’ll enjoy the great views and enjoy a potluck social event at the top for 60-90 minutes before heading back the way we came. Please bring some food and drink to share\, and utensils of your item requires it. \nHike Distance: 5.0 miles\nGain: 640′\nDifficulty: Easy Intermediate.\nShape: Basically Out and back.\nPace: approx. 2.0 mph.\nDuration: 3.5 hours\nDogs: Dogs must be kept on leash and away from picnic table.\nRestrooms: No\nDrinking Fountains: No.\nParking: Free along the street.\nWhat to bring\n1 liter of water for every 3 miles.\nHiking shoes/boots. Not required\, but recommended.\nFlashlight or headlamp.\nSunscreen and/or hat as needed.\nYour own cup\, plate\, and utensils in case there aren’t any for picnic. \nDirections:\nWendy Trail Head\n4128 Potrero Rd\nThousand Oaks\, CA 91361\nWhere S. Wendy Dr. ends at Potrero Rd. 4128 Potrero Rd\, Thousand Oaks\, CA 91361 \nFrom CA-118:\nCA-118 west for 8 miles.\nCA-23 south for 7.4 miles.\nUS-101 North for 2 miles.\nExit 45 Lynn Rd. and south/west for 2.5 miles.\nLeft on S. Wendy Dr. for 0.6 miles until it dead ends at Potrero Rd.\nPark on Potrero.\nFrom US-101 north/west of Wendy:\nUS-101 south\, exit Wendy Dr.\nSouth on Wendy Dr. for 3 miles until it dead ends at Potrero Rd.\nPark on Potrero.
URL:https://www.hikingwithdean.com/event/wendy-trailhead-to-olympia-vista-potluck-hike-2/
LOCATION:4128 Potrero Rd\, Hidden Valley\, CA\, 91361\, United States
CATEGORIES:Hiking Plus
ATTACH;FMTTYPE=image/webp:https://hwdmedia.s3.us-west-1.amazonaws.com/wp-content/uploads/2025/02/18194737/117302_image_676x380.webp
GEO:34.1384626;-118.8946309
END:VEVENT
BEGIN:VEVENT
DTSTART;TZID=America/Los_Angeles:20250223T150000
DTEND;TZID=America/Los_Angeles:20250223T183000
DTSTAMP:20260420T100156
CREATED:20250219T034736Z
LAST-MODIFIED:20250219T034736Z
UID:10003235-1740322800-1740335400@www.hikingwithdean.com
SUMMARY:Wendy Trailhead to Olympia Vista - Potluck Hike
DESCRIPTION:5.0 miles\, 640′ gain\, Easy Intermediate\nPlease see the photo for more details. \nThis is a potluck hike. Please bring food\, drinks to share.\nIf your item requires utensils/plates/toothpicks\, etc.\, please bring them.\nYou may wish to bring your own cup\, plate\, and utensils in case there aren’t any.\nSnacks and/or beverages to share \nAt the turning point\, there is a picnic table in Olympia Farms. We’ll enjoy the great views and enjoy a potluck social event at the top for 60-90 minutes before heading back the way we came. Please bring some food and drink to share\, and utensils of your item requires it. \nHike Distance: 5.0 miles\nGain: 640′\nDifficulty: Easy Intermediate.\nShape: Basically Out and back.\nPace: approx. 2.0 mph.\nDuration: 3.5 hours\nDogs: Dogs must be kept on leash and away from picnic table.\nRestrooms: No\nDrinking Fountains: No.\nParking: Free along the street.\nWhat to bring\n1 liter of water for every 3 miles.\nHiking shoes/boots. Not required\, but recommended.\nFlashlight or headlamp.\nSunscreen and/or hat as needed.\nYour own cup\, plate\, and utensils in case there aren’t any for picnic. \nDirections:\nWendy Trail Head\n4128 Potrero Rd\nThousand Oaks\, CA 91361\nWhere S. Wendy Dr. ends at Potrero Rd. 4128 Potrero Rd\, Thousand Oaks\, CA 91361 \nFrom CA-118:\nCA-118 west for 8 miles.\nCA-23 south for 7.4 miles.\nUS-101 North for 2 miles.\nExit 45 Lynn Rd. and south/west for 2.5 miles.\nLeft on S. Wendy Dr. for 0.6 miles until it dead ends at Potrero Rd.\nPark on Potrero.\nFrom US-101 north/west of Wendy:\nUS-101 south\, exit Wendy Dr.\nSouth on Wendy Dr. for 3 miles until it dead ends at Potrero Rd.\nPark on Potrero.
URL:https://www.hikingwithdean.com/event/wendy-trailhead-to-olympia-vista-potluck-hike/
LOCATION:4128 Potrero Rd\, Hidden Valley\, CA\, 91361\, United States
CATEGORIES:Hiking Plus
ATTACH;FMTTYPE=image/webp:https://hwdmedia.s3.us-west-1.amazonaws.com/wp-content/uploads/2025/02/18194737/117302_image_676x380.webp
GEO:34.1384626;-118.8946309
END:VEVENT
END:VCALENDAR