BEGIN:VCALENDAR
VERSION:2.0
PRODID:-//Hiking with Dean - ECPv6.15.20//NONSGML v1.0//EN
CALSCALE:GREGORIAN
METHOD:PUBLISH
X-WR-CALNAME:Hiking with Dean
X-ORIGINAL-URL:https://www.hikingwithdean.com
X-WR-CALDESC:Events for Hiking with Dean
REFRESH-INTERVAL;VALUE=DURATION:PT1H
X-Robots-Tag:noindex
X-PUBLISHED-TTL:PT1H
BEGIN:VTIMEZONE
TZID:America/Los_Angeles
BEGIN:DAYLIGHT
TZOFFSETFROM:-0800
TZOFFSETTO:-0700
TZNAME:PDT
DTSTART:20210314T100000
END:DAYLIGHT
BEGIN:STANDARD
TZOFFSETFROM:-0700
TZOFFSETTO:-0800
TZNAME:PST
DTSTART:20211107T090000
END:STANDARD
BEGIN:DAYLIGHT
TZOFFSETFROM:-0800
TZOFFSETTO:-0700
TZNAME:PDT
DTSTART:20220313T100000
END:DAYLIGHT
BEGIN:STANDARD
TZOFFSETFROM:-0700
TZOFFSETTO:-0800
TZNAME:PST
DTSTART:20221106T090000
END:STANDARD
BEGIN:DAYLIGHT
TZOFFSETFROM:-0800
TZOFFSETTO:-0700
TZNAME:PDT
DTSTART:20230312T100000
END:DAYLIGHT
BEGIN:STANDARD
TZOFFSETFROM:-0700
TZOFFSETTO:-0800
TZNAME:PST
DTSTART:20231105T090000
END:STANDARD
BEGIN:DAYLIGHT
TZOFFSETFROM:-0800
TZOFFSETTO:-0700
TZNAME:PDT
DTSTART:20240310T100000
END:DAYLIGHT
BEGIN:STANDARD
TZOFFSETFROM:-0700
TZOFFSETTO:-0800
TZNAME:PST
DTSTART:20241103T090000
END:STANDARD
END:VTIMEZONE
BEGIN:VEVENT
DTSTART;TZID=America/Los_Angeles:20231221T183000
DTEND;TZID=America/Los_Angeles:20231221T210000
DTSTAMP:20260419T142507
CREATED:20231116T180110Z
LAST-MODIFIED:20231116T180110Z
UID:10002106-1703183400-1703192400@www.hikingwithdean.com
SUMMARY:It Never Rains in Southern California #3 - 4.5 mi\, 2.5 hours
DESCRIPTION:Join us on this ramble near the Hollywood Bowl to see old Hollywood. See the festive holiday lights by Rudolph Valentino’s house and the stair streets where gumshoes Philip Marlowe and Harry Bosch worked their cases. Just hope it doesn’t rain like it always does in film noir thrillers. Work off those holiday calories to prepare for winter adventures by carrying a heavy pack like Saint Nicholas. Meet at the old Starbucks on Highland & Franklin (1900 Highland Ave\, LA 90068). Street parking is limited so arrive early. Hint: try a parking lot to the north.\nBring water\, adventurous spirit\, strong legs\, a sharp eye and a love of stair hikes. Flashlight suggested.\nThis will also be a Sierra Club Wilderness Travel Course intro-hike – you can learn more about the class during this hike! Class starts in January 2024 – register now before the class fills up. More info at: https://www.wildernesstravelcourse.org\nHike Leader: Homer Tom hikerhomie@gmail.com\nCo-leader: Sheri Bonstelle \nEvent Organizer – Homer Tom
URL:https://www.hikingwithdean.com/event/it-never-rains-in-southern-california-3-4-5-mi-2-5-hours/
LOCATION:1900 N Highland Ave\, 1900 N Highland Ave\, Los Angeles\, CA\, 90068\, US
CATEGORIES:Hike, Backpack, Climb, Travel with Wilderness Travel Course
ATTACH;FMTTYPE=image/webp:https://hwdmedia.s3.us-west-1.amazonaws.com/wp-content/uploads/2022/11/03112135/106027_image_676x380.webp
ORGANIZER;CN="Hike%2C Backpack%2C Climb%2C Travel with Wilderness Travel Course":MAILTO:hiking-609-list@meetup.com
GEO:34.105659;-118.3369275
X-APPLE-STRUCTURED-LOCATION;VALUE=URI;X-ADDRESS=1900 N Highland Ave 1900 N Highland Ave Los Angeles CA 90068 US;X-APPLE-RADIUS=500;X-TITLE=1900 N Highland Ave:geo:-118.3369275,34.105659
END:VEVENT
BEGIN:VEVENT
DTSTART;TZID=America/Los_Angeles:20221229T183000
DTEND;TZID=America/Los_Angeles:20221229T210000
DTSTAMP:20260419T142507
CREATED:20221130T180345Z
LAST-MODIFIED:20221130T180345Z
UID:10001338-1672338600-1672347600@www.hikingwithdean.com
SUMMARY:Hazy Shade of Winter Stair Hike #2
DESCRIPTION:Break up the holiday blues with a hike on Hollywood staircases. Climb high to see the festive holiday city lights. Prepare for winter adventures (or excess holiday calories) by carrying a heavy pack like Saint Nick. Meet at the Starbucks on Highland & Franklin (1900 Highland Ave\, LA 90068). The parking forecast is hazy so arrive early. Hint: try a parking lot to the north. Bring water\, adventurous spirit\, strong legs\, a sharp eye and a love of stair hikes. Flashlight optional. This will also be a Sierra Club Wilderness Travel Course intro-hike – you can learn more about the class during this hike! Class starts in January 2023 – register now before the class fills up. More info at: https://www.wildernesstravelcourse.org \nHike Leader – Homer Tom \nEvent Organizer – Homer Tom hikerhomie@gmail.com \nMeetup Organizer – Jan Marie Perry janmarie3@yahoo.com
URL:https://www.hikingwithdean.com/event/hazy-shade-of-winter-stair-hike-2/
LOCATION:1900 N Highland Ave\, 1900 N Highland Ave\, Los Angeles\, CA\, 90068\, US
CATEGORIES:Hike, Backpack, Climb, Travel with Wilderness Travel Course
ATTACH;FMTTYPE=image/webp:https://hwdmedia.s3.us-west-1.amazonaws.com/wp-content/uploads/2022/09/03112402/105196_image_676x380.webp
ORGANIZER;CN="Hike%2C Backpack%2C Climb%2C Travel with Wilderness Travel Course":MAILTO:hiking-609-list@meetup.com
GEO:34.105659;-118.3369275
X-APPLE-STRUCTURED-LOCATION;VALUE=URI;X-ADDRESS=1900 N Highland Ave 1900 N Highland Ave Los Angeles CA 90068 US;X-APPLE-RADIUS=500;X-TITLE=1900 N Highland Ave:geo:-118.3369275,34.105659
END:VEVENT
END:VCALENDAR