BEGIN:VCALENDAR
VERSION:2.0
PRODID:-//Hiking with Dean - ECPv6.15.20//NONSGML v1.0//EN
CALSCALE:GREGORIAN
METHOD:PUBLISH
X-ORIGINAL-URL:https://www.hikingwithdean.com
X-WR-CALDESC:Events for Hiking with Dean
REFRESH-INTERVAL;VALUE=DURATION:PT1H
X-Robots-Tag:noindex
X-PUBLISHED-TTL:PT1H
BEGIN:VTIMEZONE
TZID:America/Los_Angeles
BEGIN:DAYLIGHT
TZOFFSETFROM:-0800
TZOFFSETTO:-0700
TZNAME:PDT
DTSTART:20230312T100000
END:DAYLIGHT
BEGIN:STANDARD
TZOFFSETFROM:-0700
TZOFFSETTO:-0800
TZNAME:PST
DTSTART:20231105T090000
END:STANDARD
BEGIN:DAYLIGHT
TZOFFSETFROM:-0800
TZOFFSETTO:-0700
TZNAME:PDT
DTSTART:20240310T100000
END:DAYLIGHT
BEGIN:STANDARD
TZOFFSETFROM:-0700
TZOFFSETTO:-0800
TZNAME:PST
DTSTART:20241103T090000
END:STANDARD
BEGIN:DAYLIGHT
TZOFFSETFROM:-0800
TZOFFSETTO:-0700
TZNAME:PDT
DTSTART:20250309T100000
END:DAYLIGHT
BEGIN:STANDARD
TZOFFSETFROM:-0700
TZOFFSETTO:-0800
TZNAME:PST
DTSTART:20251102T090000
END:STANDARD
END:VTIMEZONE
BEGIN:VEVENT
DTSTART;TZID=America/Los_Angeles:20240417T083000
DTEND;TZID=America/Los_Angeles:20240417T103000
DTSTAMP:20260423T111546
CREATED:20240416T164224Z
LAST-MODIFIED:20240416T164224Z
UID:10002524-1713342600-1713349800@www.hikingwithdean.com
SUMMARY:Rosewood Trail: Lynn to Angel Vista - Gentler Intermediate
DESCRIPTION:Meet at the Rosewood sign\, which is at the Regal Oak Ct. and Lynn Rd. intersection. The hike is about 5 miles with an elevation gain/loss approximately 900’. \nWe’ll walk a short distance on Lynn road to the lower Rosewood Trail\, then take the dirt trail up a shaded ravine and continue on the Rosewood trail to the Angel Vista peak. \nRosewood trail presents a clear view over the 101 Freeway carving up the Conejo Valley. This is a preview of the panorama to come at Angel Vista\, and the view grows larger as you hike higher up the mountain. At the top\, the picnic table at Angel Vista offers one of the magnificent panoramic viewpoints in the Santa Monica Mountains in a coastal area including the Boney Mountains\, Sandstone Peak and the rocky crown of Santa Monicas with Conejo Valley\, the Oxnard Plains and (on a clear day) a couple of the Channel Islands. \nDirections: From the 101 Freeway take Ventu Park Rd. south\, turn right on Lynn Rd. and left on Regal Oak and park near the corner. \nPLEASE READ BELOW IN ITS ENTIRETY \nPlease review our guidelines to participate in our hikes. \nRestrictions apply for your safety and ours: \n\nDon’t show up unless you’re shown on the “Attending” list.\nPlan on KEEPING UP with the group and completing the entire hike at a moderate pace\, or please find an alternative hike that better suits your hiking level.\nNo “Plus Ones” or dogs on Weekday Trailblazer hikes.\n\nDISCLAIMER / RELEASE OF LIABILITY \nThe hike host is a volunteer and not responsible for the group. Safety should be a priority for everyone in the group. Please treat this meet-up as hiking with a group of friends. If you become fatigued and unable to continue the hike\, it is expected you will advise the hike host of this and return to our starting point on your own. If you are able to proceed\, it is expected that you will maintain line of sight with other members of the group at all times and help to promote the group’s safety and fitness goals. \nOutdoor sports and other events we plan can be inherently dangerous and accidents may happen. By participating in any posted event\, you are taking responsibility for your own safety and well-being. The Weekday Trailblazers Meetup Group and its organizers are not trained leaders and we do not confirm the qualifications of any of its members to lead or participate in trips. All participants take full responsibility for their own actions. \nIf you choose to sign up for this or any Weekday Trailblazers Meetup event\, you are releasing the Weekday Trailblazers Meetup Group and its organizers from all liability in case of possible injuries. Your personal safety depends on your own judgment and experience. \nAll participants must be 18 or older\, or accompanied by a parent or legal guardian.
URL:https://www.hikingwithdean.com/event/rosewood-trail-lynn-to-angel-vista-gentler-intermediate-13/
LOCATION:150 Regal Oak Ct\, 150 Regal Oak Ct\, Thousand Oaks\, CA\, 91320\, US
CATEGORIES:Weekday Trailblazers
ATTACH;FMTTYPE=image/webp:https://hwdmedia.s3.us-west-1.amazonaws.com/wp-content/uploads/2023/09/26094143/110354_image_676x380.webp
ORGANIZER;CN="The Weekday Trailblazers":MAILTO:The-Weekday-Trailblazers-list@meetup.com
GEO:34.1756459;-118.9163006
X-APPLE-STRUCTURED-LOCATION;VALUE=URI;X-ADDRESS=150 Regal Oak Ct 150 Regal Oak Ct Thousand Oaks CA 91320 US;X-APPLE-RADIUS=500;X-TITLE=150 Regal Oak Ct:geo:-118.9163006,34.1756459
END:VEVENT
BEGIN:VEVENT
DTSTART;TZID=America/Los_Angeles:20240410T083000
DTEND;TZID=America/Los_Angeles:20240410T103000
DTSTAMP:20260423T111546
CREATED:20240409T164150Z
LAST-MODIFIED:20240409T164150Z
UID:10002499-1712737800-1712745000@www.hikingwithdean.com
SUMMARY:Rosewood Trail: Lynn to Angel Vista - Gentler Intermediate
DESCRIPTION:Meet at the Rosewood sign\, which is at the Regal Oak Ct. and Lynn Rd. intersection. The hike is about 5 miles with an elevation gain/loss approximately 900’. \nWe’ll walk a short distance on Lynn road to the lower Rosewood Trail\, then take the dirt trail up a shaded ravine and continue on the Rosewood trail to the Angel Vista peak. \nRosewood trail presents a clear view over the 101 Freeway carving up the Conejo Valley. This is a preview of the panorama to come at Angel Vista\, and the view grows larger as you hike higher up the mountain. At the top\, the picnic table at Angel Vista offers one of the magnificent panoramic viewpoints in the Santa Monica Mountains in a coastal area including the Boney Mountains\, Sandstone Peak and the rocky crown of Santa Monicas with Conejo Valley\, the Oxnard Plains and (on a clear day) a couple of the Channel Islands. \nDirections: From the 101 Freeway take Ventu Park Rd. south\, turn right on Lynn Rd. and left on Regal Oak and park near the corner. \nPLEASE READ BELOW IN ITS ENTIRETY \nPlease review our guidelines to participate in our hikes. \nRestrictions apply for your safety and ours: \n\nDon’t show up unless you’re shown on the “Attending” list.\nPlan on KEEPING UP with the group and completing the entire hike at a moderate pace\, or please find an alternative hike that better suits your hiking level.\nNo “Plus Ones” or dogs on Weekday Trailblazer hikes.\n\nDISCLAIMER / RELEASE OF LIABILITY \nThe hike host is a volunteer and not responsible for the group. Safety should be a priority for everyone in the group. Please treat this meet-up as hiking with a group of friends. If you become fatigued and unable to continue the hike\, it is expected you will advise the hike host of this and return to our starting point on your own. If you are able to proceed\, it is expected that you will maintain line of sight with other members of the group at all times and help to promote the group’s safety and fitness goals. \nOutdoor sports and other events we plan can be inherently dangerous and accidents may happen. By participating in any posted event\, you are taking responsibility for your own safety and well-being. The Weekday Trailblazers Meetup Group and its organizers are not trained leaders and we do not confirm the qualifications of any of its members to lead or participate in trips. All participants take full responsibility for their own actions. \nIf you choose to sign up for this or any Weekday Trailblazers Meetup event\, you are releasing the Weekday Trailblazers Meetup Group and its organizers from all liability in case of possible injuries. Your personal safety depends on your own judgment and experience. \nAll participants must be 18 or older\, or accompanied by a parent or legal guardian.
URL:https://www.hikingwithdean.com/event/rosewood-trail-lynn-to-angel-vista-gentler-intermediate-12/
LOCATION:150 Regal Oak Ct\, 150 Regal Oak Ct\, Thousand Oaks\, CA\, 91320\, US
CATEGORIES:Weekday Trailblazers
ATTACH;FMTTYPE=image/webp:https://hwdmedia.s3.us-west-1.amazonaws.com/wp-content/uploads/2023/09/26094143/110354_image_676x380.webp
ORGANIZER;CN="The Weekday Trailblazers":MAILTO:The-Weekday-Trailblazers-list@meetup.com
GEO:34.1756459;-118.9163006
X-APPLE-STRUCTURED-LOCATION;VALUE=URI;X-ADDRESS=150 Regal Oak Ct 150 Regal Oak Ct Thousand Oaks CA 91320 US;X-APPLE-RADIUS=500;X-TITLE=150 Regal Oak Ct:geo:-118.9163006,34.1756459
END:VEVENT
BEGIN:VEVENT
DTSTART;TZID=America/Los_Angeles:20240320T083000
DTEND;TZID=America/Los_Angeles:20240320T103000
DTSTAMP:20260423T111546
CREATED:20240319T164147Z
LAST-MODIFIED:20240319T164147Z
UID:10002441-1710923400-1710930600@www.hikingwithdean.com
SUMMARY:Rosewood Trail: Lynn to Angel Vista - Gentler Intermediate
DESCRIPTION:Meet at the Rosewood sign\, which is on the Regal Oak Ct. and Lynn Rd. intersection. The hike is about 5 miles with an elevation gain/loss approximately 900’. \nWe’ll walk a short distance on Lynn road to the lower Rosewood Trail\, then take the dirt trail up a shaded ravine and continue on the Rosewood trail to the Angel Vista peak. \nRosewood trail presents a clear view over the 101 Freeway carving up the Conejo Valley. This is a preview of the panorama to come at Angel Vista\, and the view grows larger as you hike higher up the mountain. At the top\, the picnic table at Angel Vista offers one of the magnificent panoramic viewpoints in the Santa Monica Mountains in a coastal area including the Boney Mountains\, Sandstone Peak and the rocky crown of Santa Monicas with Conejo Valley\, the Oxnard Plains and (on a clear day) a couple of the Channel Islands. \nDirections: From the 101 Freeway take Ventu Park Rd. south\, turn right on Lynn Rd. and left on Regal Oak and park near the corner. \nPLEASE READ BELOW IN ITS ENTIRETY \nPlease review our guidelines to participate in our hikes. \nRestrictions apply for your safety and ours: \n\nDon’t show up unless you’re shown on the “Attending” list.\nPlan on KEEPING UP with the group and completing the entire hike at a moderate pace\, or please find an alternative hike that better suits your hiking level.\nNo “Plus Ones” or dogs on Weekday Trailblazer hikes.\n\nDISCLAIMER / RELEASE OF LIABILITY \nThe hike host is a volunteer and not responsible for the group. Safety should be a priority for everyone in the group. Please treat this meet-up as hiking with a group of friends. If you become fatigued and unable to continue the hike\, it is expected you will advise the hike host of this and return to our starting point on your own. If you are able to proceed\, it is expected that you will maintain line of sight with other members of the group at all times and help to promote the group’s safety and fitness goals. \nOutdoor sports and other events we plan can be inherently dangerous and accidents may happen. By participating in any posted event\, you are taking responsibility for your own safety and well-being. The Weekday Trailblazers Meetup Group and its organizers are not trained leaders and we do not confirm the qualifications of any of its members to lead or participate in trips. All participants take full responsibility for their own actions. \nIf you choose to sign up for this or any Weekday Trailblazers Meetup event\, you are releasing the Weekday Trailblazers Meetup Group and its organizers from all liability in case of possible injuries. Your personal safety depends on your own judgment and experience. \nAll participants must be 18 or older\, or accompanied by a parent or legal guardian.
URL:https://www.hikingwithdean.com/event/rosewood-trail-lynn-to-angel-vista-gentler-intermediate-11/
LOCATION:150 Regal Oak Ct\, 150 Regal Oak Ct\, Thousand Oaks\, CA\, 91320\, US
CATEGORIES:Weekday Trailblazers
ATTACH;FMTTYPE=image/webp:https://hwdmedia.s3.us-west-1.amazonaws.com/wp-content/uploads/2023/09/26094143/110354_image_676x380.webp
ORGANIZER;CN="The Weekday Trailblazers":MAILTO:The-Weekday-Trailblazers-list@meetup.com
GEO:34.1756459;-118.9163006
X-APPLE-STRUCTURED-LOCATION;VALUE=URI;X-ADDRESS=150 Regal Oak Ct 150 Regal Oak Ct Thousand Oaks CA 91320 US;X-APPLE-RADIUS=500;X-TITLE=150 Regal Oak Ct:geo:-118.9163006,34.1756459
END:VEVENT
BEGIN:VEVENT
DTSTART;TZID=America/Los_Angeles:20240313T083000
DTEND;TZID=America/Los_Angeles:20240313T103000
DTSTAMP:20260423T111546
CREATED:20240312T164329Z
LAST-MODIFIED:20240312T164329Z
UID:10002420-1710318600-1710325800@www.hikingwithdean.com
SUMMARY:Rosewood Trail: Lynn to Angel Vista - Gentler Intermediate
DESCRIPTION:Meet at the Rosewood sign\, which is on the Regal Oak Ct. and Lynn Rd. intersection. The hike is about 5 miles with an elevation gain/loss approximately 900’. \nWe’ll walk a short distance on Lynn road to the lower Rosewood Trail\, then take the dirt trail up a shaded ravine and continue on the Rosewood trail to the Angel Vista peak. \nRosewood trail presents a clear view over the 101 Freeway carving up the Conejo Valley. This is a preview of the panorama to come at Angel Vista\, and the view grows larger as you hike higher up the mountain. At the top\, the picnic table at Angel Vista offers one of the magnificent panoramic viewpoints in the Santa Monica Mountains in a coastal area including the Boney Mountains\, Sandstone Peak and the rocky crown of Santa Monicas with Conejo Valley\, the Oxnard Plains and (on a clear day) a couple of the Channel Islands. \nDirections: From the 101 Freeway take Ventu Park Rd. south\, turn right on Lynn Rd. and left on Regal Oak and park near the corner. \nPLEASE READ BELOW IN ITS ENTIRETY \nPlease review our guidelines to participate in our hikes. \nRestrictions apply for your safety and ours: \n\nDon’t show up unless you’re shown on the “Attending” list.\nPlan on KEEPING UP with the group and completing the entire hike at a moderate pace\, or please find an alternative hike that better suits your hiking level.\nNo “Plus Ones” or dogs on Weekday Trailblazer hikes.\n\nDISCLAIMER / RELEASE OF LIABILITY \nThe hike host is a volunteer and not responsible for the group. Safety should be a priority for everyone in the group. Please treat this meet-up as hiking with a group of friends. If you become fatigued and unable to continue the hike\, it is expected you will advise the hike host of this and return to our starting point on your own. If you are able to proceed\, it is expected that you will maintain line of sight with other members of the group at all times and help to promote the group’s safety and fitness goals. \nOutdoor sports and other events we plan can be inherently dangerous and accidents may happen. By participating in any posted event\, you are taking responsibility for your own safety and well-being. The Weekday Trailblazers Meetup Group and its organizers are not trained leaders and we do not confirm the qualifications of any of its members to lead or participate in trips. All participants take full responsibility for their own actions. \nIf you choose to sign up for this or any Weekday Trailblazers Meetup event\, you are releasing the Weekday Trailblazers Meetup Group and its organizers from all liability in case of possible injuries. Your personal safety depends on your own judgment and experience. \nAll participants must be 18 or older\, or accompanied by a parent or legal guardian.
URL:https://www.hikingwithdean.com/event/rosewood-trail-lynn-to-angel-vista-gentler-intermediate-10/
LOCATION:150 Regal Oak Ct\, 150 Regal Oak Ct\, Thousand Oaks\, CA\, 91320\, US
CATEGORIES:Weekday Trailblazers
ATTACH;FMTTYPE=image/webp:https://hwdmedia.s3.us-west-1.amazonaws.com/wp-content/uploads/2023/09/26094143/110354_image_676x380.webp
ORGANIZER;CN="The Weekday Trailblazers":MAILTO:The-Weekday-Trailblazers-list@meetup.com
GEO:34.1756459;-118.9163006
X-APPLE-STRUCTURED-LOCATION;VALUE=URI;X-ADDRESS=150 Regal Oak Ct 150 Regal Oak Ct Thousand Oaks CA 91320 US;X-APPLE-RADIUS=500;X-TITLE=150 Regal Oak Ct:geo:-118.9163006,34.1756459
END:VEVENT
END:VCALENDAR