BEGIN:VCALENDAR
VERSION:2.0
PRODID:-//Hiking with Dean - ECPv6.15.20//NONSGML v1.0//EN
CALSCALE:GREGORIAN
METHOD:PUBLISH
X-ORIGINAL-URL:https://www.hikingwithdean.com
X-WR-CALDESC:Events for Hiking with Dean
REFRESH-INTERVAL;VALUE=DURATION:PT1H
X-Robots-Tag:noindex
X-PUBLISHED-TTL:PT1H
BEGIN:VTIMEZONE
TZID:America/Denver
BEGIN:DAYLIGHT
TZOFFSETFROM:-0700
TZOFFSETTO:-0600
TZNAME:MDT
DTSTART:20250309T090000
END:DAYLIGHT
BEGIN:STANDARD
TZOFFSETFROM:-0600
TZOFFSETTO:-0700
TZNAME:MST
DTSTART:20251102T080000
END:STANDARD
BEGIN:DAYLIGHT
TZOFFSETFROM:-0700
TZOFFSETTO:-0600
TZNAME:MDT
DTSTART:20260308T090000
END:DAYLIGHT
BEGIN:STANDARD
TZOFFSETFROM:-0600
TZOFFSETTO:-0700
TZNAME:MST
DTSTART:20261101T080000
END:STANDARD
BEGIN:DAYLIGHT
TZOFFSETFROM:-0700
TZOFFSETTO:-0600
TZNAME:MDT
DTSTART:20270314T090000
END:DAYLIGHT
BEGIN:STANDARD
TZOFFSETFROM:-0600
TZOFFSETTO:-0700
TZNAME:MST
DTSTART:20271107T080000
END:STANDARD
END:VTIMEZONE
BEGIN:VTIMEZONE
TZID:America/Los_Angeles
BEGIN:DAYLIGHT
TZOFFSETFROM:-0800
TZOFFSETTO:-0700
TZNAME:PDT
DTSTART:20250309T100000
END:DAYLIGHT
BEGIN:STANDARD
TZOFFSETFROM:-0700
TZOFFSETTO:-0800
TZNAME:PST
DTSTART:20251102T090000
END:STANDARD
BEGIN:DAYLIGHT
TZOFFSETFROM:-0800
TZOFFSETTO:-0700
TZNAME:PDT
DTSTART:20260308T100000
END:DAYLIGHT
BEGIN:STANDARD
TZOFFSETFROM:-0700
TZOFFSETTO:-0800
TZNAME:PST
DTSTART:20261101T090000
END:STANDARD
BEGIN:DAYLIGHT
TZOFFSETFROM:-0800
TZOFFSETTO:-0700
TZNAME:PDT
DTSTART:20270314T100000
END:DAYLIGHT
BEGIN:STANDARD
TZOFFSETFROM:-0700
TZOFFSETTO:-0800
TZNAME:PST
DTSTART:20271107T090000
END:STANDARD
END:VTIMEZONE
BEGIN:VEVENT
DTSTART;TZID=America/Denver:20260423T180000
DTEND;TZID=America/Denver:20260427T130000
DTSTAMP:20260420T192107
CREATED:20250429T230659Z
LAST-MODIFIED:20250429T230659Z
UID:10003385-1776967200-1777294800@www.hikingwithdean.com
SUMMARY:CANYONLANDS: Backcountry Off-Road
DESCRIPTION:
URL:https://www.hikingwithdean.com/event/canyonlands-backcountry-off-road/
LOCATION:Malibou Lake – HWD\, Seminole Drive 1912\, Agoura Hills\, CA\, 91301\, United States
CATEGORIES:San Diego Backpackers
ATTACH;FMTTYPE=image/jpeg:https://hwdmedia.s3.us-west-1.amazonaws.com/wp-content/uploads/2025/04/29160700/118231_image_highres_527655388.jpeg
ORGANIZER;CN="San Diego Backpackers":MAILTO:San-Diego-Backpackers-list@meetup.com
GEO:34.1047833;-118.7582937
X-APPLE-STRUCTURED-LOCATION;VALUE=URI;X-ADDRESS=Malibou Lake – HWD Seminole Drive 1912 Agoura Hills CA 91301 United States;X-APPLE-RADIUS=500;X-TITLE=Seminole Drive 1912:geo:-118.7582937,34.1047833
END:VEVENT
BEGIN:VEVENT
DTSTART;TZID=America/Denver:20260515T080000
DTEND;TZID=America/Denver:20260518T100000
DTSTAMP:20260420T192107
CREATED:20251001T230224Z
LAST-MODIFIED:20251001T230224Z
UID:10003701-1778832000-1779098400@www.hikingwithdean.com
SUMMARY:Kayak Camping Horseshoe Bend (15 paddle miles)
DESCRIPTION:
URL:https://www.hikingwithdean.com/event/kayak-camping-horseshoe-bend-15-paddle-miles/
LOCATION:Conejo Creek Park\, 1379 E. Janss Road\, Thousand Oaks\, CA\, 91362\, US
CATEGORIES:San Diego Backpackers
ATTACH;FMTTYPE=image/jpeg:https://hwdmedia.s3.us-west-1.amazonaws.com/wp-content/uploads/2020/07/03121630/2_image.jpg
ORGANIZER;CN="San Diego Backpackers":MAILTO:San-Diego-Backpackers-list@meetup.com
END:VEVENT
BEGIN:VEVENT
DTSTART;TZID=America/Denver:20260515T100000
DTEND;TZID=America/Denver:20260517T120000
DTSTAMP:20260420T192108
CREATED:20260104T183302Z
LAST-MODIFIED:20260104T183302Z
UID:10003738-1778839200-1779019200@www.hikingwithdean.com
SUMMARY:Big Sur area backpack-Salmon Cr. loop
DESCRIPTION:
URL:https://www.hikingwithdean.com/event/big-sur-area-backpack-salmon-cr-loop/
LOCATION:Bakersfield Sports Village\, 9001 Ashe Road\,\, Bakersfield\, CA\, 93313\, US
CATEGORIES:San Diego Backpackers
ATTACH;FMTTYPE=image/jpeg:https://hwdmedia.s3.us-west-1.amazonaws.com/wp-content/uploads/2020/07/03121630/2_image.jpg
ORGANIZER;CN="San Diego Backpackers":MAILTO:San-Diego-Backpackers-list@meetup.com
END:VEVENT
BEGIN:VEVENT
DTSTART;TZID=America/Denver:20260524T120000
DTEND;TZID=America/Denver:20260530T180000
DTSTAMP:20260420T192108
CREATED:20260115T063836Z
LAST-MODIFIED:20260115T063836Z
UID:10003785-1779624000-1780164000@www.hikingwithdean.com
SUMMARY:Golden Trout Trail Pass Lollipop
DESCRIPTION:
URL:https://www.hikingwithdean.com/event/golden-trout-trail-pass-lollipop/
LOCATION:Cedar Grove Park\, 11385 Pioneer Road\, Tustin\, CA\, 92782\, US
CATEGORIES:San Diego Backpackers
ATTACH;FMTTYPE=image/jpeg:https://hwdmedia.s3.us-west-1.amazonaws.com/wp-content/uploads/2020/07/03121630/2_image.jpg
ORGANIZER;CN="San Diego Backpackers":MAILTO:San-Diego-Backpackers-list@meetup.com
END:VEVENT
BEGIN:VEVENT
DTSTART;TZID=America/Denver:20260611T160000
DTEND;TZID=America/Denver:20260614T160000
DTSTAMP:20260420T192108
CREATED:20260104T183302Z
LAST-MODIFIED:20260104T183302Z
UID:10003739-1781193600-1781452800@www.hikingwithdean.com
SUMMARY:Yosemite Hetch Hetchy loop
DESCRIPTION:
URL:https://www.hikingwithdean.com/event/yosemite-hetch-hetchy-loop/
LOCATION:Bakersfield Sports Village\, 9001 Ashe Road\,\, Bakersfield\, CA\, 93313\, US
CATEGORIES:San Diego Backpackers
ATTACH;FMTTYPE=image/jpeg:https://hwdmedia.s3.us-west-1.amazonaws.com/wp-content/uploads/2020/07/03121630/2_image.jpg
ORGANIZER;CN="San Diego Backpackers":MAILTO:San-Diego-Backpackers-list@meetup.com
END:VEVENT
BEGIN:VEVENT
DTSTART;TZID=America/Denver:20260628T080000
DTEND;TZID=America/Denver:20260708T180000
DTSTAMP:20260420T192108
CREATED:20260104T183302Z
LAST-MODIFIED:20260104T183302Z
UID:10003740-1782633600-1783533600@www.hikingwithdean.com
SUMMARY:SEKI Long Loop (10 days)
DESCRIPTION:
URL:https://www.hikingwithdean.com/event/seki-long-loop-10-days/
LOCATION:Bakersfield Sports Village\, 9001 Ashe Road\,\, Bakersfield\, CA\, 93313\, US
CATEGORIES:San Diego Backpackers
ATTACH;FMTTYPE=image/jpeg:https://hwdmedia.s3.us-west-1.amazonaws.com/wp-content/uploads/2020/07/03121630/2_image.jpg
ORGANIZER;CN="San Diego Backpackers":MAILTO:San-Diego-Backpackers-list@meetup.com
END:VEVENT
BEGIN:VEVENT
DTSTART;TZID=America/Denver:20260701T070000
DTEND;TZID=America/Denver:20260703T180000
DTSTAMP:20260420T192108
CREATED:20260104T183302Z
LAST-MODIFIED:20260104T183302Z
UID:10003741-1782889200-1783101600@www.hikingwithdean.com
SUMMARY:Channel Islands-San Miguel Island camping
DESCRIPTION:
URL:https://www.hikingwithdean.com/event/channel-islands-san-miguel-island-camping/
LOCATION:Bakersfield Sports Village\, 9001 Ashe Road\,\, Bakersfield\, CA\, 93313\, US
CATEGORIES:San Diego Backpackers
ATTACH;FMTTYPE=image/jpeg:https://hwdmedia.s3.us-west-1.amazonaws.com/wp-content/uploads/2020/07/03121630/2_image.jpg
ORGANIZER;CN="San Diego Backpackers":MAILTO:San-Diego-Backpackers-list@meetup.com
END:VEVENT
BEGIN:VEVENT
DTSTART;TZID=America/Denver:20260802T080000
DTEND;TZID=America/Denver:20260808T120000
DTSTAMP:20260420T192108
CREATED:20260213T231418Z
LAST-MODIFIED:20260213T231418Z
UID:10003858-1785657600-1786190400@www.hikingwithdean.com
SUMMARY:Yosemite High Route South
DESCRIPTION:
URL:https://www.hikingwithdean.com/event/yosemite-high-route-south/
LOCATION:Encanto Park\, 751 Encanto Parkway\, Duarte\, CA\, 91010\, US
CATEGORIES:San Diego Backpackers
ATTACH;FMTTYPE=image/jpeg:https://hwdmedia.s3.us-west-1.amazonaws.com/wp-content/uploads/2020/07/03121630/2_image.jpg
ORGANIZER;CN="San Diego Backpackers":MAILTO:San-Diego-Backpackers-list@meetup.com
END:VEVENT
BEGIN:VEVENT
DTSTART;TZID=America/Denver:20260807T140000
DTEND;TZID=America/Denver:20260809T120000
DTSTAMP:20260420T192108
CREATED:20260216T023142Z
LAST-MODIFIED:20260216T023142Z
UID:10003861-1786111200-1786276800@www.hikingwithdean.com
SUMMARY:Dinkey Creek summer celebration car camping
DESCRIPTION:
URL:https://www.hikingwithdean.com/event/dinkey-creek-summer-celebration-car-camping/
LOCATION:928 W Avenida De Los Arboles\, 928 West Avenida De Los Arboles\, Thousand Oaks\, CA\, 91360\, US
CATEGORIES:San Diego Backpackers
ATTACH;FMTTYPE=image/jpeg:https://hwdmedia.s3.us-west-1.amazonaws.com/wp-content/uploads/2020/07/03121630/2_image.jpg
ORGANIZER;CN="San Diego Backpackers":MAILTO:San-Diego-Backpackers-list@meetup.com
END:VEVENT
BEGIN:VEVENT
DTSTART;TZID=America/Denver:20260814T190000
DTEND;TZID=America/Denver:20260821T210000
DTSTAMP:20260420T192108
CREATED:20260216T023142Z
LAST-MODIFIED:20260216T023142Z
UID:10003862-1786734000-1787346000@www.hikingwithdean.com
SUMMARY:Ansel Adams & Minarets (8 days)
DESCRIPTION:
URL:https://www.hikingwithdean.com/event/ansel-adams-minarets-8-days/
LOCATION:928 W Avenida De Los Arboles\, 928 West Avenida De Los Arboles\, Thousand Oaks\, CA\, 91360\, US
CATEGORIES:San Diego Backpackers
ATTACH;FMTTYPE=image/jpeg:https://hwdmedia.s3.us-west-1.amazonaws.com/wp-content/uploads/2020/07/03121630/2_image.jpg
ORGANIZER;CN="San Diego Backpackers":MAILTO:San-Diego-Backpackers-list@meetup.com
END:VEVENT
BEGIN:VEVENT
DTSTART;TZID=America/Denver:20260919T190000
DTEND;TZID=America/Denver:20260925T210000
DTSTAMP:20260420T192108
CREATED:20260104T183302Z
LAST-MODIFIED:20260104T183302Z
UID:10003742-1789844400-1790370000@www.hikingwithdean.com
SUMMARY:Emigrant Wilderness (6 days)
DESCRIPTION:
URL:https://www.hikingwithdean.com/event/emigrant-wilderness-6-days/
LOCATION:Bakersfield Sports Village\, 9001 Ashe Road\,\, Bakersfield\, CA\, 93313\, US
CATEGORIES:San Diego Backpackers
ATTACH;FMTTYPE=image/jpeg:https://hwdmedia.s3.us-west-1.amazonaws.com/wp-content/uploads/2020/07/03121630/2_image.jpg
ORGANIZER;CN="San Diego Backpackers":MAILTO:San-Diego-Backpackers-list@meetup.com
END:VEVENT
BEGIN:VEVENT
DTSTART;TZID=America/Denver:20261002T070000
DTEND;TZID=America/Denver:20261004T090000
DTSTAMP:20260420T192108
CREATED:20250924T230206Z
LAST-MODIFIED:20250924T230206Z
UID:10003696-1790924400-1791104400@www.hikingwithdean.com
SUMMARY:UTAH: Death Hollow (34 Miles RT)
DESCRIPTION:
URL:https://www.hikingwithdean.com/event/utah-death-hollow-34-miles-rt/
LOCATION:Conejo Creek Park\, 1379 E. Janss Road\, Thousand Oaks\, CA\, 91362\, US
CATEGORIES:San Diego Backpackers
ATTACH;FMTTYPE=image/jpeg:https://hwdmedia.s3.us-west-1.amazonaws.com/wp-content/uploads/2020/07/03121630/2_image.jpg
ORGANIZER;CN="San Diego Backpackers":MAILTO:San-Diego-Backpackers-list@meetup.com
END:VEVENT
BEGIN:VEVENT
DTSTART;TZID=America/Denver:20261005T080000
DTEND;TZID=America/Denver:20261009T150000
DTSTAMP:20260420T192108
CREATED:20250924T230206Z
LAST-MODIFIED:20250924T230206Z
UID:10003697-1791187200-1791558000@www.hikingwithdean.com
SUMMARY:UTAH: Houseboat Exploration of Lake Powell
DESCRIPTION:
URL:https://www.hikingwithdean.com/event/utah-houseboat-exploration-of-lake-powell/
LOCATION:Conejo Creek Park\, 1379 E. Janss Road\, Thousand Oaks\, CA\, 91362\, US
CATEGORIES:San Diego Backpackers
ATTACH;FMTTYPE=image/jpeg:https://hwdmedia.s3.us-west-1.amazonaws.com/wp-content/uploads/2020/07/03121630/2_image.jpg
ORGANIZER;CN="San Diego Backpackers":MAILTO:San-Diego-Backpackers-list@meetup.com
END:VEVENT
BEGIN:VEVENT
DTSTART;TZID=America/Denver:20261016T110000
DTEND;TZID=America/Denver:20261018T130000
DTSTAMP:20260420T192108
CREATED:20260104T183303Z
LAST-MODIFIED:20260104T183303Z
UID:10003743-1792148400-1792328400@www.hikingwithdean.com
SUMMARY:Big Sur bp-Vicente Flat-Cone Peak
DESCRIPTION:
URL:https://www.hikingwithdean.com/event/big-sur-bp-vicente-flat-cone-peak/
LOCATION:Bakersfield Sports Village\, 9001 Ashe Road\,\, Bakersfield\, CA\, 93313\, US
CATEGORIES:San Diego Backpackers
ATTACH;FMTTYPE=image/jpeg:https://hwdmedia.s3.us-west-1.amazonaws.com/wp-content/uploads/2020/07/03121630/2_image.jpg
ORGANIZER;CN="San Diego Backpackers":MAILTO:San-Diego-Backpackers-list@meetup.com
END:VEVENT
BEGIN:VEVENT
DTSTART;TZID=America/Los_Angeles:20261111T150000
DTEND;TZID=America/Los_Angeles:20261115T090000
DTSTAMP:20260420T192108
CREATED:20260104T183303Z
LAST-MODIFIED:20260104T183303Z
UID:10003744-1794409200-1794733200@www.hikingwithdean.com
SUMMARY:Sedona\, AZ car camping and day hikes
DESCRIPTION:
URL:https://www.hikingwithdean.com/event/sedona-az-car-camping-and-day-hikes/
LOCATION:Bakersfield Sports Village\, 9001 Ashe Road\,\, Bakersfield\, CA\, 93313\, US
CATEGORIES:San Diego Backpackers
ATTACH;FMTTYPE=image/jpeg:https://hwdmedia.s3.us-west-1.amazonaws.com/wp-content/uploads/2020/07/03121630/2_image.jpg
ORGANIZER;CN="San Diego Backpackers":MAILTO:San-Diego-Backpackers-list@meetup.com
END:VEVENT
END:VCALENDAR