BEGIN:VCALENDAR
VERSION:2.0
PRODID:-//Hiking with Dean - ECPv6.15.20//NONSGML v1.0//EN
CALSCALE:GREGORIAN
METHOD:PUBLISH
X-WR-CALNAME:Hiking with Dean
X-ORIGINAL-URL:https://www.hikingwithdean.com
X-WR-CALDESC:Events for Hiking with Dean
REFRESH-INTERVAL;VALUE=DURATION:PT1H
X-Robots-Tag:noindex
X-PUBLISHED-TTL:PT1H
BEGIN:VTIMEZONE
TZID:America/Los_Angeles
BEGIN:DAYLIGHT
TZOFFSETFROM:-0800
TZOFFSETTO:-0700
TZNAME:PDT
DTSTART:20180311T100000
END:DAYLIGHT
BEGIN:STANDARD
TZOFFSETFROM:-0700
TZOFFSETTO:-0800
TZNAME:PST
DTSTART:20181104T090000
END:STANDARD
BEGIN:DAYLIGHT
TZOFFSETFROM:-0800
TZOFFSETTO:-0700
TZNAME:PDT
DTSTART:20190310T100000
END:DAYLIGHT
BEGIN:STANDARD
TZOFFSETFROM:-0700
TZOFFSETTO:-0800
TZNAME:PST
DTSTART:20191103T090000
END:STANDARD
BEGIN:DAYLIGHT
TZOFFSETFROM:-0800
TZOFFSETTO:-0700
TZNAME:PDT
DTSTART:20200308T100000
END:DAYLIGHT
BEGIN:STANDARD
TZOFFSETFROM:-0700
TZOFFSETTO:-0800
TZNAME:PST
DTSTART:20201101T090000
END:STANDARD
END:VTIMEZONE
BEGIN:VEVENT
DTSTART;TZID=America/Los_Angeles:20190615T090000
DTEND;TZID=America/Los_Angeles:20190615T110000
DTSTAMP:20260423T235128
CREATED:20190614T021632Z
LAST-MODIFIED:20190614T021632Z
UID:10000039-1560589200-1560596400@www.hikingwithdean.com
SUMMARY:Caballero Canyon - Gizmo Peak Loop - Sol Y Luna for Lunch
DESCRIPTION:Join us for a short but heart-pounding hike through the old stomping grounds of Edgar Rice Burroughs in Caballero Canyon. We’ll take the Dinosaur Egg Trail to Mulholland\, head up for a snack on Gizmo Peak\, and return to car via the Caballero Canyon Trail \nHike is about 4 miles with over 1\,000′ total ascent. \nPost hike lunch is down the street at \nSol Y Luna\n19601 Ventura Blvd\nTarzana California 91336\n818-343-8488 \nMeet at the Caballero Canyon trailhead on Reseda Bl. From the 101 Freeway\, exit at Reseda Blvd and turn south. Drive for about two miles. There is parking on both sides of the street; the trailhead is on the left across the street from Braemar Country club \nThe Organizers and members of Hiking With Dean are not professional leaders\, guides\, or mountaineers. The function of the member or organizer is only to organize the trip. Each person who shows up for a trip/meetup (and their guest or guests) is responsible for his or her own safety. By attending a hike\, or any other event organized by this group\, you are acknowledging that you and any guests that you bring are aware of the risks\, dangers and hazards associated with the activity and freely accept and fully assume all such risks\, dangers and hazards\, and further agree to release and discharge the Organizers\, Members of the Hiking With Dean Meetup Group from and against any and all liability arising from your participation in the group activities per our ASSUMPTION OF RISK AND LIABILITY WAIVER and Section 6.2 of the Meetup.com Terms of Service.
URL:https://www.hikingwithdean.com/event/caballero-canyon-gizmo-peak-loop-sol-y-luna-for-lunch/
LOCATION:Caballero Canyon\, 4002 Reseda Bl\, Tarzana\, CA\, 91357\, US
CATEGORIES:Hiking With Dean
ATTACH;FMTTYPE=image/jpeg:https://hwdmedia.s3.us-west-1.amazonaws.com/wp-content/uploads/2019/06/28200327/Caballerojpg.jpg
GEO:34.1423185;-118.5413554
X-APPLE-STRUCTURED-LOCATION;VALUE=URI;X-ADDRESS=Caballero Canyon 4002 Reseda Bl Tarzana CA 91357 US;X-APPLE-RADIUS=500;X-TITLE=4002 Reseda Bl:geo:-118.5413554,34.1423185
END:VEVENT
END:VCALENDAR