BEGIN:VCALENDAR
VERSION:2.0
PRODID:-//Hiking with Dean - ECPv6.15.20//NONSGML v1.0//EN
CALSCALE:GREGORIAN
METHOD:PUBLISH
X-WR-CALNAME:Hiking with Dean
X-ORIGINAL-URL:https://www.hikingwithdean.com
X-WR-CALDESC:Events for Hiking with Dean
REFRESH-INTERVAL;VALUE=DURATION:PT1H
X-Robots-Tag:noindex
X-PUBLISHED-TTL:PT1H
BEGIN:VTIMEZONE
TZID:America/Los_Angeles
BEGIN:DAYLIGHT
TZOFFSETFROM:-0800
TZOFFSETTO:-0700
TZNAME:PDT
DTSTART:20220313T100000
END:DAYLIGHT
BEGIN:STANDARD
TZOFFSETFROM:-0700
TZOFFSETTO:-0800
TZNAME:PST
DTSTART:20221106T090000
END:STANDARD
BEGIN:DAYLIGHT
TZOFFSETFROM:-0800
TZOFFSETTO:-0700
TZNAME:PDT
DTSTART:20230312T100000
END:DAYLIGHT
BEGIN:STANDARD
TZOFFSETFROM:-0700
TZOFFSETTO:-0800
TZNAME:PST
DTSTART:20231105T090000
END:STANDARD
BEGIN:DAYLIGHT
TZOFFSETFROM:-0800
TZOFFSETTO:-0700
TZNAME:PDT
DTSTART:20240310T100000
END:DAYLIGHT
BEGIN:STANDARD
TZOFFSETFROM:-0700
TZOFFSETTO:-0800
TZNAME:PST
DTSTART:20241103T090000
END:STANDARD
END:VTIMEZONE
BEGIN:VEVENT
DTSTART;TZID=America/Los_Angeles:20230620T083000
DTEND;TZID=America/Los_Angeles:20230620T110000
DTSTAMP:20260420T090103
CREATED:20230618T164154Z
LAST-MODIFIED:20230618T164154Z
UID:10001736-1687249800-1687258800@www.hikingwithdean.com
SUMMARY:Saddle Peak and Topanga Lookout Trails ~ Gentler Intermediate
DESCRIPTION:We will have two short hikes; Saddle Peak hike (about 3 miles with approximately 500′ elevation gain) and Topanga Lookout hike (about 2 miles with approximately 400′ elevation gain).\nhttps://www.hikespeak.com/trails/topanga-lookout/ \nWe will begin Saddle Peak hike at the end of the Stunt Road hike near the intersection of Stunt Road and Schueren Road. Saddle Peak offers beautiful\, panoramic views of the Malibu Mountains with striking views of the Pacific\, Calabasas Peak\, Stunt Ranch State Park\, and Old Topanga Canyon. There will be a little rock-scambling close to the top. We will take a short break at Saddle Peak and return to the beginning point. Then\, we will proceed to Topanga Lookout hike. \nWe will head up the paved Topanga Tower Motorway which crosses a junction\, (Fossil Ridge Trail/Backbone Trail)\, and continue up the paved road toward the radio towers atop the summit. When a wide dirt trail veers off to the left\, follow this track along the ridge uphill and down to the lookout. The large\, graffiti-covered concrete foundation at the site of the old fire tower offers amazing views of the surrounding mountains and landscape\, wide and far. \nThese hikes comprise about 5 miles with 900 – 1000’ elevation gain. \nDirections: \nFrom the 101 – exit at the Las Virgenes Road exit and go south (toward the ocean). Drive 3 miles to Mulholland Highway and make a left turn. Continue 4 miles to Stunt Road and turn right. Go just past the 1.94 mile marker at the entrance to the UCLA Stunt Ranch Reserve\, park and meet in the asphalt pullout on the right. \nFrom PCH – turn inland on Las Flores Road (across from Duke’s Restaurant). Drive 3.4 miles up this narrow twisting canyon and turn right onto Rambla Pacifico Street. After 0.6 miles\, make a sharp right onto Schueren Road\, and take that for 1.8 miles to the intersection with Stunt Road and Saddle Peak Road. The trailhead is on the left just past the intersection. \nPlease review the guidelines (link to the guidelines) to join our hikes.\nRestrictions apply for your safety and ours: \n\nProof of vaccination required.\nDon’t show up unless you’re shown on the “Attending” list.\nPlan on KEEPING UP with the group (2.5MILES/HR+) and completing the entire hike at a moderate pace\, or please find an alternative hike that better suits your hiking level.\nYour safety is your own personal responsibility\, but the hike leader reserves the right to ask you to leave if you come unprepared.\nNo “Plus Ones” or dogs on Weekday Trailblazer hikes.\n\nDISCLAIMER / RELEASE OF LIABILITY – PLEASE READ IN ITS ENTIRETY \nThe hike host is a volunteer and not responsible for the group. Safety should be a priority for everyone in the group. Please treat this meet-up as hiking with a group of friends. If you become fatigued and unable to continue the hike\, it is expected you will advise the hike host of this and return to our starting point on your own. If you are able to proceed\, it is expected that you will maintain line of sight with other members of the group at all times and help to promote the group’s safety and fitness goals. \nOutdoor sports and other events we plan can be inherently dangerous and accidents may happen. By participating in any posted event\, you are taking responsibility for your own safety and well-being. The Weekday Trailblazers Meetup Group and its organizers are not trained leaders and we do not confirm the qualifications of any of its members to lead or participate in trips. All participants take full responsibility for their own actions. \nIf you choose to sign up for this or any Weekday Trailblazers Meetup event\, you are releasing the Weekday Trailblazers Meetup Group and its organizers from all liability in case of possible injuries. Your personal safety depends on your own judgment and experience. \nAll participants must be 18 or older\, or accompanied by a parent or legal guardian.
URL:https://www.hikingwithdean.com/event/saddle-peak-and-topanga-lookout-trails-gentler-intermediate/
LOCATION:Topanga Lookout Trailhead\, Saddle Peak Rd\, Malibu\, CA\, 90265\, US
CATEGORIES:Weekday Trailblazers
ATTACH;FMTTYPE=image/webp:https://hwdmedia.s3.us-west-1.amazonaws.com/wp-content/uploads/2023/06/18094154/109065_image_676x380.webp
ORGANIZER;CN="The Weekday Trailblazers":MAILTO:The-Weekday-Trailblazers-list@meetup.com
GEO:34.0769874;-118.6301477
X-APPLE-STRUCTURED-LOCATION;VALUE=URI;X-ADDRESS=Topanga Lookout Trailhead Saddle Peak Rd Malibu CA 90265 US;X-APPLE-RADIUS=500;X-TITLE=Saddle Peak Rd:geo:-118.6301477,34.0769874
END:VEVENT
BEGIN:VEVENT
DTSTART;TZID=America/Los_Angeles:20230620T090000
DTEND;TZID=America/Los_Angeles:20230620T113000
DTSTAMP:20260420T090103
CREATED:20230616T164202Z
LAST-MODIFIED:20230616T164202Z
UID:10001730-1687251600-1687260600@www.hikingwithdean.com
SUMMARY:Intermediate Hike ~ Palo Comado / Cheseboro Loop via Ranch Center trail
DESCRIPTION:This week we’ll do a loop around the northeastern regions of the Santa Monica Mountains National Recreation Area and the Las Virgenes Open Space. This area traverses many ecosystems\, including riparian\, chaparral\, and the rockscape from Galaxy Quest. The area is generally dry\, but very nice! \nhttp://photos1.meetupstatic.com/photos/event/c/3/0/c/event_255709932.jpeg \nThe trailhead is where Sunnycrest turns into Doubletree\, about a mile east of Kanan Road (34°10’56.67″N\, 118°45’6.44″W). The area under the trees is shady all day long; get there early to get a good spot.\nhttp://photos2.meetupstatic.com/photos/event/5/5/a/c/event_255981932.jpeg \nWe’ll be hiking about 7 miles/1100’ gain over the course of 2 1/2 hours and will traverse parts of Ranch Center\, Cheseboro\, Sheep Corral and Palo Comado canyons. We’ll see Sulphur Springs\, the Baleen Wall and Shepherd’s Flat. The hike includes fire roads\, single-tracks\, and an exhilarating wakeup call near the beginning\, where we travel up and down 400′ over the course of the 1.1 mile Ranch Center section of the trail. \nhttp://photos4.meetupstatic.com/photos/event/d/f/5/e/event_255717182.jpeg \nBring sunscreen\, plenty of water\, and wear sturdy shoes and a sun hat. Please consider bringing the 10 essentials (). \nOur departure time is 9:00 a.m. Please plan on arriving by 8:45 to get your boots and backpack on in time. \nDISCLAIMER / RELEASE OF LIABILITY\nIMPORTANT\, PLEASE READ BELOW IN ITS ENTIRETY \nRestrictions apply for your safety and ours: \n\nDon’t show up unless you’re on the “Attending” list\nUnregistered or waitlisted will be turned away\nNo “Plus Ones” on this hike\nPlan on completing the entire hike or please find an alternative hike that better suits your hiking level.\nNo dogs\nAll participants must be 18 or older\, or accompanied by a parent or legal guardian.\n\nThe hike host is a volunteer and not responsible for the group. Safety should be a priority for everyone in the group. Please treat this meet-up as hiking with a group of friends. If you become fatigued and unable to continue the hike\, it is expected you will advise the hike host of this and return to our starting point on your own. If you are able to proceed\, it is expected that you will maintain line of sight with other members of the group at all times and help to promote the group’s safety and fitness goals. \nOutdoor sports and other events we plan can be inherently dangerous and accidents may happen. By participating in any posted event\, you are taking responsibility for your own safety and well-being. The Weekday Trailblazers Meetup Group and its organizers are not trained leaders and we do not confirm the qualifications of any of its members to lead or participate in trips. All participants take full responsibility for their own actions. \nIf you choose to sign up for this or any Weekday Trailblazers Meetup event\, you are releasing the Weekday Trailblazers Meetup Group and its organizers from all liability in case of possible injuries. Your personal safety depends on your own judgment and experience.
URL:https://www.hikingwithdean.com/event/intermediate-hike-palo-comado-cheseboro-loop-via-ranch-center-trail/
LOCATION:Trailhead\, Sunnycrest and Doubletree\, Oak Park\, CA\, US
CATEGORIES:Weekday Trailblazers
ATTACH;FMTTYPE=image/webp:https://hwdmedia.s3.us-west-1.amazonaws.com/wp-content/uploads/2023/06/16094203/109036_image_676x380.webp
ORGANIZER;CN="The Weekday Trailblazers":MAILTO:The-Weekday-Trailblazers-list@meetup.com
GEO:34.1816291;-118.7514088
X-APPLE-STRUCTURED-LOCATION;VALUE=URI;X-ADDRESS=Trailhead Sunnycrest and Doubletree Oak Park CA US;X-APPLE-RADIUS=500;X-TITLE=Sunnycrest and Doubletree:geo:-118.7514088,34.1816291
END:VEVENT
BEGIN:VEVENT
DTSTART;TZID=America/Los_Angeles:20230620T090000
DTEND;TZID=America/Los_Angeles:20230620T120000
DTSTAMP:20260420T090103
CREATED:20230618T164157Z
LAST-MODIFIED:20230618T164157Z
UID:10001737-1687251600-1687262400@www.hikingwithdean.com
SUMMARY:Upper Stunt High Trail To Saddle Peak ~ Gentler Intermediate at a Slower Pace
DESCRIPTION:This hike begins at Upper Stunt High Trail\, a couple hundred feet to the right on the other side of the street from the parking lot. The trail winds upward gradually over switchbacks\, giving way as the trail heads up to a dramatic rocky overlook with striking views of the Pacific\, Stunt Ranch State Park\, Calabasas Peak\, and Old Topanga Canyon. There are also longer vistas northwest into Ventura County and east to the San Fernando Valley. We will see beautiful wooded areas and increasing views of the Santa Monica Mountains and Stunt Ranch State Park as we ascend. We eventually reach the Saddle Peak Trail via Backbone Trail and soon begin an easterly ridgeline walk high above the Pacific. This route will take us along and above spectacular tilted and pocketed sandstone formations\, with dramatic views of the mountains and ocean as we proceed. There will be a little rock-scambling close to the top. We will take a short break at Saddle Peak and return back the same way. \nIt is about 5 miles round-trip with 1000 feet of elevation gain. \nDirections: \nFrom the 101 – exit at the Las Virgenes Road exit and go south (toward the ocean). Drive 3 miles to Mulholland Highway and make a left turn. Continue 4 miles to Stunt Road and turn right. THERE IS NO SIGN FOR STUNT ROAD SO BE SURE TO SET YOUR MILEAGE or Google Maps. Go just past the 1.94 mile marker at the entrance to the UCLA Stunt Ranch Reserve\, park and meet in the asphalt pullout on the right. \nFrom the PCH – turn up Malibu Canyon Road and drive 6.5 miles to Mulholland Highway. Turn right and continue 4 miles to Stunt Road. Go just past the 1.94 mile marker at the entrance to the UCLA Stunt Ranch Reserve\, park and meet in the asphalt pullout on the right. \nPlease review the guidelines (https://www.meetup.com/The-Weekday-Trailblazers/about/) to join our hikes.\nRestrictions apply for your safety and ours: \n\nDon’t show up unless you’re shown on the “Attending” list.\nPlan on KEEPING UP with the group and completing the entire hike at a moderate pace\, or please find an alternative hike that better suits your hiking level.\nNo “Plus Ones” or dogs on Weekday Trailblazer hikes.\n\nDISCLAIMER/RELEASE OF LIABILITY – PLEASE READ IN ITS ENTIRETY\nThe hike host is a volunteer and not responsible for the group. Safety should be a priority for everyone in the group. Please treat this meet-up as hiking with a group of friends. If you become fatigued and unable to continue the hike\, it is expected you will advise the hike host of this and return to our starting point on your own. If you are able to proceed\, it is expected that you will maintain line of sight with other members of the group at all times and help to promote the group’s safety and fitness goals.\nOutdoor sports and other events we plan can be inherently dangerous and accidents may happen. By participating in any posted event\, you are taking responsibility for your own safety and well-being. The Weekday Trailblazers Meetup Group and its organizers are not trained leaders and we do not confirm the qualifications of any of its members to lead or participate in trips. All participants take full responsibility for their own actions.\nIf you choose to sign up for this or any Weekday Trailblazers Meetup event\, you are releasing the Weekday Trailblazers Meetup Group and its organizers from all liability in case of possible injuries. Your personal safety depends on your own judgment and experience.\nAll participants must be 18 or older\, or accompanied by a parent or legal guardian.
URL:https://www.hikingwithdean.com/event/upper-stunt-high-trail-to-saddle-peak-gentler-intermediate-at-a-slower-pace/
LOCATION:UCLA Stunt Ranch Reserve\, 1201 Stunt Rd\, Calabasas\, CA\, 91302\, US
CATEGORIES:Weekday Trailblazers
ATTACH;FMTTYPE=image/webp:https://hwdmedia.s3.us-west-1.amazonaws.com/wp-content/uploads/2023/04/29094140/108265_image_676x380.webp
ORGANIZER;CN="The Weekday Trailblazers":MAILTO:The-Weekday-Trailblazers-list@meetup.com
GEO:34.0936118;-118.6563887
X-APPLE-STRUCTURED-LOCATION;VALUE=URI;X-ADDRESS=UCLA Stunt Ranch Reserve 1201 Stunt Rd Calabasas CA 91302 US;X-APPLE-RADIUS=500;X-TITLE=1201 Stunt Rd:geo:-118.6563887,34.0936118
END:VEVENT
BEGIN:VEVENT
DTSTART;TZID=America/Los_Angeles:20230622T090000
DTEND;TZID=America/Los_Angeles:20230622T113000
DTSTAMP:20260420T090103
CREATED:20230616T164207Z
LAST-MODIFIED:20230616T164207Z
UID:10001732-1687424400-1687433400@www.hikingwithdean.com
SUMMARY:The Bridge is Back! - MASH via the Grassland Trail
DESCRIPTION:Please review our guidelines to participate in our hikes. Restrictions apply for your safety and ours: \n\nPlease don’t show up unless you’re on the “Attending” list\nUnregistered or waitlisted will be turned away\nSorry\, no “Plus Ones” on this hike\nNo dogs allowed in the state park\n\nThe usual access to MASH (Reagan Ranch) is still too overgrown to make for a comfortable hike. This alternate route will take us into the park from the north–Mulholland entrance to the Grassland Trail. The Grassland trail runs along a ridge line that affords panoramic views of MCSP’s central valley (aka Torpin Plain) before dropping down to Crags Road (aka High Road) that will take us up and over to Century Lake. From there we will proceed across the newly installed bridge to the MASH site. We will return the same way we came in with some small detours if time allows. Total distance is approximately 6.5 miles\, with minimal elevation gain/loss (according to Gaia GPS) of about 500′. \nOur departure time is 9:00 a.m. There is plenty of parking on Mulholland but you may have to go past the trailhead to find it. Just be aware of the “No Stopping” signs and park well within the white-stripes. There are pullouts up on the left where you can do a u-turn and park on the opposite side of the road. Please be careful! Walk facing traffic and watch for speeding cars. This is known as the “Mulholland Raceway”. \nDirections:\nTake the 101 Freeway to Las Virgenes Rd. exit. Proceed SOUTH (towards ocean) to Mulholland Hwy. Turn RIGHT on Mulholland. The Grassland Trail will be on your LEFT as you cross the bridge. Google maps gives the address as 26998 Mulholland Hwy. \nDISCLAIMER / RELEASE OF LIABILITY\nIMPORTANT\, PLEASE READ BELOW IN ITS ENTIRETY: \nThe hike host is a volunteer and not responsible for the group. Safety should be a priority for everyone in the group. Please treat this meet-up as hiking with a group of friends. If you become fatigued and unable to continue the hike\, it is expected you will advise the hike host of this and return to our starting point on your own. If you are able to proceed\, it is expected that you will maintain line of sight with other members of the group at all times and help to promote the group’s safety and fitness goals. \nOutdoor sports and other events we plan can be inherently dangerous and accidents may happen. By participating in any posted event\, you are taking responsibility for your own safety and well-being. The Weekday Trailblazers Meetup Group and its organizers are not trained leaders and we do not confirm the qualifications of any of its members to lead or participate in trips. All participants take full responsibility for their own actions. \nIf you choose to sign up for this or any Weekday Trailblazers Meetup event\, you are releasing the Weekday Trailblazers Meetup Group and its organizers from all liability in case of possible injuries. Your personal safety depends on your own judgment and experience. \nAll participants must be 18 or older\, or accompanied by a parent or legal guardian.
URL:https://www.hikingwithdean.com/event/the-bridge-is-back-mash-via-the-grassland-trail/
LOCATION:26998 Mulholland Hwy\, 26998 Mulholland Hwy\, Agoura Hills\, CA\, 91301\, US
CATEGORIES:Weekday Trailblazers
ATTACH;FMTTYPE=image/webp:https://hwdmedia.s3.us-west-1.amazonaws.com/wp-content/uploads/2023/06/16094208/109040_image_676x380.webp
ORGANIZER;CN="The Weekday Trailblazers":MAILTO:The-Weekday-Trailblazers-list@meetup.com
GEO:34.1035014;-118.7139794
X-APPLE-STRUCTURED-LOCATION;VALUE=URI;X-ADDRESS=26998 Mulholland Hwy 26998 Mulholland Hwy Agoura Hills CA 91301 US;X-APPLE-RADIUS=500;X-TITLE=26998 Mulholland Hwy:geo:-118.7139794,34.1035014
END:VEVENT
BEGIN:VEVENT
DTSTART;TZID=America/Los_Angeles:20230622T090000
DTEND;TZID=America/Los_Angeles:20230622T120000
DTSTAMP:20260420T090103
CREATED:20230616T164206Z
LAST-MODIFIED:20230616T164206Z
UID:10001731-1687424400-1687435200@www.hikingwithdean.com
SUMMARY:Ray Miller trail up to the fire road
DESCRIPTION:On this hike we will go up the Ray Miller trail to the fire road and back\, about 6 miles. It will probably still be cool enough on the beach to start at 9:00\, that will change soon. We’ll enjoy beautiful ocean views as we descend. \nLying along the brilliant blue Pacific Ocean at the west end of Malibu (just shy of Port Hueneme)\, the swelling blue ocean is rivaled in beauty by the undulating native California grasslands. On a clear day\, the Channel Islands are easily within sight\, although it is often foggy this time of year. \nMost of the trail is exposed\, bring sunscreen\, hopefully there will be some clouds. It may be mosquito season so it’s up to you whether you should bring bug repellent. \nWe’ll meet in the parking lot near the Ray Miller Trailhead (look for the brilliant yellow sign). There is a parking fee in the lot (or free with state parking pass). There is free parking on PCH just a short walk to the parking area. \nhttps://a248.e.akamai.net/secure.meetupstatic.com/photos/event/6/7/4/a/event_93326442.jpeg \nPlease review the ongoing guidelines to participate in our morning hikes. Here are some highlights and a link to the guidelines:\nhttps://www.meetup.com/The-Weekday-Trailblazers/about/\nRestrictions apply for your safety and ours:\nDon’t show up unless you’re on the “Attending” list\nNo “Plus Ones” on this hike\nNo dogs on this hike \nDirections: \nFrom Los Angeles\, take the Pacific Coast Highway (PCH) north\, 22 miles from Malibu Canyon Rd. Across the street from Thornhill Broome Beach is the entrance to La Jolla Canyon. It is very clearly marked. Turn right. \nFrom Ventura\, take PCH eastward\, and turn left 4 miles after Las Posas Road. \nDo NOT leave anything of value in your car\, at this or any other trailhead. \nDISCLAIMER / RELEASE OF LIABILITY \nThe hike host is a volunteer and not responsible for the group. Safety should be a priority for everyone in the group. Please treat this meet-up as hiking with a group of friends. If you become fatigued and unable to continue the hike\, it is expected you will advise the hike host of this and return to our starting point on your own. If you are able to proceed\, it is expected that you will maintain line of sight with other members of the group at all times and help to promote the group’s safety and fitness goals. \nOutdoor sports and other events we plan can be inherently dangerous and accidents may happen. By participating in any posted event\, you are taking responsibility for your own safety and well-being. The Weekday Trailblazers Meetup Group and its organizers are not trained leaders and we do not confirm the qualifications of any of its members to lead or participate in trips. All participants take full responsibility for their own actions. \nIf you choose to sign up for this or any Weekday Trailblazers Meetup event\, you are releasing the Weekday Trailblazers Meetup Group\, its organizers\, and sponsors from all liability in case of possible injuries. Your personal safety depends on your own judgment and experience. You agree that you can navigate back to your transportation by yourself\, and agree to do so if you fall behind and lose track of the main body of hikers. \nThere are no “Plus One’s” on this hike. If you want to bring someone along\, have them sign up\, and make sure they’re aware of\, and agree to\, this disclaimer. \nAll participants must be 18 or older or accompanied by a parent or legal guardian.
URL:https://www.hikingwithdean.com/event/ray-miller-trail-up-to-the-fire-road-2/
LOCATION:La Jolla Canyon\, 8588 Pacific Coast Hwy\, 2 mi North of Sycamore Canyon\, Ventura\, CA\, US
CATEGORIES:Weekday Trailblazers
ATTACH;FMTTYPE=image/webp:https://hwdmedia.s3.us-west-1.amazonaws.com/wp-content/uploads/2023/03/26094204/107686_image_676x380.webp
ORGANIZER;CN="The Weekday Trailblazers":MAILTO:The-Weekday-Trailblazers-list@meetup.com
GEO:34.0823594;-119.033338
X-APPLE-STRUCTURED-LOCATION;VALUE=URI;X-ADDRESS=La Jolla Canyon 8588 Pacific Coast Hwy 2 mi North of Sycamore Canyon Ventura CA US;X-APPLE-RADIUS=500;X-TITLE=8588 Pacific Coast Hwy\, 2 mi North of Sycamore Canyon:geo:-119.033338,34.0823594
END:VEVENT
BEGIN:VEVENT
DTSTART;TZID=America/Los_Angeles:20230625T083000
DTEND;TZID=America/Los_Angeles:20230625T103000
DTSTAMP:20260420T090103
CREATED:20230617T164141Z
LAST-MODIFIED:20230617T164141Z
UID:10001734-1687681800-1687689000@www.hikingwithdean.com
SUMMARY:Hike for World Peace with TKBC Buddhist Center
DESCRIPTION:Join our community for a peaceful hike for world peace on the beautiful Los Padres Trail and Vista Loop to help raise funds for world peace. Enjoy a beautiful day in serene surroundings with like-minded spiritual friends while supporting a worthy cause. \nTushita KBC is a non-profit 501(c)3 organization run by volunteers that has been serving the Conejo Valley area for over sixteen years. All proceeds from this event will go directly towards our community outreach efforts to help those who wish to find inner peace.\n​\nThere are many ways to participate in this fun event.\nYou can be a part of the hike\, sponsor a hiker\, or attend the chanted meditation and lunch!\n​\nSunday\, June 25th\n8am Meet for Coffee and Light snacks\n8:30am Hike begins\n11:30am Meet at Tushita KBC for a chanted meditation and delicious lunch!\n​\n$100 entrance fee per hiker. Get friends\, family\, fellow hikers to help sponsor your your entrance fee\, or sponsor other hikers if you can’t attend. If you can’t meet the entrance fee\, Steve Cochran will Sponsor you to the extent of the entrance fee. \nYou can use the Paypal logo at our website meditateinwestlake.org to make contributions. These fees will be used. to offset Ticket Charges at the Thousand Oaks Performing Arts Center for highschool students and Retirement Home Residents for our upcoming February 2024 Talk by renown Buddhist Monk Gen-la Kelsang Jampa.\n​\nDIRECTIONS:\nMeet at the south end of Moorpark Road where it intersects with Greenmeadow Avenue.\nTraveling from Agoura Hills – north on the 101 fwy\, exit Moorpark Rd and turn left.\nTraveling from Newbury Park – south on the 101 fwy\, exit Moorpark Rd and turn right. \nDrive about a half mile until Moorpark Rd dead-ends. Turn right onto Greenmeadow Ave and an immediate left into a dirt lot for parking. There are also paved parking spaces adjacent to the dirt lot\, but you have to enter those from the dirt lot. \nTRAIL NAME:\nThis is the Los Robles Trailhead at the end of Moorpark Rd.\nThe route we will be hiking is called Los Padres Trail and Vista Loop (in the Los Robles Open Space). \nTushita Kadampa Buddhist Center is a 501(c)(3) volunteer-led\, charitable entity that follows the Kadampa Buddhist tradition founded by Venerable Geshe Kelsang Gyatso Rinpoche.
URL:https://www.hikingwithdean.com/event/hike-for-world-peace-with-tkbc-buddhist-center/
LOCATION:26998 Mulholland Hwy\, 26998 Mulholland Hwy\, Agoura Hills\, CA\, 91301\, US
CATEGORIES:Weekday Trailblazers
ATTACH;FMTTYPE=image/webp:https://hwdmedia.s3.us-west-1.amazonaws.com/wp-content/uploads/2023/06/17094142/109051_image_676x380.webp
ORGANIZER;CN="The Weekday Trailblazers":MAILTO:The-Weekday-Trailblazers-list@meetup.com
GEO:34.1035014;-118.7139794
X-APPLE-STRUCTURED-LOCATION;VALUE=URI;X-ADDRESS=26998 Mulholland Hwy 26998 Mulholland Hwy Agoura Hills CA 91301 US;X-APPLE-RADIUS=500;X-TITLE=26998 Mulholland Hwy:geo:-118.7139794,34.1035014
END:VEVENT
END:VCALENDAR