BEGIN:VCALENDAR
VERSION:2.0
PRODID:-//Hiking with Dean - ECPv6.15.20//NONSGML v1.0//EN
CALSCALE:GREGORIAN
METHOD:PUBLISH
X-WR-CALNAME:Hiking with Dean
X-ORIGINAL-URL:https://www.hikingwithdean.com
X-WR-CALDESC:Events for Hiking with Dean
REFRESH-INTERVAL;VALUE=DURATION:PT1H
X-Robots-Tag:noindex
X-PUBLISHED-TTL:PT1H
BEGIN:VTIMEZONE
TZID:America/Los_Angeles
BEGIN:DAYLIGHT
TZOFFSETFROM:-0800
TZOFFSETTO:-0700
TZNAME:PDT
DTSTART:20220313T100000
END:DAYLIGHT
BEGIN:STANDARD
TZOFFSETFROM:-0700
TZOFFSETTO:-0800
TZNAME:PST
DTSTART:20221106T090000
END:STANDARD
BEGIN:DAYLIGHT
TZOFFSETFROM:-0800
TZOFFSETTO:-0700
TZNAME:PDT
DTSTART:20230312T100000
END:DAYLIGHT
BEGIN:STANDARD
TZOFFSETFROM:-0700
TZOFFSETTO:-0800
TZNAME:PST
DTSTART:20231105T090000
END:STANDARD
BEGIN:DAYLIGHT
TZOFFSETFROM:-0800
TZOFFSETTO:-0700
TZNAME:PDT
DTSTART:20240310T100000
END:DAYLIGHT
BEGIN:STANDARD
TZOFFSETFROM:-0700
TZOFFSETTO:-0800
TZNAME:PST
DTSTART:20241103T090000
END:STANDARD
END:VTIMEZONE
BEGIN:VEVENT
DTSTART;TZID=America/Los_Angeles:20231121T090000
DTEND;TZID=America/Los_Angeles:20231121T110000
DTSTAMP:20260424T041341
CREATED:20231118T164143Z
LAST-MODIFIED:20231118T164143Z
UID:10002111-1700557200-1700564400@www.hikingwithdean.com
SUMMARY:Los Robles/Moorpark Trail
DESCRIPTION:NOTE: \nThis is a second (and slower) hike for Tuesday\, we will see how much it rains this weekend\, but it should be okay. We will take this Los Robles trail with lots of trees and hopefully no mud. \nThis is a loop of about 4.5 miles with about 800′ of total elevation gain\, spread out nicely\, with a little bonus loop through Oak Creek Canyon. \n“Robles” is Spanish for oaks\, and we’ll see plenty of them on this beautiful\, relaxing hike. \nTrailhead Directions: From the 101 in Thousand Oaks\, turn south on Moorpark Road. Drive about 0.5 miles to the parking lot at the corner of Greenmeadow and Moorpark Road. \nPlease review the guidelines to participate in our hikes. Here are some highlights and a link to the guidelines: \nhttps://www.meetup.com/The-Weekday-Trailblazers/about/ \nRestrictions apply for your safety and ours: \nDon’t show up unless you’re on the “Attending” list \nNo “Plus Ones” on this hike \nPlan on completing the entire hike at a moderate pace or please find an alternative hike that better suits your hiking level. \nNo dogs \nDISCLAIMER / RELEASE OF LIABILITY \nIMPORTANT\, PLEASE READ BELOW IN ITS ENTIRETY: \nThe hike host is a volunteer and not responsible for the group. Safety should be a priority for everyone in the group. Please treat this meet-up as hiking with a group of friends. If you become fatigued and unable to continue the hike\, it is expected you will advise the hike host of this and return to our starting point on your own. If you are able to proceed\, it is expected that you will maintain line of sight with other members of the group at all times and help to promote the group’s safety and fitness goals. \nOutdoor sports and other events we plan can be inherently dangerous and accidents may happen. By participating in any posted event\, you are taking responsibility for your own safety and well-being. The Weekday Trailblazers Meetup Group and its organizers are not trained leaders and we do not confirm the qualifications of any of its members to lead or participate in trips. All participants take full responsibility for their own actions. \nIf you choose to sign up for this or any Weekday Trailblazers Meetup event\, you are releasing the Weekday Trailblazers Meetup Group and its organizers from all liability in case of possible injuries. Your personal safety depends on your own judgment and experience. \nAll participants must be 18 or older or accompanied by a parent or legal guardian.
URL:https://www.hikingwithdean.com/event/los-robles-moorpark-trail-2/
LOCATION:Los Robles Trail\, 351 S Moorpark Rd\, Thousand Oaks\, CA\, 91361\, US
CATEGORIES:Weekday Trailblazers
ATTACH;FMTTYPE=image/webp:https://hwdmedia.s3.us-west-1.amazonaws.com/wp-content/uploads/2023/03/26094204/107686_image_676x380.webp
ORGANIZER;CN="The Weekday Trailblazers":MAILTO:The-Weekday-Trailblazers-list@meetup.com
GEO:34.1727501;-118.8786474
X-APPLE-STRUCTURED-LOCATION;VALUE=URI;X-ADDRESS=Los Robles Trail 351 S Moorpark Rd Thousand Oaks CA 91361 US;X-APPLE-RADIUS=500;X-TITLE=351 S Moorpark Rd:geo:-118.8786474,34.1727501
END:VEVENT
BEGIN:VEVENT
DTSTART;TZID=America/Los_Angeles:20231121T090000
DTEND;TZID=America/Los_Angeles:20231121T120000
DTSTAMP:20260424T041341
CREATED:20231118T164143Z
LAST-MODIFIED:20231118T164143Z
UID:10002110-1700557200-1700568000@www.hikingwithdean.com
SUMMARY:Pre-turkey trot~Intermediate 8 mile hike~RayMiller Trail and Overlook Trail
DESCRIPTION:Join us on a pre-turkey trot up the Ray Miller Trail and the Overlook Trail. We’ll turn back around the Guadalasca Trail intersection. We’ll enjoy beautiful ocean views as we descend. We’ll pick up about 1500’ gain on this 8 mile adventure. \nLying along the brilliant blue Pacific Ocean at the west end of Malibu (just shy of Port Hueneme)\, the swelling blue ocean is rivaled in beauty by the undulating native California grasslands. On a clear day\, the Channel Islands are easily within sight. Most of the trail is exposed\, so sunscreen is highly recommended and plenty of water. Mosquito season should be over so it’s up to you whether you should bring bug repellent. \nWe’ll meet in the parking lot near the Ray Miller Trailhead (look for the brilliant yellow sign). There is a parking fee in the lot (or free with state parking pass). There is free parking on PCH just a short walk to the parking area. \nhttps://a248.e.akamai.net/secure.meetupstatic.com/photos/event/6/7/4/a/event_93326442.jpeg \nPlease review the ongoing guidelines to participate in our morning hikes. Here are some highlights and a link to the guidelines:\nhttps://www.meetup.com/The-Weekday-Trailblazers/about/\nRestrictions apply for your safety and ours:\nDon’t show up unless you’re on the “Attending” list\nNo “Plus Ones” on this hike\nNo dogs on this hike\nPlan on completing the entire hike with the group\, or please find an alternative hike that better suits your hiking level. \nDirections: \nFrom Los Angeles\, take the Pacific Coast Highway (PCH) north\, 22 miles from Malibu Canyon Rd. Across the street from Thornhill Broome Beach is the entrance to La Jolla Canyon. It is very clearly marked. Turn right. \nFrom Ventura\, take PCH eastward\, and turn left 4 miles after Las Posas Road. \nDo NOT leave anything of value in your car\, at this or any other trailhead. \nDISCLAIMER / RELEASE OF LIABILITY \nThe hike host is a volunteer and not responsible for the group. Safety should be a priority for everyone in the group. Please treat this meet-up as hiking with a group of friends. If you become fatigued and unable to continue the hike\, it is expected you will advise the hike host of this and return to our starting point on your own. If you are able to proceed\, it is expected that you will maintain line of sight with other members of the group at all times and help to promote the group’s safety and fitness goals. \nOutdoor sports and other events we plan can be inherently dangerous and accidents may happen. By participating in any posted event\, you are taking responsibility for your own safety and well-being. The Weekday Trailblazers Meetup Group and its organizers are not trained leaders and we do not confirm the qualifications of any of its members to lead or participate in trips. All participants take full responsibility for their own actions. \nIf you choose to sign up for this or any Weekday Trailblazers Meetup event\, you are releasing the Weekday Trailblazers Meetup Group\, its organizers\, and sponsors from all liability in case of possible injuries. Your personal safety depends on your own judgment and experience. You agree that you can navigate back to your transportation by yourself\, and agree to do so if you fall behind and lose track of the main body of hikers. \nThere are no “Plus One’s” on this hike. If you want to bring someone along\, have them sign up\, and make sure they’re aware of\, and agree to\, this disclaimer. \nAll participants must be 18 or older\, or accompanied by a parent or legal guardian.
URL:https://www.hikingwithdean.com/event/pre-turkey-trotintermediate-8-mile-hikeraymiller-trail-and-overlook-trail/
LOCATION:La Jolla Canyon\, 8588 Pacific Coast Hwy\, 2 mi North of Sycamore Canyon\, Ventura\, CA\, US
CATEGORIES:Weekday Trailblazers
ATTACH;FMTTYPE=image/webp:https://hwdmedia.s3.us-west-1.amazonaws.com/wp-content/uploads/2023/03/26094204/107686_image_676x380.webp
ORGANIZER;CN="The Weekday Trailblazers":MAILTO:The-Weekday-Trailblazers-list@meetup.com
GEO:34.0823594;-119.033338
X-APPLE-STRUCTURED-LOCATION;VALUE=URI;X-ADDRESS=La Jolla Canyon 8588 Pacific Coast Hwy 2 mi North of Sycamore Canyon Ventura CA US;X-APPLE-RADIUS=500;X-TITLE=8588 Pacific Coast Hwy\, 2 mi North of Sycamore Canyon:geo:-119.033338,34.0823594
END:VEVENT
END:VCALENDAR