BEGIN:VCALENDAR
VERSION:2.0
PRODID:-//Hiking with Dean - ECPv6.15.20//NONSGML v1.0//EN
CALSCALE:GREGORIAN
METHOD:PUBLISH
X-WR-CALNAME:Hiking with Dean
X-ORIGINAL-URL:https://www.hikingwithdean.com
X-WR-CALDESC:Events for Hiking with Dean
REFRESH-INTERVAL;VALUE=DURATION:PT1H
X-Robots-Tag:noindex
X-PUBLISHED-TTL:PT1H
BEGIN:VTIMEZONE
TZID:America/Los_Angeles
BEGIN:DAYLIGHT
TZOFFSETFROM:-0800
TZOFFSETTO:-0700
TZNAME:PDT
DTSTART:20200308T100000
END:DAYLIGHT
BEGIN:STANDARD
TZOFFSETFROM:-0700
TZOFFSETTO:-0800
TZNAME:PST
DTSTART:20201101T090000
END:STANDARD
BEGIN:DAYLIGHT
TZOFFSETFROM:-0800
TZOFFSETTO:-0700
TZNAME:PDT
DTSTART:20210314T100000
END:DAYLIGHT
BEGIN:STANDARD
TZOFFSETFROM:-0700
TZOFFSETTO:-0800
TZNAME:PST
DTSTART:20211107T090000
END:STANDARD
BEGIN:DAYLIGHT
TZOFFSETFROM:-0800
TZOFFSETTO:-0700
TZNAME:PDT
DTSTART:20220313T100000
END:DAYLIGHT
BEGIN:STANDARD
TZOFFSETFROM:-0700
TZOFFSETTO:-0800
TZNAME:PST
DTSTART:20221106T090000
END:STANDARD
END:VTIMEZONE
BEGIN:VEVENT
DTSTART;TZID=America/Los_Angeles:20211203T100000
DTEND;TZID=America/Los_Angeles:20211203T120000
DTSTAMP:20260423T191448
CREATED:20211126T200349Z
LAST-MODIFIED:20211126T200349Z
UID:10000475-1638525600-1638532800@www.hikingwithdean.com
SUMMARY:Cheeseboro Ridge and Modelo Trail Loop
DESCRIPTION:https://www.alltrails.com/trail/us/california/cheeseboro-ridge-and-modelo-trail-loop \nHello Fellow Hikers\,Cheeseboro Ridge is a pretty open view hike of mountains and trails. Nice amount of elevation with stretches of leveled off sections. This s a popular area on the weekends with hikers and mountain bikers alike. Will be following the hike s a loop from AllTrails.I have attached the AllTrails link for directions\, pics\, and stats https://www.alltrails.com/trail/us/california/cheeseboro-ridge-and-modelo-trail-loop?ref=result-card \nMiles 5.5Trail loopElevation Gain 905 ftRated moderateDogs allowed \nWe will always follow Jim’s Golden Rules:1) Hike your own hike2) Please stop at every junction and split to wait for others to catch up \nPlease remember to bring all essentials you’ll need for a hike \nAnd last….The Organizer\, Co Organizer\, Assistant Organizers and Event hosts in this group are not professional guides. The function of the organizer is only to organize the trip. Each person who signs up for a Event is responsible for his or her own safety and the safety of his or her guest. Remember this is your hike all responsibilities are of your own once you attend please be aware of your limits.
URL:https://www.hikingwithdean.com/event/cheeseboro-ridge-and-modelo-trail-loop/
LOCATION:Cheeseboro and Palo Comado Canyon\, 5792 Chesebro Rd\, Agoura Hills\, CA\, 91301\, US
CATEGORIES:Ventura County Day Hikes
ATTACH;FMTTYPE=image/jpeg:https://hwdmedia.s3.us-west-1.amazonaws.com/wp-content/uploads/2021/11/03114343/99913_image_highres_500450922.jpeg
GEO:34.1543129;-118.7340262
X-APPLE-STRUCTURED-LOCATION;VALUE=URI;X-ADDRESS=Cheeseboro and Palo Comado Canyon 5792 Chesebro Rd Agoura Hills CA 91301 US;X-APPLE-RADIUS=500;X-TITLE=5792 Chesebro Rd:geo:-118.7340262,34.1543129
END:VEVENT
BEGIN:VEVENT
DTSTART;TZID=America/Los_Angeles:20211204T090000
DTEND;TZID=America/Los_Angeles:20211204T110000
DTSTAMP:20260423T191448
CREATED:20211126T200352Z
LAST-MODIFIED:20211126T200352Z
UID:10000477-1638608400-1638615600@www.hikingwithdean.com
SUMMARY:Trippet Ranch to Eagle Springs Loop trail
DESCRIPTION:https://www.alltrails.com/trail/us/california/trippet-ranch-to-eagle-springs-loop-trail \nHello Fellow Hikers\,Okay this area was hit by fire May of this year and completely changed the landscape but as most have said made it interesting to experience. To see mother nature restoring herself and wildlife returning made the trail interesting and exciting. Will be passing Eagle Rock on this one which is a popular spot for pictures and rock scrambling. Will also pass through Musch Camp on the Musch Trail which is also popular for scenery and pics. I have attached the AllTrails link for directions\, pics\, and stats https://www.alltrails.com/trail/us/california/trippet-ranch-to-eagle-springs-loop-trail \nMiles 6.1Trail loopElevation Gain 1200 ftRated moderateDogs sorry not allowed in the park \nWe will always follow Jim’s Golden Rules:1) Hike your own hike2) Please stop at every junction and split to wait for others to catch up \nPlease remember to bring all essentials you’ll need for a hike \nAnd last….The Organizer\, Co Organizer\, Assistant Organizers and Event hosts in this group are not professional guides. The function of the organizer is only to organize the trip. Each person who signs up for a Event is responsible for his or her own safety and the safety of his or her guest. Remember this is your hike all responsibilities are of your own once you attend please be aware of your limits
URL:https://www.hikingwithdean.com/event/trippet-ranch-to-eagle-springs-loop-trail/
LOCATION:20828 Entrada Rd\, 20828 Entrada Rd\, Topanga\, CA\, 90290\, US
CATEGORIES:Ventura County Day Hikes
ATTACH;FMTTYPE=image/jpeg:https://hwdmedia.s3.us-west-1.amazonaws.com/wp-content/uploads/2021/11/03114341/99916_image_highres_500452384.jpeg
GEO:34.0928234;-118.5891255
X-APPLE-STRUCTURED-LOCATION;VALUE=URI;X-ADDRESS=20828 Entrada Rd 20828 Entrada Rd Topanga CA 90290 US;X-APPLE-RADIUS=500;X-TITLE=20828 Entrada Rd:geo:-118.5891255,34.0928234
END:VEVENT
BEGIN:VEVENT
DTSTART;TZID=America/Los_Angeles:20211205T090000
DTEND;TZID=America/Los_Angeles:20211205T113000
DTSTAMP:20260423T191448
CREATED:20211128T200344Z
LAST-MODIFIED:20211128T200344Z
UID:10000918-1638694800-1638703800@www.hikingwithdean.com
SUMMARY:Mission Point via Bee Canyon Trail
DESCRIPTION:https://www.alltrails.com/trail/us/california/mission-point-via-bee-canyon-trail \nHello Fellow Hikers\,Okay I know what you’re thinking 5.6 miles just over 1400 elevation gain rated hard? Yep it’s rated hard for a reason. This trail starts out nice and easy through O’Melveny Park. It shaded and lined with beautiful trees a nice and easy walk. That’s until you finally hit the trailhead and then the rated hard comes in. As you’ll read through the reviews this trail offers a great incline workout that offers more incline then level off sections. It’s not undoable but will definitely get the heart pumping. Not a lot of junctions or splits on this trail so the faster hikers can really go for it while the rest of us (me) can take quick breather breaks 😛 Once at the top we will be greeted with awesome views a bench\, peak marker and the O’Melveny stone marker. I have attached the AllTrails link for directions\, pics\, and stats https://www.alltrails.com/trail/us/california/mission-point-via-bee-canyon-trail \nTrail out and backMiles 5.6Rated hardElevation Gain 1443 ftDogs allowed \nWe will always follow Jim’s Golden Rules:1) Hike your own hike2) Please stop at every junction and split to wait for others to catch up \nPlease remember to bring all essentials you’ll need for a hike \nAnd last….The Organizer\, Co Organizer\, Assistant Organizers and Event hosts in this group are not professional guides. The function of the organizer is only to organize the trip. Each person who signs up for a Event is responsible for his or her own safety and the safety of his or her guest. Remember this is your hike all responsibilities are of your own once you attend please be aware of your limits
URL:https://www.hikingwithdean.com/event/mission-point-via-bee-canyon-trail/
LOCATION:O’Melveny Park Parking\, 17300 O'Melveny Park\, Granada Hills\, CA\, 91344\, US
CATEGORIES:Ventura County Day Hikes
ATTACH;FMTTYPE=image/jpeg:https://hwdmedia.s3.us-west-1.amazonaws.com/wp-content/uploads/2021/11/03114323/99952_image_highres_500491494.jpeg
GEO:34.3083881;-118.5106548
X-APPLE-STRUCTURED-LOCATION;VALUE=URI;X-ADDRESS=O’Melveny Park Parking 17300 O'Melveny Park Granada Hills CA 91344 US;X-APPLE-RADIUS=500;X-TITLE=17300 O'Melveny Park:geo:-118.5106548,34.3083881
END:VEVENT
BEGIN:VEVENT
DTSTART;TZID=America/Los_Angeles:20211206T100000
DTEND;TZID=America/Los_Angeles:20211206T120000
DTSTAMP:20260423T191448
CREATED:20211130T200335Z
LAST-MODIFIED:20211130T200335Z
UID:10000925-1638784800-1638792000@www.hikingwithdean.com
SUMMARY:Tapo Canyon Trail
DESCRIPTION:https://www.alltrails.com/trail/us/california/tapo-canyon-trail?u=i \nHello fellow hikers\,Join me on a easier moderate hike at Tapo Canyon Trail in Simi Valley. This hike has a nice gradual walk until we start a gradual climb were we will start our loop. We should encounter wildflowers and mountain views. Our loop will drop down then we will continue until we start our climb back up. From there it will be all downhill and straight back to our cars. I have attached the AllTrails link for directions\, stats and photos….We will be following the AllTrails map from start to finish…https://www.alltrails.com/trail/us/california/tapo-canyon-trail?u=i \nTrail LoopMiles 4.3Rated ModerateElevation Gain 698 ftDogs Allowed \nWe will always follow Jim’s Golden Rules:1) Hike your own hike2) Please stop at every junction and split to wait for others to catch up \nPlease remember to bring all essentials you’ll need for a hike \nAnd last….The Organizer\, Co Organizer\, Assistant Organizers and Event hosts in this group are not professional guides. The function of the organizer is only to organize the trip. Each person who signs up for a Event is responsible for his or her own safety and the safety of his or her guest
URL:https://www.hikingwithdean.com/event/tapo-canyon-trail-12/
LOCATION:Tapo Canyon Road\, Tapo Canyon Rd\, Simi Valley\, CA\, US
CATEGORIES:Ventura County Day Hikes
ATTACH;FMTTYPE=image/jpeg:https://hwdmedia.s3.us-west-1.amazonaws.com/wp-content/uploads/2021/11/03114310/99975_image_highres_500536522-scaled.jpeg
GEO:34.2938871;-118.7176037
X-APPLE-STRUCTURED-LOCATION;VALUE=URI;X-ADDRESS=Tapo Canyon Road Tapo Canyon Rd Simi Valley CA US;X-APPLE-RADIUS=500;X-TITLE=Tapo Canyon Rd:geo:-118.7176037,34.2938871
END:VEVENT
BEGIN:VEVENT
DTSTART;TZID=America/Los_Angeles:20211211T090000
DTEND;TZID=America/Los_Angeles:20211211T140000
DTSTAMP:20260423T191448
CREATED:20211204T200328Z
LAST-MODIFIED:20211204T200328Z
UID:10000947-1639213200-1639231200@www.hikingwithdean.com
SUMMARY:Potrero to Tripeaks Trail
DESCRIPTION:https://www.alltrails.com/explore/trail/us/california/potrero-to-tripeaks-trail?mobileMap=false&ref=sidebar-static-map \nHello Fellow Hikers\,We have another request hike here. This is gonna be a good one for those who love more of a challenge. This trail is gonna be a steep climb with some rock scrambling. The trail is a harder hike and not recommended for a beginner or leisure hiker. This trail may have overgrown sections. This is a beautiful area and we’re gonna have some incredible views but this trail will not be easy and it will be more on the difficult side. I have attached the AllTrails link for directions\, pics\, and stats https://www.alltrails.com/trail/us/california/potrero-to-tripeaks-trail \nTrail loopMiles 10.5Elevation Gain 3097Rated hard (not recommended for beginner or leisure hikers)Dogs not allowed in this area \nWe will always follow Jim’s Golden Rules:1) Hike your own hike2) Please stop at every junction and split to wait for others to catch up \nPlease remember to bring all essentials you’ll need for a hike \nAnd last….The Organizer\, Co Organizer\, Assistant Organizers and Event hosts in this group are not professional guides. The function of the organizer is only to organize the trip. Each person who signs up for a Event is responsible for his or her own safety and the safety of his or her guest. Remember this is your hike all responsibilities are of your own once you attend please be aware of your limits
URL:https://www.hikingwithdean.com/event/potrero-to-tripeaks-trail/
LOCATION:4128 Potrero Rd\, 4128 Potrero Rd\, Thousand Oaks\, CA\, 91361\, US
CATEGORIES:Ventura County Day Hikes
ATTACH;FMTTYPE=image/jpeg:https://hwdmedia.s3.us-west-1.amazonaws.com/wp-content/uploads/2021/12/03114158/100069_image_highres_500598889.jpeg
GEO:34.1545092;-118.9503197
X-APPLE-STRUCTURED-LOCATION;VALUE=URI;X-ADDRESS=4128 Potrero Rd 4128 Potrero Rd Thousand Oaks CA 91361 US;X-APPLE-RADIUS=500;X-TITLE=4128 Potrero Rd:geo:-118.9503197,34.1545092
END:VEVENT
BEGIN:VEVENT
DTSTART;TZID=America/Los_Angeles:20211213T090000
DTEND;TZID=America/Los_Angeles:20211213T110000
DTSTAMP:20260423T191448
CREATED:20211126T200354Z
LAST-MODIFIED:20211126T200354Z
UID:10000480-1639386000-1639393200@www.hikingwithdean.com
SUMMARY:Ray Miller Backbone and Overlook Trail Loop
DESCRIPTION:https://www.alltrails.com/trail/us/california/ray-miller-backbone-and-overlook-trail-loop \nHello Fellow Hikers\,Another requested trail here and I understand why. This is a really pretty area a very scenic beautiful hike. The Ray Miller Trail has everything and is very popular with Altra runners. This is a ocean and mountains view hike. I have attached the AllTrails link for directions\, pics\, and stats https://www.alltrails.com/trail/us/california/ray-miller-backbone-and-overlook-trail-loop \nTrail loopMiles 7.3Rated moderateElevation gain 1545 ftDogs sorry not allowed on this trail \nWe will always follow Jim’s Golden Rules:1) Hike your own hike2) Please stop at every junction and split to wait for others to catch up \nPlease remember to bring all essentials you’ll need for a hike \nAnd last….The Organizer\, Co Organizer\, Assistant Organizers and Event hosts in this group are not professional guides. The function of the organizer is only to organize the trip. Each person who signs up for a Event is responsible for his or her own safety and the safety of his or her guest. Remember this is your hike all responsibilities are of your own once you attend please be aware of your limits.
URL:https://www.hikingwithdean.com/event/ray-miller-backbone-and-overlook-trail-loop/
LOCATION:La Jolla Canyon\, California\, CA\, 90265\, US
CATEGORIES:Ventura County Day Hikes
ATTACH;FMTTYPE=image/jpeg:https://hwdmedia.s3.us-west-1.amazonaws.com/wp-content/uploads/2021/11/03114338/99919_image_highres_500451411.jpeg
GEO:34.0615492;-118.8363756
END:VEVENT
BEGIN:VEVENT
DTSTART;TZID=America/Los_Angeles:20211215T100000
DTEND;TZID=America/Los_Angeles:20211215T130000
DTSTAMP:20260423T191448
CREATED:20211126T200357Z
LAST-MODIFIED:20211126T200357Z
UID:10000904-1639562400-1639573200@www.hikingwithdean.com
SUMMARY:Upper Las Virgines Canyon to Sheep Corral Trail
DESCRIPTION:https://www.alltrails.com/trail/us/california/upper-las-virgines-canyon-to-sheep-corral-trail \nHello Fellow Hikers\,Okay this is a popular trail with both hikers and mountain bikers. The reason is because you feel like you are truly away from the hustle and bustle and you are finally with nature. The trails out here are endless and the mountains seem to go on.This has a more gradual incline. I have attached the AllTrails link for directions\, pics\, and stats https://www.alltrails.com/trail/us/california/upper-las-virgines-canyon-to-sheep-corral-trail \nTrail out and backMiles 10.4Rated moderateElevation Gain 1118 ftDogs allowed \nWe will always follow Jim’s Golden Rules:1) Hike your own hike2) Please stop at every junction and split to wait for others to catch up \nPlease remember to bring all essentials you’ll need for a hike \nAnd last….The Organizer\, Co Organizer\, Assistant Organizers and Event hosts in this group are not professional guides. The function of the organizer is only to organize the trip. Each person who signs up for a Event is responsible for his or her own safety and the safety of his or her guest. Remember this is your hike all responsibilities are of your own once you attend please be aware of your limits.
URL:https://www.hikingwithdean.com/event/upper-las-virgines-canyon-to-sheep-corral-trail/
LOCATION:Upper Las Virgenes Cyn Open Space Preserve LV Trailhead\, 6000 Las Virgenes Rd\, Calabasas\, CA\, 91302
CATEGORIES:Ventura County Day Hikes
ATTACH;FMTTYPE=image/jpeg:https://hwdmedia.s3.us-west-1.amazonaws.com/wp-content/uploads/2021/11/03114335/99921_image_highres_500450847.jpeg
GEO:34.1677776;-118.7027792
X-APPLE-STRUCTURED-LOCATION;VALUE=URI;X-ADDRESS=Upper Las Virgenes Cyn Open Space Preserve LV Trailhead 6000 Las Virgenes Rd Calabasas CA 91302;X-APPLE-RADIUS=500;X-TITLE=6000 Las Virgenes Rd:geo:-118.7027792,34.1677776
END:VEVENT
BEGIN:VEVENT
DTSTART;TZID=America/Los_Angeles:20211216T100000
DTEND;TZID=America/Los_Angeles:20211216T130000
DTSTAMP:20260423T191448
CREATED:20211201T200318Z
LAST-MODIFIED:20211201T200318Z
UID:10000927-1639648800-1639659600@www.hikingwithdean.com
SUMMARY:Mugu Peak to La Jolla Valley Loop
DESCRIPTION:https://www.alltrails.com/explore/trail/us/california/mugu-peak-to-la-jolla-nature-preserve \nHello Fellow Hikers\,Okay talk about a calve burner! Yes this is rated moderate but the first part (the start) is straight up! Mugu Peak is 2.7 miles (round trip) with a elevation gain of 1246 ft but once we tackle that part it’s smooth sailing from there. From the parking lot we should shortly begin our climb to the top of Mugu Peak were we will be rewarded with unbelievable views and a nice flag to welcome us. Then will continue our journey to La Jolla Valley were will have more open meadows mountain views that go on. I have attached the AllTrails link for directions\, pics\, and stats https://www.alltrails.com/trail/us/california/mugu-peak-to-la-jolla-nature-preserve \nMiles 9.2Rated moderate (but the start will be hard)Trail loopElevation Gain 2181 ftDogs not allowed in this area \nWe will always follow Jim’s Golden Rules:1) Hike your own hike2) Please stop at every junction and split to wait for others to catch up \nPlease remember to bring all essentials you’ll need for a hike \nAnd last….The Organizer\, Co Organizer\, Assistant Organizers and Event hosts in this group are not professional guides. The function of the organizer is only to organize the trip. Each person who signs up for a Event is responsible for his or her own safety and the safety of his or her guest. Remember this is your hike all responsibilities are of your own once you attend please be aware of your limits
URL:https://www.hikingwithdean.com/event/mugu-peak-to-la-jolla-valley-loop/
LOCATION:Chumash Trail\, Chumash Trail\, Malibu\, CA\, 90265\, US
CATEGORIES:Ventura County Day Hikes
ATTACH;FMTTYPE=image/jpeg:https://hwdmedia.s3.us-west-1.amazonaws.com/wp-content/uploads/2021/12/03114302/99994_image_highres_500546217.jpeg
GEO:34.0791604;-118.9453562
X-APPLE-STRUCTURED-LOCATION;VALUE=URI;X-ADDRESS=Chumash Trail Chumash Trail Malibu CA 90265 US;X-APPLE-RADIUS=500;X-TITLE=Chumash Trail:geo:-118.9453562,34.0791604
END:VEVENT
END:VCALENDAR