BEGIN:VCALENDAR
VERSION:2.0
PRODID:-//Hiking with Dean - ECPv6.15.20//NONSGML v1.0//EN
CALSCALE:GREGORIAN
METHOD:PUBLISH
X-ORIGINAL-URL:https://www.hikingwithdean.com
X-WR-CALDESC:Events for Hiking with Dean
REFRESH-INTERVAL;VALUE=DURATION:PT1H
X-Robots-Tag:noindex
X-PUBLISHED-TTL:PT1H
BEGIN:VTIMEZONE
TZID:America/Los_Angeles
BEGIN:DAYLIGHT
TZOFFSETFROM:-0800
TZOFFSETTO:-0700
TZNAME:PDT
DTSTART:20220313T100000
END:DAYLIGHT
BEGIN:STANDARD
TZOFFSETFROM:-0700
TZOFFSETTO:-0800
TZNAME:PST
DTSTART:20221106T090000
END:STANDARD
BEGIN:DAYLIGHT
TZOFFSETFROM:-0800
TZOFFSETTO:-0700
TZNAME:PDT
DTSTART:20230312T100000
END:DAYLIGHT
BEGIN:STANDARD
TZOFFSETFROM:-0700
TZOFFSETTO:-0800
TZNAME:PST
DTSTART:20231105T090000
END:STANDARD
BEGIN:DAYLIGHT
TZOFFSETFROM:-0800
TZOFFSETTO:-0700
TZNAME:PDT
DTSTART:20240310T100000
END:DAYLIGHT
BEGIN:STANDARD
TZOFFSETFROM:-0700
TZOFFSETTO:-0800
TZNAME:PST
DTSTART:20241103T090000
END:STANDARD
END:VTIMEZONE
BEGIN:VEVENT
DTSTART;TZID=America/Los_Angeles:20230312T090000
DTEND;TZID=America/Los_Angeles:20230312T150000
DTSTAMP:20260420T080457
CREATED:20230205T233651Z
LAST-MODIFIED:20230312T015735Z
UID:10001500-1678611600-1678633200@www.hikingwithdean.com
SUMMARY:V.I.P. Hike - Big Dome Lollipop
DESCRIPTION:This content is restricted to active VIP members. If you are an active member\, please log in below. If you are not a member\, you may join here. If your VIP membership is expired please renew from your profile page in Main Menu. Please use the contact form for any other issues. \n\n\n	\n	\n\n		\n		\n			\n				Username or Email\n				\n			 \n			\n				Password\n				\n			 \n						\n				\n				Remember me\n			 \n			Lost your password?
URL:https://www.hikingwithdean.com/event/v-i-p-hike-big-dome/
LOCATION:Somewhere in Western Malibu
CATEGORIES:Hiking With Dean,V.I.P. Hike
ATTACH;FMTTYPE=image/webp:https://hwdmedia.s3.us-west-1.amazonaws.com/wp-content/uploads/2023/02/24182604/106825_image_676x380.webp
END:VEVENT
END:VCALENDAR