BEGIN:VCALENDAR
VERSION:2.0
PRODID:-//Hiking with Dean - ECPv6.15.20//NONSGML v1.0//EN
CALSCALE:GREGORIAN
METHOD:PUBLISH
X-WR-CALNAME:Hiking with Dean
X-ORIGINAL-URL:https://www.hikingwithdean.com
X-WR-CALDESC:Events for Hiking with Dean
REFRESH-INTERVAL;VALUE=DURATION:PT1H
X-Robots-Tag:noindex
X-PUBLISHED-TTL:PT1H
BEGIN:VTIMEZONE
TZID:America/Los_Angeles
BEGIN:DAYLIGHT
TZOFFSETFROM:-0800
TZOFFSETTO:-0700
TZNAME:PDT
DTSTART:20180311T100000
END:DAYLIGHT
BEGIN:STANDARD
TZOFFSETFROM:-0700
TZOFFSETTO:-0800
TZNAME:PST
DTSTART:20181104T090000
END:STANDARD
BEGIN:DAYLIGHT
TZOFFSETFROM:-0800
TZOFFSETTO:-0700
TZNAME:PDT
DTSTART:20190310T100000
END:DAYLIGHT
BEGIN:STANDARD
TZOFFSETFROM:-0700
TZOFFSETTO:-0800
TZNAME:PST
DTSTART:20191103T090000
END:STANDARD
BEGIN:DAYLIGHT
TZOFFSETFROM:-0800
TZOFFSETTO:-0700
TZNAME:PDT
DTSTART:20200308T100000
END:DAYLIGHT
BEGIN:STANDARD
TZOFFSETFROM:-0700
TZOFFSETTO:-0800
TZNAME:PST
DTSTART:20201101T090000
END:STANDARD
END:VTIMEZONE
BEGIN:VEVENT
DTSTART;TZID=America/Los_Angeles:20190527T090000
DTEND;TZID=America/Los_Angeles:20190527T120000
DTSTAMP:20260422T055146
CREATED:20190524T231229Z
LAST-MODIFIED:20190524T231229Z
UID:10000036-1558947600-1558958400@www.hikingwithdean.com
SUMMARY:The Lost Trails of Zuniga - VIPs Only
DESCRIPTION:This content is restricted to active VIP members. If you are an active member\, please log in below. If you are not a member\, you may join here. If your VIP membership is expired please renew from your profile page in Main Menu. Please use the contact form for any other issues. \n\n\n	\n	\n\n		\n		\n			\n				Username or Email\n				\n			 \n			\n				Password\n				\n			 \n						\n				\n				Remember me\n			 \n			Lost your password?
URL:https://www.hikingwithdean.com/event/the-lost-trails-of-zuniga-vips-only/
LOCATION:Red Rock Canyon Park\, 23601 W. Red Rock Road\, Old Topanga\, CA\, 90290\, US
CATEGORIES:Hiking With Dean,V.I.P. Hike
ATTACH;FMTTYPE=image/jpeg:https://hwdmedia.s3.us-west-1.amazonaws.com/wp-content/uploads/2019/05/28200555/zuniga.jpg
GEO:34.1059434;-118.6369045
X-APPLE-STRUCTURED-LOCATION;VALUE=URI;X-ADDRESS=Red Rock Canyon Park 23601 W. Red Rock Road Old Topanga CA 90290 US;X-APPLE-RADIUS=500;X-TITLE=23601 W. Red Rock Road:geo:-118.6369045,34.1059434
END:VEVENT
END:VCALENDAR