BEGIN:VCALENDAR
VERSION:2.0
PRODID:-//Hiking with Dean - ECPv6.15.20//NONSGML v1.0//EN
CALSCALE:GREGORIAN
METHOD:PUBLISH
X-WR-CALNAME:Hiking with Dean
X-ORIGINAL-URL:https://www.hikingwithdean.com
X-WR-CALDESC:Events for Hiking with Dean
REFRESH-INTERVAL;VALUE=DURATION:PT1H
X-Robots-Tag:noindex
X-PUBLISHED-TTL:PT1H
BEGIN:VTIMEZONE
TZID:America/Los_Angeles
BEGIN:DAYLIGHT
TZOFFSETFROM:-0800
TZOFFSETTO:-0700
TZNAME:PDT
DTSTART:20230312T100000
END:DAYLIGHT
BEGIN:STANDARD
TZOFFSETFROM:-0700
TZOFFSETTO:-0800
TZNAME:PST
DTSTART:20231105T090000
END:STANDARD
BEGIN:DAYLIGHT
TZOFFSETFROM:-0800
TZOFFSETTO:-0700
TZNAME:PDT
DTSTART:20240310T100000
END:DAYLIGHT
BEGIN:STANDARD
TZOFFSETFROM:-0700
TZOFFSETTO:-0800
TZNAME:PST
DTSTART:20241103T090000
END:STANDARD
BEGIN:DAYLIGHT
TZOFFSETFROM:-0800
TZOFFSETTO:-0700
TZNAME:PDT
DTSTART:20250309T100000
END:DAYLIGHT
BEGIN:STANDARD
TZOFFSETFROM:-0700
TZOFFSETTO:-0800
TZNAME:PST
DTSTART:20251102T090000
END:STANDARD
END:VTIMEZONE
BEGIN:VEVENT
DTSTART;TZID=America/Los_Angeles:20240427T090000
DTEND;TZID=America/Los_Angeles:20240427T120000
DTSTAMP:20260422T141023
CREATED:20240418T002424Z
LAST-MODIFIED:20240418T002424Z
UID:10002526-1714208400-1714219200@www.hikingwithdean.com
SUMMARY:Old Ridge Route to Knapp Ranch...& More!
DESCRIPTION:There is a lot of history on this ride. Many of you probably already know something about Route 99\, and some of you who grew up in the West San Fernando Valley are probably familiar with the Knapp family. \nI will have a more to say about that in the coming days but I did not want to delay posting this so you can put the ride on your calendar sooner. \n🚵Ride will be 24.5 miles with 2\,925 feet total ascent. About 13 miles are on paved or asphalt roads with the rest on dirt road — no single tracks. \nOther historical sites we will visit include: \n\nSandburg’s Summit Hotel\nTumble Inn\nThe Gillette Mine\n\nStay tuned for more details! \nDIRECTIONS\nPark and meet on the corner of Hwy 138 (Lancaster Road) and Ridge Rte Rd — see https://maps.app.goo.gl/cdRMhpzm5oTWE24B6
URL:https://www.hikingwithdean.com/event/old-ridge-route-to-knapp-ranch-more/
LOCATION:Ridge Route Ranch\, 33814 Ridge Rte Rd\, Lancaster\, CA\, 93536\, US
CATEGORIES:SoCal eBike Riders
ATTACH;FMTTYPE=image/webp:https://hwdmedia.s3.us-west-1.amazonaws.com/wp-content/uploads/2024/04/17172428/113190_image_676x380.webp
ORGANIZER;CN="SoCal eBike Riders":MAILTO:socal-ebike-riders-list@meetup.com
GEO:34.761118;-118.728544
X-APPLE-STRUCTURED-LOCATION;VALUE=URI;X-ADDRESS=Ridge Route Ranch 33814 Ridge Rte Rd Lancaster CA 93536 US;X-APPLE-RADIUS=500;X-TITLE=33814 Ridge Rte Rd:geo:-118.728544,34.761118
END:VEVENT
END:VCALENDAR