BEGIN:VCALENDAR
VERSION:2.0
PRODID:-//Hiking with Dean - ECPv6.15.20//NONSGML v1.0//EN
CALSCALE:GREGORIAN
METHOD:PUBLISH
X-ORIGINAL-URL:https://www.hikingwithdean.com
X-WR-CALDESC:Events for Hiking with Dean
REFRESH-INTERVAL;VALUE=DURATION:PT1H
X-Robots-Tag:noindex
X-PUBLISHED-TTL:PT1H
BEGIN:VTIMEZONE
TZID:America/Los_Angeles
BEGIN:DAYLIGHT
TZOFFSETFROM:-0800
TZOFFSETTO:-0700
TZNAME:PDT
DTSTART:20220313T100000
END:DAYLIGHT
BEGIN:STANDARD
TZOFFSETFROM:-0700
TZOFFSETTO:-0800
TZNAME:PST
DTSTART:20221106T090000
END:STANDARD
BEGIN:DAYLIGHT
TZOFFSETFROM:-0800
TZOFFSETTO:-0700
TZNAME:PDT
DTSTART:20230312T100000
END:DAYLIGHT
BEGIN:STANDARD
TZOFFSETFROM:-0700
TZOFFSETTO:-0800
TZNAME:PST
DTSTART:20231105T090000
END:STANDARD
BEGIN:DAYLIGHT
TZOFFSETFROM:-0800
TZOFFSETTO:-0700
TZNAME:PDT
DTSTART:20240310T100000
END:DAYLIGHT
BEGIN:STANDARD
TZOFFSETFROM:-0700
TZOFFSETTO:-0800
TZNAME:PST
DTSTART:20241103T090000
END:STANDARD
END:VTIMEZONE
BEGIN:VEVENT
DTSTART;TZID=America/Los_Angeles:20230416T090000
DTEND;TZID=America/Los_Angeles:20230416T120000
DTSTAMP:20260422T152412
CREATED:20230329T002415Z
LAST-MODIFIED:20230415T163003Z
UID:10001536-1681635600-1681646400@www.hikingwithdean.com
SUMMARY:Hollywood Sign - Hollywood Reservoir Loop Ride
DESCRIPTION:Hooray for Hollywood! There is only one legal way to bike to the Hollywood sign and that’s the way we will take. But that’s not all… \nOur all-road loop starts and ends at the Fern Dell Nature Museum in the Hollywood Hills. We’ll ride west across Hollywood\, mostly on Franklin Ave and Yucca St\, until we hook up with Nicholas Canyon Rd. \nVisit the Amazon eBike Shop \nNicholas Canyon Rd will take us to Mulholland Dr\, then across the 101 to the Hollywood Reservoir. After a loop around the reservoir we’ll ride up and through the Lake Hollywood neighborhood where we connect with Mt Lee Dr. \nMt Lee Dr takes us to Mt Lee\, the site of the Hollywood Sign. Bring a picnic lunch with items to share at the sign. \nWe return by way of Beachwood Dr\, Canyon Dr and other streets in the Hollywood Hills. We’ll finish by walking our bikes along a quarter-mile footpath through the Fern Dell Nature Museum \nRide will be about 19 mi with 2\,400 ft elev gain \nProposed Route\nIgnore the cycling not permitted notes \n \nWaytypes \nSingletrack: 0.59 mi\nPath: 0.59 mi\nAccess Road: < 109 yd\nCycleway: 2.64 mi\nStreet: 11 mi\nRoad: 4.19 mi\nState Road: < 109 yd \nSurfaces \nUnpaved: 1.05 mi\nPaved: 10 mi\nAsphalt: 7.80 mi
URL:https://www.hikingwithdean.com/event/hollywood-sign-hollywood-reservoir-loop-ride/
LOCATION:Fern Dell Nature Trail\, Fern Dell Dr\, Los Angeles\, CA\, 90027\, US
CATEGORIES:SoCal eBike Riders
ATTACH;FMTTYPE=image/webp:https://hwdmedia.s3.us-west-1.amazonaws.com/wp-content/uploads/2023/03/28172416/107734_image_676x380.webp
ORGANIZER;CN="SoCal eBike Riders":MAILTO:socal-ebike-riders-list@meetup.com
GEO:34.1109246;-118.3072157
X-APPLE-STRUCTURED-LOCATION;VALUE=URI;X-ADDRESS=Fern Dell Nature Trail Fern Dell Dr Los Angeles CA 90027 US;X-APPLE-RADIUS=500;X-TITLE=Fern Dell Dr:geo:-118.3072157,34.1109246
END:VEVENT
END:VCALENDAR