BEGIN:VCALENDAR
VERSION:2.0
PRODID:-//Hiking with Dean - ECPv6.15.20//NONSGML v1.0//EN
CALSCALE:GREGORIAN
METHOD:PUBLISH
X-ORIGINAL-URL:https://www.hikingwithdean.com
X-WR-CALDESC:Events for Hiking with Dean
REFRESH-INTERVAL;VALUE=DURATION:PT1H
X-Robots-Tag:noindex
X-PUBLISHED-TTL:PT1H
BEGIN:VTIMEZONE
TZID:America/Los_Angeles
BEGIN:DAYLIGHT
TZOFFSETFROM:-0800
TZOFFSETTO:-0700
TZNAME:PDT
DTSTART:20220313T100000
END:DAYLIGHT
BEGIN:STANDARD
TZOFFSETFROM:-0700
TZOFFSETTO:-0800
TZNAME:PST
DTSTART:20221106T090000
END:STANDARD
BEGIN:DAYLIGHT
TZOFFSETFROM:-0800
TZOFFSETTO:-0700
TZNAME:PDT
DTSTART:20230312T100000
END:DAYLIGHT
BEGIN:STANDARD
TZOFFSETFROM:-0700
TZOFFSETTO:-0800
TZNAME:PST
DTSTART:20231105T090000
END:STANDARD
BEGIN:DAYLIGHT
TZOFFSETFROM:-0800
TZOFFSETTO:-0700
TZNAME:PDT
DTSTART:20240310T100000
END:DAYLIGHT
BEGIN:STANDARD
TZOFFSETFROM:-0700
TZOFFSETTO:-0800
TZNAME:PST
DTSTART:20241103T090000
END:STANDARD
END:VTIMEZONE
BEGIN:VEVENT
DTSTART;TZID=America/Los_Angeles:20230121T100000
DTEND;TZID=America/Los_Angeles:20230121T130000
DTSTAMP:20260420T180327
CREATED:20230116T174302Z
LAST-MODIFIED:20230116T174302Z
UID:10000932-1674295200-1674306000@www.hikingwithdean.com
SUMMARY:Chatsworth Highlands (rescheduled)
DESCRIPTION:I’m putting together a ride in Chatsworth. Our route will depend on how much water is in the creeks. In any case\, figure about 15 miles on bike paths\, neighborhood streets\, old dirt ranch roads and non-technical equestrian/hiking trails.
URL:https://www.hikingwithdean.com/event/chatsworth-highlands-rescheduled/
LOCATION:Chatsworth Orange Line Station Lot A\, 10013 Old Depot Plaza Rd\, Chatsworth\, CA\, 91311\, US
CATEGORIES:SoCal eBike Riders
ATTACH;FMTTYPE=image/webp:https://hwdmedia.s3.us-west-1.amazonaws.com/wp-content/uploads/2022/12/03112045/106299_image_676x380.webp
ORGANIZER;CN="SoCal eBike Riders":MAILTO:socal-ebike-riders-list@meetup.com
GEO:34.2503401;-118.5993484
X-APPLE-STRUCTURED-LOCATION;VALUE=URI;X-ADDRESS=Chatsworth Orange Line Station Lot A 10013 Old Depot Plaza Rd Chatsworth CA 91311 US;X-APPLE-RADIUS=500;X-TITLE=10013 Old Depot Plaza Rd:geo:-118.5993484,34.2503401
END:VEVENT
END:VCALENDAR