BEGIN:VCALENDAR
VERSION:2.0
PRODID:-//Hiking with Dean - ECPv6.15.20//NONSGML v1.0//EN
CALSCALE:GREGORIAN
METHOD:PUBLISH
X-WR-CALNAME:Hiking with Dean
X-ORIGINAL-URL:https://www.hikingwithdean.com
X-WR-CALDESC:Events for Hiking with Dean
REFRESH-INTERVAL;VALUE=DURATION:PT1H
X-Robots-Tag:noindex
X-PUBLISHED-TTL:PT1H
BEGIN:VTIMEZONE
TZID:America/Los_Angeles
BEGIN:DAYLIGHT
TZOFFSETFROM:-0800
TZOFFSETTO:-0700
TZNAME:PDT
DTSTART:20230312T100000
END:DAYLIGHT
BEGIN:STANDARD
TZOFFSETFROM:-0700
TZOFFSETTO:-0800
TZNAME:PST
DTSTART:20231105T090000
END:STANDARD
BEGIN:DAYLIGHT
TZOFFSETFROM:-0800
TZOFFSETTO:-0700
TZNAME:PDT
DTSTART:20240310T100000
END:DAYLIGHT
BEGIN:STANDARD
TZOFFSETFROM:-0700
TZOFFSETTO:-0800
TZNAME:PST
DTSTART:20241103T090000
END:STANDARD
BEGIN:DAYLIGHT
TZOFFSETFROM:-0800
TZOFFSETTO:-0700
TZNAME:PDT
DTSTART:20250309T100000
END:DAYLIGHT
BEGIN:STANDARD
TZOFFSETFROM:-0700
TZOFFSETTO:-0800
TZNAME:PST
DTSTART:20251102T090000
END:STANDARD
END:VTIMEZONE
BEGIN:VEVENT
DTSTART;TZID=America/Los_Angeles:20240106T090000
DTEND;TZID=America/Los_Angeles:20240107T110000
DTSTAMP:20260419T102050
CREATED:20231123T230159Z
LAST-MODIFIED:20231123T230159Z
UID:10002117-1704531600-1704625200@www.hikingwithdean.com
SUMMARY:Wind Caves - The Domelands (Anza Borrego Desert)
DESCRIPTION:Intermediate Backpacking Trip (only because it’s a Dry Camp)\nMilage: 7 – 14 miles (depending on route)\nSome Cross country hiking.\nAscent: +700-1000 ft\nHigh clearance vehicles recommended….but we have seen regular car make it. \nDry camp (no water)\nMaps/GPX files/Google map \nFrom last year trip. \nInstagram Video) \nThere are several places in Anza-Borrego State Park where exposed sandstone layering has been slowly eroded by the wind to create odd and whimsical-shaped formations. Near Split Mountain\, there are some formations that have a rather sinister look to them. The formations also seem to resemble buildings from the fictional town of Bedrock\, which was the hometown of America’s favorite prehistoric family\, The Flintstones. This place is known as the Wind Caves and can be visited by following a loop-trail hike. \nNot only does this hike take in the Wind Caves\, but it also offers outstanding views of the heavily eroded Carrizo Badlands to the west. These badlands look like a choppy sea with large waves frozen in place. Naturally\, there is classic desert vegetation growing profusely along the trail \nNO WATER ON THE TRAIL ( we must carry all of our water) \nTotal milage 12 + \nDay 1 \nMeet: We will meet at the Chevron Station @ 9:am \n1071 Imperial Hwy\,\nOcotillo\, CA 92259\n32.730716\, -115.994637 \n•We will caravan to the trailhead @9:15am \n• We will hike about 4.5 miles basecamp. \n• Hike to the wind caves 2. (4 miles round trip) \n• Hike back to camp and eat dinner. \nDay 2 \n• 8am break down camp and head back to the cars. \nDISCLAIMER: Hike at your own risk. Be responsible for yourself and your safety. Make good decisions. With any trip\, things can change\, reservations can get lost\, the unexpected can happen. A go-with-the-flow attitude is always a good thing\, and most importantly\, let’s all have fun! This is an intermediate hike. Make sure you are in good enough physical shape for the distance\, elevation changes\, and terrain. The hike leaders in this group aren’t professional hike leaders. By signing up for these events\, you agree not to hold the Meetup organizers responsible for whatever happens to you on these events. The hiking group does not certify the expertise of the organizers\, the event or assistant organizers (hike leaders) and…We are NOT responsible for any possible losses or injuries.
URL:https://www.hikingwithdean.com/event/wind-caves-the-domelands-anza-borrego-desert/
LOCATION:Chevron Gas Station\, 1071 N Imperial Hwy Ocotillo\, CA 92259\, Ocotillo\, CA\, US
CATEGORIES:San Diego Backpackers
ATTACH;FMTTYPE=image/webp:https://hwdmedia.s3.us-west-1.amazonaws.com/wp-content/uploads/2023/11/23150200/110959_image_676x380.webp
ORGANIZER;CN="San Diego Backpackers":MAILTO:San-Diego-Backpackers-list@meetup.com
GEO:32.7307452;-115.994699
X-APPLE-STRUCTURED-LOCATION;VALUE=URI;X-ADDRESS=Chevron Gas Station 1071 N Imperial Hwy Ocotillo CA 92259 Ocotillo CA US;X-APPLE-RADIUS=500;X-TITLE=1071 N Imperial Hwy Ocotillo\, CA 92259:geo:-115.994699,32.7307452
END:VEVENT
BEGIN:VEVENT
DTSTART;TZID=America/Los_Angeles:20240120T070000
DTEND;TZID=America/Los_Angeles:20240121T120000
DTSTAMP:20260419T102050
CREATED:20231124T230203Z
LAST-MODIFIED:20231124T230203Z
UID:10002119-1705734000-1705838400@www.hikingwithdean.com
SUMMARY:PCT Sec - Scissors Crossing to Barrel Springs
DESCRIPTION:PCT – WEEKEND BACKPACKING TRIP \nDays: 2 days\, 1 nights\nMilage: 23\nElevation Gain: 3\,642 ft\nMax Elevation: 4400′\nMin Elevation: 2300\nType of Trip: Backpacking\nDifficulty: Moderate/Strenuous\nLocation: ANZA BORREGO DESERT\nStarting Point: SCISSOR CROSSING\nEnding: BARREL SPRINGS \nDay 1:\nDistance 13.3 mi\nAscent: 4\,691 ft\nDescent: 3\,424 ft \nScissors Crossing (Hwy 78) to Trail Camp – approx. 14 miles\nStarting elevation: 2\,259 ft End: ~3\,400 ft Total elevation Gain/loss: 2\,405 ft We will hike northbound on the PCT about 14 miles and find a trailside campsite. We will most likely be dry camping on this hike as there no reliable water sources along this section of the trail. Plan to carry enough for both days. While there is at times a water cache near mi91\, it should not be relied upon and may not be maintained at the time of this trip. (***NOTE: This trip description was done back in 2017\, we will check on the water source as we near the trip date) \nDay 2: Camp to Barrel Springs\nDistance: 9.60 mi\nAscent: 2\,788 ft \nMAP: Link \nDISCLAIMER: Hike at your own risk. Be responsible for yourself and your safety. Make good decisions. With any trip\, things can change\, reservations can get lost\, the unexpected can happen. A go-with-the-flow attitude is always a good thing\, and most importantly\, let’s all have fun! This is an intermediate hike. Make sure you are in good enough physical shape for the distance\, elevation changes\, and terrain. The hike leaders in this group aren’t professional hike leaders. By signing up for these events\, you agree not to hold the Meetup organizers responsible for whatever happens to you on these events. The hiking group does not certify the expertise of the organizers\, the event or assistant organizers (hike leaders) and…We are NOT responsible for any possible losses or injuries.
URL:https://www.hikingwithdean.com/event/pct-sec-scissors-crossing-to-barrel-springs/
LOCATION:Chevron Gas Station\, 1071 N Imperial Hwy Ocotillo\, CA 92259\, Ocotillo\, CA\, US
CATEGORIES:San Diego Backpackers
ATTACH;FMTTYPE=image/webp:https://hwdmedia.s3.us-west-1.amazonaws.com/wp-content/uploads/2023/11/24150204/110971_image_676x380.webp
ORGANIZER;CN="San Diego Backpackers":MAILTO:San-Diego-Backpackers-list@meetup.com
GEO:32.7307452;-115.994699
X-APPLE-STRUCTURED-LOCATION;VALUE=URI;X-ADDRESS=Chevron Gas Station 1071 N Imperial Hwy Ocotillo CA 92259 Ocotillo CA US;X-APPLE-RADIUS=500;X-TITLE=1071 N Imperial Hwy Ocotillo\, CA 92259:geo:-115.994699,32.7307452
END:VEVENT
END:VCALENDAR