BEGIN:VCALENDAR
VERSION:2.0
PRODID:-//Hiking with Dean - ECPv6.15.20//NONSGML v1.0//EN
CALSCALE:GREGORIAN
METHOD:PUBLISH
X-WR-CALNAME:Hiking with Dean
X-ORIGINAL-URL:https://www.hikingwithdean.com
X-WR-CALDESC:Events for Hiking with Dean
REFRESH-INTERVAL;VALUE=DURATION:PT1H
X-Robots-Tag:noindex
X-PUBLISHED-TTL:PT1H
BEGIN:VTIMEZONE
TZID:America/Los_Angeles
BEGIN:DAYLIGHT
TZOFFSETFROM:-0800
TZOFFSETTO:-0700
TZNAME:PDT
DTSTART:20180311T100000
END:DAYLIGHT
BEGIN:STANDARD
TZOFFSETFROM:-0700
TZOFFSETTO:-0800
TZNAME:PST
DTSTART:20181104T090000
END:STANDARD
BEGIN:DAYLIGHT
TZOFFSETFROM:-0800
TZOFFSETTO:-0700
TZNAME:PDT
DTSTART:20190310T100000
END:DAYLIGHT
BEGIN:STANDARD
TZOFFSETFROM:-0700
TZOFFSETTO:-0800
TZNAME:PST
DTSTART:20191103T090000
END:STANDARD
BEGIN:DAYLIGHT
TZOFFSETFROM:-0800
TZOFFSETTO:-0700
TZNAME:PDT
DTSTART:20200308T100000
END:DAYLIGHT
BEGIN:STANDARD
TZOFFSETFROM:-0700
TZOFFSETTO:-0800
TZNAME:PST
DTSTART:20201101T090000
END:STANDARD
END:VTIMEZONE
BEGIN:VEVENT
DTSTART;TZID=America/Los_Angeles:20190504T090000
DTEND;TZID=America/Los_Angeles:20190504T143000
DTSTAMP:20260420T211807
CREATED:20190429T234026Z
LAST-MODIFIED:20190429T234026Z
UID:10000026-1556960400-1556980200@www.hikingwithdean.com
SUMMARY:🐰 Rabbit Ridge Adventure Hike to Simi Peak and China Flats - PARTY AT LAMPPOST
DESCRIPTION:We will start out surrounded by wild lilacs and a stroll through Hidden Meadow. Soon we will be hiking among the fanciful sandstone formations\, caves and arches of the Rabbit Ridge Trail. After a couple of miles we’ll ascend to Simi Peak where on a clear day you can see the Simi Valley\, Conejo Valley\, San Fernando Valley\, Oxnard Plains\, Pacific Ocean\, and a few of the Channel Islands\, and take our snack break. Then its onward to a loop around China Flats\, an open area with clusters of oak trees and a vernal pond. China Flats was the filming area for Back to the Future’s 1885 Hill Valley. \nHere are some highlights\nClick on pic to enlarge \n[av_gallery ids=’20574\,20573\,20572\,20571\,20570\,20569′ style=’thumbnails’ preview_size=’portfolio’ crop_big_preview_thumbnail=’avia-gallery-big-crop-thumb’ thumb_size=’portfolio’ columns=’6′ imagelink=’lightbox’ lazyload=’avia_lazyload’ av_uid=” admin_preview_bg=”] \n…and \nSimi Peak – highest point in Simi\nLittle Tri Peaks\nFalcon’s Roost\nThe One Tree\nHikers’ Nest \nBring your best lugsoles for this one. Trekking poles are recommended. If you don’t have any\, try these: \n[amazon_link asins=’B06XXTY7BM\,B07JF1YM86\,B00XM0YGW8′ template=’ProductGrid’ store=’hiking0c3-20′ marketplace=’US’ link_id=’f63f1770-016a-4561-a36a-9f2c6f41d979′] \n  \nThis hike\, an HWD Original (copied by some\, duplicated by none) dates back to early 2008. It is a strenuous 8.5 to 9 miles with 1000 ft net elevation gain (2200 total). A combination of utility roads\, maintained\, unmaintained and disappearing trails will create a dual loop hike. We’ll have our post-hike lunch at Lamppost Pizza \nDirections to Trailhead\nFrom Highway 101/Ventura Freeway in Westlake\, \n-Exit on Lindero Canyon Road.\n-Drive 2.8 miles north on Lindero and turn left on Kanan Rd\n-After 0.2 miles on Kanan turn right on Falling Star Ave.\n-Drive 1.2 mi all the way around to the end of the street and park. Trailhead is in a residential neighborhood so please keep noise level to a minimum. \nFrom 23/Simi/Sunset Hills/TO\, etc \n– Exit Avenida De Los Arboles and go east to Westlake Blvd. Turn right\n– Turn left onto Kanan for 2 miles\n– Turn left on Windy Mountain\, then left on Grey Feather\, then left on Falling Star \nThe Organizers and members in this group are not professional leaders\, guides\, or mountaineers. The function of the member or organizer is only to organize the trip. Each person who shows up for a trip/meetup (and their guest or guests) is responsible for his or her own safety. By attending a hike\, or any other event organized by this group\, you are acknowledging that you and any guests that you bring are aware of the risks\, dangers and hazards associated with the activity and freely accept and fully assume all such risks\, dangers and hazards\, and further agree to release and discharge the Organizers\, Members of the Hiking With Dean Meetup Group from and against any and all liability arising from your participation in the group activities per the ASSUMPTION OF RISK AND LIABILITY WAIVER.
URL:https://www.hikingwithdean.com/event/rabbit-ridge-adventure-hike-to-simi-peak-and-china-flats/
LOCATION:Hidden Meadows Trailhead\, 1915 Falling Star Ave\, Thousand Oaks\, CA\, 91362\, US
CATEGORIES:Hiking With Dean
ATTACH;FMTTYPE=image/jpeg:https://hwdmedia.s3.us-west-1.amazonaws.com/wp-content/uploads/2019/04/28201610/event_29626061.jpeg
GEO:34.1966341;-118.7956318
X-APPLE-STRUCTURED-LOCATION;VALUE=URI;X-ADDRESS=Hidden Meadows Trailhead 1915 Falling Star Ave Thousand Oaks CA 91362 US;X-APPLE-RADIUS=500;X-TITLE=1915 Falling Star Ave:geo:-118.7956318,34.1966341
END:VEVENT
END:VCALENDAR