BEGIN:VCALENDAR
VERSION:2.0
PRODID:-//Hiking with Dean - ECPv6.15.20//NONSGML v1.0//EN
CALSCALE:GREGORIAN
METHOD:PUBLISH
X-WR-CALNAME:Hiking with Dean
X-ORIGINAL-URL:https://www.hikingwithdean.com
X-WR-CALDESC:Events for Hiking with Dean
REFRESH-INTERVAL;VALUE=DURATION:PT1H
X-Robots-Tag:noindex
X-PUBLISHED-TTL:PT1H
BEGIN:VTIMEZONE
TZID:America/Los_Angeles
BEGIN:DAYLIGHT
TZOFFSETFROM:-0800
TZOFFSETTO:-0700
TZNAME:PDT
DTSTART:20220313T100000
END:DAYLIGHT
BEGIN:STANDARD
TZOFFSETFROM:-0700
TZOFFSETTO:-0800
TZNAME:PST
DTSTART:20221106T090000
END:STANDARD
BEGIN:DAYLIGHT
TZOFFSETFROM:-0800
TZOFFSETTO:-0700
TZNAME:PDT
DTSTART:20230312T100000
END:DAYLIGHT
BEGIN:STANDARD
TZOFFSETFROM:-0700
TZOFFSETTO:-0800
TZNAME:PST
DTSTART:20231105T090000
END:STANDARD
BEGIN:DAYLIGHT
TZOFFSETFROM:-0800
TZOFFSETTO:-0700
TZNAME:PDT
DTSTART:20240310T100000
END:DAYLIGHT
BEGIN:STANDARD
TZOFFSETFROM:-0700
TZOFFSETTO:-0800
TZNAME:PST
DTSTART:20241103T090000
END:STANDARD
END:VTIMEZONE
BEGIN:VEVENT
DTSTART;TZID=America/Los_Angeles:20230602T090000
DTEND;TZID=America/Los_Angeles:20230602T120000
DTSTAMP:20260419T095915
CREATED:20230512T154116Z
LAST-MODIFIED:20230512T154116Z
UID:10001645-1685696400-1685707200@www.hikingwithdean.com
SUMMARY:E-MTB scenic tour from Carpinteria to Santa Barbara and back
DESCRIPTION:This is one of the most scenic coastal and inland routes of Summerland\, Santa Barbara\, Montecito and Carpinteria. It includes riding in bike lanes with traffic\, a dedicated bike path\, rarely traveled back roads\, and a 1 mile section of a hidden dirt trail (not advisable for road bikes). \nMake sure you bring along a spare inner tube and have your tires inflated before arriving. \nMEETUP LOCATION AND TIME: 9am on Santa Claus Lane near the Padaro Beach Grill in Carpinteria \nPARKING: Free \nRESTROOMS: None\, but we will stop 9 miles into the ride at Public Restrooms in Santa Barbara \nROUTE \nDISTANCE: 27 miles \nELEVATION GAIN: 1757 feet \nLUNCH: Outdoor dining at the Padaro Beach Grill with views of the Pacific Ocean \nTHE PACE: No faster than the slowest in the group \nDURATION: 3+ hours \nLEVEL: E bikers comfortable on street bike lanes with some traffic and a small section of a dirt trail. \nTERRAIN: Mostly paved roads\, 1 mile section of dirt trail \nMY CELL # IS: 661-433-3301
URL:https://www.hikingwithdean.com/event/e-mtb-scenic-tour-from-carpinteria-to-santa-barbara-and-back/
LOCATION:Chatsworth Station\, 10040 Old Depot Plaza Road\, Chatsworth\, CA\, 91311\, US
CATEGORIES:E Biking LA County and Beyond
ATTACH;FMTTYPE=image/webp:https://hwdmedia.s3.us-west-1.amazonaws.com/wp-content/uploads/2023/05/12084117/108452_image_676x380.webp
ORGANIZER;CN="E Biking LA County and Beyond":MAILTO:meetup-group-lraksxhf-list@meetup.com
GEO:34.2530116;-118.5994635
X-APPLE-STRUCTURED-LOCATION;VALUE=URI;X-ADDRESS=Chatsworth Station 10040 Old Depot Plaza Road Chatsworth CA 91311 US;X-APPLE-RADIUS=500;X-TITLE=10040 Old Depot Plaza Road:geo:-118.5994635,34.2530116
END:VEVENT
END:VCALENDAR