BEGIN:VCALENDAR
VERSION:2.0
PRODID:-//Hiking with Dean - ECPv6.15.20//NONSGML v1.0//EN
CALSCALE:GREGORIAN
METHOD:PUBLISH
X-WR-CALNAME:Hiking with Dean
X-ORIGINAL-URL:https://www.hikingwithdean.com
X-WR-CALDESC:Events for Hiking with Dean
REFRESH-INTERVAL;VALUE=DURATION:PT1H
X-Robots-Tag:noindex
X-PUBLISHED-TTL:PT1H
BEGIN:VTIMEZONE
TZID:America/Los_Angeles
BEGIN:DAYLIGHT
TZOFFSETFROM:-0800
TZOFFSETTO:-0700
TZNAME:PDT
DTSTART:20220313T100000
END:DAYLIGHT
BEGIN:STANDARD
TZOFFSETFROM:-0700
TZOFFSETTO:-0800
TZNAME:PST
DTSTART:20221106T090000
END:STANDARD
BEGIN:DAYLIGHT
TZOFFSETFROM:-0800
TZOFFSETTO:-0700
TZNAME:PDT
DTSTART:20230312T100000
END:DAYLIGHT
BEGIN:STANDARD
TZOFFSETFROM:-0700
TZOFFSETTO:-0800
TZNAME:PST
DTSTART:20231105T090000
END:STANDARD
BEGIN:DAYLIGHT
TZOFFSETFROM:-0800
TZOFFSETTO:-0700
TZNAME:PDT
DTSTART:20240310T100000
END:DAYLIGHT
BEGIN:STANDARD
TZOFFSETFROM:-0700
TZOFFSETTO:-0800
TZNAME:PST
DTSTART:20241103T090000
END:STANDARD
END:VTIMEZONE
BEGIN:VEVENT
DTSTART;TZID=America/Los_Angeles:20230403T090000
DTEND;TZID=America/Los_Angeles:20230403T140000
DTSTAMP:20260422T051530
CREATED:20230327T151541Z
LAST-MODIFIED:20230327T151541Z
UID:10001530-1680512400-1680530400@www.hikingwithdean.com
SUMMARY:THE SIX LAS VIRGENES RESERVOIRS RIDE
DESCRIPTION:This ride will have us travel along paved roads in the Westlake Village/ Agoura Hills area that has six reservoirs that are part of the Las Virgenes water system. We’ll be able to see four of these (Malibu\, Lindero\, Westlake and Sherwood) from paved roads. The other two (Las Virgenes and Eleanor) will require an optional .4 mile (10 minute in and out) dirt trail to view them from. Those not wanting to do this part\, can wait for the others to return. \nMake sure you bring along a spare inner tube and have tires inflated for road riding. \nMEETUP LOCATION: Paramount Parking Lot at 9:00am. \nPARKING FEE: Free \nRESTROOMS: YES \nMEETUP TIME: 9:00 a.m. \nDURATION: 5 HOURS \nDISTANCE: 33 miles \nROUTE: \nELEVATION GAIN: 2900′ \nPACE: No faster than the slowest member \nTERRAIN: 33 miles of paved roads and .4 optional miles on a dirt a dirt trail \nDEBRIEFING: Late lunch at the Tavern 101 Grill & Tap House 28434 Roadside Dr\, Agoura Hills\, CA 91301 \nMY CELL# IS: 805-358-5972
URL:https://www.hikingwithdean.com/event/the-six-las-virgenes-reservoirs-ride/
LOCATION:Wildwood Park\, Thousand Oaks\, 998 W Avenida de Los Arboles\, Thousand Oaks\, CA\, 91360\, US
CATEGORIES:E Biking LA County and Beyond
ATTACH;FMTTYPE=image/webp:https://hwdmedia.s3.us-west-1.amazonaws.com/wp-content/uploads/2023/03/27081541/107705_image_676x380.webp
ORGANIZER;CN="E Biking LA County and Beyond":MAILTO:meetup-group-lraksxhf-list@meetup.com
GEO:34.2200572;-118.9022487
X-APPLE-STRUCTURED-LOCATION;VALUE=URI;X-ADDRESS=DESCRIPTION:This ride will have us travel along paved roads in the Westlake Village/ Agoura Hills area that has six reservoirs that are part of the Las Virgenes water system. We’ll be able to see four of these (Malibu Lindero Westlake and Sherwood) from paved roads. The other two (Las Virgenes and Eleanor) will require an optional .4 mile (10 minute in and out) dirt trail to view them from. Those not wanting to do this part can wait for the others to return. \nMake sure you bring along a spare inner tube and have tires inflated for road riding. \nMEETUP  Paramount Parking Lot at 9:00am. \nPARKING FEE: Free \nRESTROOMS: YES \nMEETUP TIME: 9:00 a.m. \nDURATION: 5 HOURS \nDISTANCE: 33 miles \nROUTE: \nELEVATION GAIN: 2900′ \nPACE: No faster than the slowest member \nTERRAIN: 33 miles of paved roads and .4 optional miles on a dirt a dirt trail \nDEBRIEFING: Late lunch at the Tavern 101 Grill & Tap House 28434 Roadside Dr Agoura Hills CA 91301 \nMY CELL# IS: 805-358-5972;X-APPLE-RADIUS=500;X-TITLE=998 W Avenida de Los Arboles:geo:-118.9022487,34.2200572
END:VEVENT
BEGIN:VEVENT
DTSTART;TZID=America/Los_Angeles:20230426T090000
DTEND;TZID=America/Los_Angeles:20230426T140000
DTSTAMP:20260422T051530
CREATED:20230327T151544Z
LAST-MODIFIED:20230327T151544Z
UID:10001531-1682499600-1682517600@www.hikingwithdean.com
SUMMARY:EBIKE RIDE ALONG ALISO CREEK - LAGUNA NIGUEL TO COOKS CORNER
DESCRIPTION:Details\nEBIKE RIDE ALONG ALISO CREEK – LAGUNA NIGUEL TO COOKS CORNER\n“The Aliso Creek Regional Riding and Hiking Trail is a well-maintained class 1 bikeway and soft recreational trail extending from foothills of Orange County to the boundary of Laguna Beach. The continuous fifteen miles of asphalt bikeway designed for multi-use travel through five south county cities. The soft trail mirrors the asphalt bikeway path on either side of the Aliso Creek traveling from the mountains to the sea. The ten-foot wide bikeway was originally designed in the 1970’s when the old El Toro Road was abandoned during the construction of a much larger and safer road.” NRT Database by American Trails \nI’ve been talking about doing this bike path for over a year now and now that DaveR is biking again\, it’s time to do it. \nMake sure you bring along a spare inner tube and have your tires inflated before arriving. \nMEETUP LOCATION AND TIME: 9:00 am at Aliso and Wood Canyons Wilderness Park \nPARKING FEE: $3 fee to park in park or park on street where legal outside of park \nROUTE \nDISTANCE: 34 miles. \nELEVATION GAIN: 1400′ \nLUNCH: Around 20+ miles into the ride\, we will arrive at Cook’s Corner where we will have lunch \nCOOK’S CORNER: There is bike parking next to Cook’s corner designated as mountain bike parking. You are not allowed to park at the restaurant. \nTHE PACE: No faster than the slowest in the group \nDURATION: 3+ hours \nLEVEL: Advanced Beginner E-biker or strong road biker \nTERRAIN: Most of the ride follows Aliso Creek on a paved dedicated bike path \nRESTROOMS: At Aliso and Wood Canyons Wilderness Park\, Aliso Viejo Community Park\, El Toro Park and Cook’s Corner \nMY CELL # IS: 805-358-5972
URL:https://www.hikingwithdean.com/event/ebike-ride-along-aliso-creek-laguna-niguel-to-cooks-corner/
LOCATION:Wildwood Park\, Thousand Oaks\, 998 W Avenida de Los Arboles\, Thousand Oaks\, CA\, 91360\, US
CATEGORIES:E Biking LA County and Beyond
ATTACH;FMTTYPE=image/webp:https://hwdmedia.s3.us-west-1.amazonaws.com/wp-content/uploads/2023/03/27081545/107707_image_676x380.webp
ORGANIZER;CN="E Biking LA County and Beyond":MAILTO:meetup-group-lraksxhf-list@meetup.com
GEO:34.2200572;-118.9022487
X-APPLE-STRUCTURED-LOCATION;VALUE=URI;X-ADDRESS=Wildwood Park Thousand Oaks 998 W Avenida de Los Arboles Thousand Oaks CA 91360 US;X-APPLE-RADIUS=500;X-TITLE=998 W Avenida de Los Arboles:geo:-118.9022487,34.2200572
END:VEVENT
BEGIN:VEVENT
DTSTART;TZID=America/Los_Angeles:20230429T090000
DTEND;TZID=America/Los_Angeles:20230429T140000
DTSTAMP:20260422T051530
CREATED:20230423T022412Z
LAST-MODIFIED:20230423T022412Z
UID:10001595-1682758800-1682776800@www.hikingwithdean.com
SUMMARY:EBIKE RIDE - TOPANGA STATE PARK'S LOWER LOOP
DESCRIPTION:EBIKE RIDE – TOPANGA STATE PARK’S LOWER LOOP \nHere’s a chance to get our mountain ebikes out on the dirt again since the rains have let up. I posted the northern Topanga State Park’s loop in the past\, now we’ll take on it’s southern loop. Both loops involve street riding\, but will have mostly dirt roads. \nMake sure you bring along a spare inner tube and have your tires inflated before arriving. \nMEETUP LOCATION AND TIME: 9:00am at Los Liones Dr. Topanga State Park \nPARKING FEE: None \nRESTROOMS: At the beginning\, middle and end of bike ride. \nROUTE \nDISTANCE: 18 miles \nELEVATION GAIN: 3200′ \nTHE PACE: No faster than the slowest in the group \nDURATION: 4+ hours \nLEVEL: Beginner mountain E-biker and above \nTERRAIN: Dirt roads and streets \nMY CELL # IS: 805-358-5972
URL:https://www.hikingwithdean.com/event/ebike-ride-topanga-state-parks-lower-loop/
LOCATION:La Jolla Canyon\, 8588 Pacific Coast Hwy\, 2 mi North of Sycamore Canyon\, Ventura\, CA\, US
CATEGORIES:E Biking LA County and Beyond
ATTACH;FMTTYPE=image/webp:https://hwdmedia.s3.us-west-1.amazonaws.com/wp-content/uploads/2023/04/22192413/108180_image_676x380.webp
ORGANIZER;CN="E Biking LA County and Beyond":MAILTO:meetup-group-lraksxhf-list@meetup.com
GEO:34.0823594;-119.033338
X-APPLE-STRUCTURED-LOCATION;VALUE=URI;X-ADDRESS=La Jolla Canyon 8588 Pacific Coast Hwy 2 mi North of Sycamore Canyon Ventura CA US;X-APPLE-RADIUS=500;X-TITLE=8588 Pacific Coast Hwy\, 2 mi North of Sycamore Canyon:geo:-119.033338,34.0823594
END:VEVENT
END:VCALENDAR